Workbook

Sheet Титульник
A1: СОГЛАСОВАНО | D1: УТВЕРЖДАЮ
A2: Директор по качеству | D2: Исполнительный директор
A3: АО «ОЗНА - Измерительные системы» | D3: АО «ОЗНА - Измерительные системы»
A4: ___________Е.В. Тимофеев | D4: ___________А.В. Сакаев
A6: ______________2026 г. | D6: ______________2026 г.
A8: Главный технолог
A9: АО «ОЗНА - Измерительные системы»
A10: ___________С.С. Сафонов
A12: ______________2026 г.
A14: Главный конструктор ОГК
A15: АО «ОЗНА – Измерительные системы»
A16: ______________Д.Ю. Четин
A18: ______________2026 г.
A20: Главный метролог ОГМетр
A21: АО «ОЗНА – Измерительные системы»
A22: ______________Н.С. Кузнецова
A24: ______________2026 г.
... A32: Примечание: Данный перечень не является исчерпывающим. Покупатель вправе запросить иные документы, не запрещенные действующим законодательством.

Sheet Содержание
A1: Наименование раздела и ссылка на лист | B1: Содержание раздела
A2: Общие требования | B2: общие требования к содержанию документации
A3: Окна, двери, панели | B3: Окна, двери, замки дверные, панели
A4: Запорно-регулирующая арматура (ЗРА) | B4: Задвижки, клапаны, краны шаровые, регуляторы, заслонки
A5: Прокладки, кольца, мембраны | B5: Прокладки, кольца, мембраны
A6: Соединительные детали трубопроводов (СДТ) | B6: Отводы. Переходы. Фланцы. Днища. Заглушки. Угольники
A7: Арматура, ПКИ к трубопроводам | B7: Арматура, ПКИ к трубопроводам
A8: Метизы | B8: Метизы
A9: КИПиА | B9: Расходомеры, влагомеры, датчики давления, датчики температуры, уровнемеры, дозиметры, термометры, манометры
A10: Вентиляция, кондиционирование | B10: Вентиляторы, воздуховоды, элементы воздуховодов (отводы, переходы, гибкие вставки), дефлекторы, кондиционеры, модули резервирования для кондиционеров
A11: Обогрев, освещение | B11: Обогреватели помещения, терморегуляторы помещения, светильники рабочего освещения, светильники аварийные, реле управления освещением
A12: охранная сигнализация (ОС), пожарная сигнализация (ПС), загазованность | B12: ППКОП, приборы АСПТ, приборы СКУД, считыватели, магнитные замки для СКУД, извещатели охранные, извещатели пожарные, источники резервированного питания, модули пожаротушения, оповещатели, газоанализаторы, эвакуационные светильники
... A24: Аутсорсинг | B24: Продукция по КД ОЗНА (БН ЗЧ)
A25: Резинотехнические изделия (РТИ) и пластмассы
A26: Химия
A27: Прочее

Sheet Общие требования
B2: Копии сертификатов должны быть заверены заводом изготовителем 1 экземпляр на закупленную партию.
B3: Все печати должны быть "синие"
B4: Гарантий талон должен быть заполненный
B5: Исправление в паспортах не допустимо
B6: Документация должна быть читаема, без повреждений, не сырые. На русском языке
B7: Комплектация должна соответствовать паспорту и иным требованиям.
B8: Не допустимо применение внешних ссылок для передачи документов. За исключением ЭДО ДИАДОК
B10: Перечень сокращений
B11: РЭ – руководство по эксплуатации
B12: ПС – паспорт
B13: СИ – средство измерения
B14: ТР ТС- технический регламент таможенного союза
... B37: Примечание: Данный перечень не является исчерпывающим. Покупатель вправе запросить иные документы, не запрещенные действующим законодательством.

Sheet Окна, двери, панели
A1: Окна, двери, панели
A2: № п/п | B2: Наименование изделия | C2: ГОСТ, ТУ и др. | D2: Применяемость | E2: Контролируемые параметры | H2: Оборудование | I2: Разрешительная и сопроводительная документация
A3: 1 | B3: Блоки оконные | C3: По факту | D3: Все изделия | E3: Внешний осмотр (не допускаются трещины, сколы, вмятины). | H3: Визуальный осмотр, Рулетка ГОСТ 7502-98 | I3: 1. Сертификат соответствия ТР ТС. 2. Сертификат пожарной безопасности
E4: Проверка габаритных размеров на соответствие размерам в сопроводительных документах
A5: 2 | B5: Блок дверной | C5: По факту | D5: Блоки тех-нологиче-ские и блоки аппа-ратурные | E5: Внешний осмотр (не допускаются трещины, сколы, вмятины). Комплектность. Проверка габаритных размеров на соответствие разме-рам в сопроводительных документах. Проверка цвета покрытия на соответствие указанному в сопроводительных докумен-тах. Толщина покрытия должна быть не менее 100 мкм (не более 350 мкм) Поверхность, покрытая по-лимерно-порошковым покрытием, должна быть: - ровной, сплошной без следов пропуска покрытия на поверхности и проколов. - без царапин и задиров - не иметь включений посторонних частиц Не допускается разнооттеночность, включения и следы порошкового покрытия другого цвета (следы напыла и меления) При нанесении декоратив-ного покрытия с эффектом «шагрень» – поверхность как «апельсиновая корка» Параметры согласно ТЗ, со-гласованному поставщиком | H5: Визуальный осмотр, Рулетка ГОСТ 7502-98, ка-талог RAL, Прибор для измерения геометрических параметров Константа К5 | I5: Сертификат пожарной безопасности. Паспорт. Сертификат соответствия ТР ТС
A6: 3 | B6: Замки (дверные, гаражные и др.) | C6: По факту | D6: Все изделия | E6: Внешний осмотр, комплект-ность | H6: Визуальный осмотр | I6: 1. Сертификат соответствия ТР ТС. 2. Паспорт
B7: Панели | C7: ТУ 5284-131-83677349-2009 | D7: Все изделия | E7: *ТТ на материалы разные. Внешний осмотр. Проверка на соответствие цвета указанному в сопроводительных документах (кроме белых, RAL9003), проверка толщины лакокра-сочного покрытия, параметры утеплителя (удельное со-противление теплопередаче контролировать по докумен-тации) | H7: Визуальный осмотр, Рулетка ГОСТ 7502-98, каталог RAL, Прибор для измерения геометрических параметров Константа К5 | I7: 1. Сертификат соответствия ТР ТС. 2. Сертификат пожарной безопасности
A8: 4 | B8: Сетки москитные | C8: По факту | D8: Все изделия | E8: Внешний осмотр (не допускаются разрывы сетки, повреждения окантовки, установочных элементов) | H8: Визуальный осмотр | I8: нет
B11: =Титульник!A19 -> 0

Sheet ЗРА
A1: Запорно-регулирующая арматура (ЗРА)
A2: № п/п | B2: Наименование изделия | C2: ГОСТ, ТУ и др. | D2: Применяемость | E2: Контролируемые параметры | H2: Оборудование | I2: Разрешительная и сопроводительная документация
A3: 1 | B3: Задвижка стальная (все прочие) | C3: По факту | D3: Все изделия | E3: *Требования к ЗРА (дополнение). Внешний вид (отсутствие механических повреждений, ровная поверхность покры-тия, без посторонних включений типа мелкого мусора, следов кисти, старого ЛКП), комплектность, соответствие габаритных размеров ПС или РЭ Требуется наличие в сопроводительной документации (паспорт) данных по хими-ческому анализу и механическим свойствам на мате-риалы, входящие в состав изделия Система антикоррозионного покрытия должна соответствовать *Требования к ЛКП ЗРА, применяемых в ОЗНА-Измерительные системы. Параметры по ТЗ, согласованному поставщиком | H3: Визуальный осмотр, Рулетка ГОСТ 7502-98, Дефектоскоп Корона 2.2, Прибор для измерения геометрических параметров Константа К5, Нож со сменными лезвиями | I3: 1. Сертификат соответствия ТР ТС032/2013; Декларация соответствия ТР ТС 010/2011. 2. ПС и/или РЭ (ОТ, ИЭ)
A4: 2 | B4: Задвижка стальная для ИУ с содержанием сероводорода свыше 2 процентов | C4: По факту | D4: Все изделия | E4: Соответствие требованиям СТ ЦКБА 052-2008 Внешний вид (отсутствие механических повреждений, ровная поверхность покры-тия, без посторонних включений типа мелкого мусора, следов кисти, старого ЛКП), комплектность, соответствие габаритных размеров ПС или РЭ. Наличие сведений о материале основных частей | H4: Визуальный осмотр, Ру-летка ГОСТ 7502-98, Де-фектоскоп Корона 2.2, Прибор для измерения геометриче-ских пара-метров Кон-станта К5, Адгезиметр-нож Кон-станта КН1 | I4: 1. Сертификат соответствия ТР ТС032/2013; Декларация соответствия ТР ТС 010/2011. 2. ПС и/или РЭ (ОТ, ИЭ) по СТ ЦКБА 031-2015
A5: 3 | B5: Задвижки стальные под электропривод (ЗКЛП) | C5: По факту | D5: Все изделия | E5: *Требования к ЗРА (дополнение). Внешний вид (отсутствие механических повреждений, ровная поверхность покрытия, без посторонних включений типа мелкого мусора, следов кисти, старого ЛКП), комплектность, Требуется наличие в сопро-водительной документации (паспорт) данных по хими-ческому анализу и механическим свойствам на мате-риалы в составе изделия Система антикоррозионного покрытия должна соответствовать *Требования к ЛКП ЗРА, применяемых в ОЗНА-Измерительные системы Параметры по ТЗ, согласованному поставщиком. Га-баритные размеры ЗКЛП (строительная длина, исполнение фланцев корпуса, высота), присоединительные размеры к эл.приводу по ГОСТ 34287-2017 | H5: Визуальный осмотр, Рулетка ГОСТ 7502-98, Штанген-циркуль ГОСТ 166-89, Дефекто-скоп Корона 2.2, Прибор для измерения геометрических параметров Кон-станта К5, Адгезиметр-нож Константа КН1 | I5: 1. Сертификат соот-ветствия/декларация по ТР ТС032/2013; Декларация соответствия ТР ТС 010/2011. 2. ПС и/или РЭ (ОТ, ИЭ) согласно НД (СТ ЦКБА 031-2015, МУК ЕТТ РН к ЗКЛ, ТТТ ГПН к Трубопроводной арматуре)
A6: 4 | B6: Задвижка стальная PN 6,3 МПа и выше | C6: По факту | D6: Все изделия | E6: *Требования к ЗРА (дополнение). Внешний вид (отсутствие механических повреждений, ровная поверхность покры-тия, без посторонних вклю-чений типа мелкого мусора, следов кисти, старого ЛКП), комплектность, соответствие габаритных размеров ПС или РЭ Требуется наличие в сопро-водительной документации (паспорт) данных по хими-ческому анализу и механи-ческим свойствам на мате-риалы, входящие в состав издели Система антикоррозионного покрытия должна соответствовать *Требования к ЛКП ЗРА, применяемых в ОЗНА-Измерительные системы. Параметры по ТЗ, согласо-ванному поставщиком | H6: Визуальный осмотр, Рулетка ГОСТ 7502-98, Дефектоскоп Корона 2.2, Прибор для измерения геометрических параметров Константа К5, Нож со сменными лезвиями | I6: 1. Сертификат соответствия ТР ТС032/2013; Декларация соответствия ТР ТС 010/2011. 2. ПС и/или РЭ (ОТ, ИЭ)
A7: 5 | B7: Запорное устройство указателя уровня жидкости | C7: По факту | D7: Все изделия | E7: Внешний вид (отсутствие механических повреждений), комплектность. Габа-ритно-присоединительные размеры | H7: Визуальный осмотр, Рулетка ГОСТ 7502-98, Штангенциркуль ГОСТ 166-89 | I7: 1.Декларация ТР ТС 010/2011. 2. ПС и/или РЭ (ОТ, ИЭ)
A8: 6 | B8: Краны шаровые без электропривода | C8: По факту | D8: Все изделия | E8: *ТТ на запорную арматуру. Внешний вид (отсутствие механических повреждений), комплектность, соответствие строительной длины ПС или РЭ | H8: Визуальный осмотр, Рулетка ГОСТ 7502-98, Штангенциркуль ГОСТ 166-89 | I8: 1. Сертификат соответствия ТР ТС032/2013; 2. ПС и/или РЭ (ОТ, ИЭ) на русском языке
A9: 7 | B9: Устройства регулирования перепада давления | C9: ТУ 3741-001-77852729-2008 | D9: Все изделия | E9: Внешний вид (отсутствие механических повреждений), комплектность, соответствие строительной дли-ны ПС или РЭ. Проверка адгезии | H9: Визуальный осмотр, Рулетка ГОСТ 7502-98, Штангенциркуль ГОСТ 166-89, Адгезиметрнож Константа КН1 | I9: 1. Декларация ТР ТС 010/2011. 2. ПС и/или РЭ (ОТ, ИЭ)
A10: 8 | B10: Клапаны предохранительные | C10: По факту | D10: Все изделия | E10: Внешний вид (отсутствие механических повреждений), комплектность, соответствие строительной длины ПС или РЭ, маркировка, давления настройки Рн, Рно. Проверка адгезии | H10: Визуальный осмотр, Рулетка ГОСТ 7502-98, Штангенциркуль ГОСТ 166-89, Адгезиметрнож Константа КН1 | I10: 1. Декларация ТР ТС 010/2011. 2. ПС и/или РЭ (ОТ, ИЭ)
A11: 9 | B11: Клапаны (затворы) обратные поворотные | C11: По факту | D11: Все изделия | E11: *ТТ на запорную арматуру. Внешний вид (отсутствие механических повреждений), комплектность. Проверка адгезии | H11: Визуальный осмотр, Рулетка ГОСТ 7502-98, Штанген-циркуль ГОСТ 166-89, Адгези-метрнож Константа КН1 | I11: 1. Декларация ТР ТС 010/2011. 2. ПС и/или РЭ (ОТ, ИЭ)
A12: 10 | B12: Клапаны магнитоуправляемые | C12: ТУ 3742-005-77852729-2010 | D12: АГЗУ, «ОЗ-НА-МАССО-МЕР» | E12: Внешний вид (отсутствие механических повреждений), комплектность. Габаритно-присоединительные размеры | H12: Визуальный осмотр, Рулетка ГОСТ 7502-98, Штанген-циркуль ГОСТ 166-89, Угломер ГОСТ 5378-88 | I12: 1. Декларация ТР ТС 010/2011. 2. ПС и/или РЭ (ОТ, ИЭ)
A13: 11 | B13: Регуляторы расхода | C13: По факту | D13: АГЗУ, «ОЗ-НА-МАССО-МЕР» | E13: Внешний вид (отсутствие механических повреждений), комплектность. Габаритно-присоединительные размеры | H13: Визуальный осмотр, Рулетка ГОСТ 7502-98, Штангенциркуль ГОСТ 166-89, Угломер ГОСТ 5378-88 | I13: 1. Декларация ТР ТС 010/2011. 2. ПС и/или РЭ (ОТ, ИЭ)
A14: 12 | B14: Заслонки | C14: ТУ 3742-006- 57251704-2006, ТУ 4218-005-57251704-2006 | D14: АГЗУ, «ОЗНА-МАССО-МЕР» | E14: Внешний вид (отсутствие механических повреждений), комплектность. Габаритно-присоединительные размеры | H14: Визуальный осмотр, Рулетка ГОСТ 7502-98, Штангенциркуль ГОСТ 166-89 | I14: 1. Декларация ТР ТС 010/2011. 2.ПС и/или РЭ (ОТ, ИЭ)
... A18: 16 | B18: Вентили игольчатые | C18: По факту | D18: АГЗУ, «ОЗ-НА-МАССО-МЕР» | E18: Внешний вид (отсутствие механических повреждений), комплектность, проверка габаритных размеров на соответствие ПС | H18: Визуальный осмотр, Рулетка ГОСТ 7502-98, Штанген-циркуль ГОСТ 166-89 | I18: 1. Декларация ТР ТС 010/2011. 2. ПС и/или РЭ (ОТ, ИЭ) на русском языке
B20: =Титульник!A19 -> 0

Sheet Прокладки, кольца, мембраны
A1: Прокладки, кольца, мембраны
A2: № п/п | B2: Наименование изделия | C2: ГОСТ, ТУ и др. | D2: Применяемость | E2: Контролируемые параметры | H2: Оборудование | I2: Разрешительная и сопроводительная документация
A3: 1 | B3: Прокладки | C3: По факту | D3: Все изделия | E3: Внешний осмотр (не допускаются: наплывы, расслоение, не совпадение диаметров). Проверка на соответствие шаблону. Изготовленных по ОСТ и ГОСТ на соответствие геометрических размеров по ОСТ и ГОСТ | H3: Визуальный осмотр Штанген-циркуль ГОСТ 166-89 Шаблон | I3: 1.Сертификат соответствия ГОСТ; 2.Сертификат качества; 3. Паспорт
A4: 2 | B4: Мембраны | C4: По факту | D4: Узлы (регу-ляторы, ПСМ и т.д.) | E4: Внешний осмотр (не допускаются: наплывы, расслоение, не совпадение диаметров), проверка на соответствие шаблону | H4: Визуальный осмотр Штанген-циркуль ГОСТ 166-89 | I4: 1.Сертификат соответствия ГОСТ; 2.Сертификат качества; 3. Паспорт
A5: 3 | B5: Кольца резиновые, паронитовые, фто-ропластовые и др. | C5: По факту | D5: Все изделия | E5: Внешний осмотр (не допускаются: наплывы, расслоение, не совпадение диаметров). Проверка на соответствие шаблону. Изготовленных по ОСТ и ГОСТ на соответствие геометрических размеров по ОСТ и ГОСТ | H5: Визуальный осмотр Штанген-циркуль ГОСТ 166-89 | I5: 1.Сертификат соответствия ГОСТ; 2.Сертификат качества; 3. Паспорт
A6: 4 | B6: Манжеты | C6: ГОСТ 8752-79, ГОСТ 6678-72, ГОСТ 14896-84 | D6: Узлы | E6: Внешний осмотр (не допускаются: наплывы, расслоение, не совпадение диаметров). Проверка на соответствие шаблону. Изготовленных по ОСТ и ГОСТ на соответствие геометрических размеров по ОСТ и ГОСТ | H6: Визуальный осмотр Штанген-циркуль ГОСТ 166-89 Шаблон | I6: 1.Сертификат соответствия ГОСТ; 2.Сертификат качества; 3. Паспорт
A7: 5 | B7: Кольцо А98 | C7: ГОСТ 13941-86 | D7: Краны ша-ровые | E7: Внешний осмотр (не допускаются механические повреждения) Диаметр кольца- Ø103,5+1,08-0,54 Ширина кольца – 6 мм, Наличие отверстий на кольце для монтажа и демонтажа кольца из седла крана Ø2- 2 отв. толщ кольца-2мм | H7: Визуальный осмотр Штанген-циркуль | I7: 1.Сертификат соответствия ГОСТ; 2. Сертификат качества; 3. Паспорт или другой документ выполняющий его функцию

Sheet СДТ
A1: Соединительные детали трубопроводов (СДТ)
A2: № п/п | B2: Наименование изделия | C2: ГОСТ, ТУ и др. | D2: Применяемость | E2: Контролируемые параметры | H2: Оборудование | I2: Разрешительная и сопроводительная документация
A3: 1 | B3: Отводы | C3: По факту | D3: Все изделия | E3: *ТТ на элементы трубопроводов. *Тех задание на поставку комплектующих отводы ГОСТ 17375-2001. *Тех задание на поставку комплектующих переход ГОСТ 17378. *Тех задание на поставку комплектующих тройник ГОСТ 17376. *Тех задание на поставку комплектующих заглушки эллиптические 17379. *Тех задание на поставку комплектующих днище ГОСТ 6533. Уточнять параметры по чертежам и ТЗ, согласованным поставщиком Внешний осмотр, проверка габаритных размеров, наличия маркировки (угол гибки, диаметр, толщина стенки с допуском (согласно нормативной документации), марка стали, штамп ОТК). Наличие сведений о химическом составе и механических испытаниях. Проверка наличия информации в паспорте по испытаниям на ударную вязкость KCU при t до минус 60°С для сталей 09Г2С и 13ХФА. Запрещается приобретать тройники сварного исполнения | H3: Визуальный осмотр, Штанген-циркуль ГОСТ 166-89, Рулетка ГОСТ 7502-98, Угломер ГОСТ 5378-88 | I3: 1. Сертификат соответствия ТР ТС 032/2013; 2. Сертификат качества на материал; 3. Паспорт.
A4: 2 | B4: Переход | C4: По факту
A5: 3 | B5: Тройники | C5: По факту
A6: 4 | B6: Угольники | C6: По факту
A7: 5 | B7: Заглушки | C7: По факту
A8: 6 | B8: Днище | C8: ГОСТ 6533-78
A9: 7 | B9: Фланцы | C9: Согласно КД, согласован-ной постав-щиком, СТО 00135786-157-2017, ГОСТ 33259-2015
A10: 8 | B10: Манифольды | C10: По факту
A11: 9 | B11: Детали механической обработки | C11: По факту | D11: Все изделия | E11: Согласно КД | H11: Визуальный осмотр, Рулетка ГОСТ 7502-98, Штанген-циркуль ГОСТ 166-89 | I11: Сертификат качества на материал; ярлык с маркировкой шифра детали
B13: =Титульник!A19 -> 0

Sheet Арматура, ПКИ к трубопроводам
A1: Арматура, ПКИ к трубопроводам
A2: № п/п | B2: Наименование изделия | C2: ГОСТ, ТУ и др. | D2: Применяемость | E2: Контролируемые параметры | H2: Оборудование | I2: Разрешительная и сопроводительная документация
A3: 1 | B3: Заслонка газовая МПК все исполнения | C3: По факту | D3: Все изделия | E3: Внешний вид (отсутствие механических повреждений), комплектность. Соответствие информации на шильде паспортным данным (наименование, серийный номер, входные и/или выходные параметры). Соответствие габаритных размеров данным паспорта (руководства по эксплуатации). Качество приложенной документации должно быть достаточным для уверенного восприятия всей содержащейся графической и текстовой информации. | H3: Визуальный осмотр, Рулетка ГОСТ 7502-98, Штанген- циркуль ГОСТ 166-89 | I3: 1. Декларация ТР ТС 010/2011; 2.ПС и/или РЭ.
A4: 2 | B4: Пробоотборник ручной (типа Стандарт-Р и др.)
A5: 3 | B5: Устройства пробозаборные щелевые
A6: 4 | B6: Блок клапанный 0106 М
A7: 5 | B7: Регулятор расхода КМР все исполнения
A8: 6 | B8: Клапан предохранительный (типа КПП, СППК и др.) | E8: Внешний вид (отсутствие механических повреждений), комплектность. Соответствие информации на шильде паспортным данным (наименование, серийный номер, входные и/или выходные параметры). Соответствие габаритных размеров данным паспорта (руководства по эксплуатации). Качество приложенной документации должно быть достаточным для уверенного восприятия всей содержащейся графической и текстовой информации. | H8: Визуальный осмотр, Рулетка ГОСТ 7502-98, Штангенциркуль ГОСТ 166-89 | I8: 1. Сертификат соответствия ТР ТС 032/2013, 2. Декларация ТР ТС 010/2011 3. ПС и/или РЭ.
A9: 7 | B9: Клапан дыхательный КДМ | H9: Визуальный осмотр, Рулетка ГОСТ 7502-98, Штангенциркуль ГОСТ 166-89
A10: 8 | B10: Прибор определения в жидкостной линии свободного газа (типа УОСГ-100 СКП и другие исполнения) | C10: По факту | D10: Все изделия | E10: Внешний вид (отсутствие механических повреждений), комплектность. Соответствие информации на шильде паспортным данным (наименование, серийный номер, входные и/или выходные параметры). Соответствие габаритных размеров данным паспорта (руководства по эксплуатации). Качество приложенной документации должно быть достаточным для уверенного восприятия всей содержащейся графической и текстовой информации. | H10: Визуальный осмотр, Рулетка ГОСТ 7502-98, Штангенциркуль ГОСТ 166-89 | I10: 1. Декларация ТР ТС 010/2011 2. ПС и РЭ на рус. яз. 3. Сертификат об утверждении типа средств измерений (действующий на дату изготовления средства измерений) с приложением - Описание типа средства измерений. 4. Методика поверки. 5. Сведения об утвержденном типе средства измерений, включенные в ФИФ ОЕИ 6. Сведения о результатах поверки средства измерений, включенные в ФИФ ОЕИ
A11: 9 | B11: Фильтр - коалесцер (типа ГКВ-7) | C11: По факту | D11: Все изделия | E11: Внешний вид (отсутствие механических повреждений), комплектность. Соответствие информации на шильде паспортным данным (наименование, серийный номер, входные и/или выходные параметры). Соответствие габаритных размеров данным паспорта (руководства по эксплуатации). Качество приложенной документации должно быть достаточным для уверенного восприятия всей содержащейся графической и текстовой информации. | H11: Визуальный осмотр, Рулетка ГОСТ 7502-98, Штангенциркуль ГОСТ 166-89 | I11: 1. ПС и/или РЭ. 2. Декларация ТР ТС 010/2011.
A12: 10 | B12: Затвор ВА99017-100-16-МФ-Д-С241 всех исполнений | C12: По факту | D12: Все изделия | E12: Внешний вид (отсутствие механических повреждений), комплектность. Соответствие информации на шильде паспортным данным (наименование, серийный номер, входные и/или выходные параметры). Соответствие габаритных размеров данным паспорта (руководства по эксплуатации). Качество приложенной документации должно быть достаточным для уверенного восприятия всей содержащейся графической и текстовой информации. | H12: Визуальный осмотр, Рулетка ГОСТ 7502-98, Штангенциркуль ГОСТ 166-89 | I12: 1. Сертификат соответствия ТР ТС 032/2013; 2. Декларация ТР ТС 010/2011. 3. ПС и/или РЭ. (ОТ или ОЭ).
A13: 11 | B13: Клапан обратный GENEBRE2415 всех исполнений | C13: По факту | D13: Все изделия | E13: Внешний вид (отсутствие механических повреждений), комплектность. Соответствие информации на шильде паспортным данным (наименование, серийный номер, входные и/или выходные параметры). Соответствие габаритных размеров данным паспорта (руководства по эксплуатации). Качество приложенной документации должно быть достаточным для уверенного восприятия всей содержащейся графической и текстовой информации. | H13: Визуальный осмотр, Рулетка ГОСТ 7502-98, Штангенциркуль ГОСТ 166-89 | I13: 1. Сертификат соответствия ТР ТС 032/2013; 2.Декларация ТР ТС 010/2011. 3. ПС и/или РЭ. (ОТ или ОЭ).
A14: 12 | B14: Клапан регулирующий КРО 65501-80 | C14: По факту | D14: Все изделия | E14: Внешний вид (отсутствие механических повреждений), комплектность. Соответствие информации на шильде паспортным данным (наименование, серийный номер, входные и/или выходные параметры). Соответствие габаритных размеров данным паспорта (руководства по эксплуатации). Качество приложенной документации должно быть достаточным для уверенного восприятия всей содержащейся графической и текстовой информации. | H14: Визуальный осмотр, Рулетка ГОСТ 7502-98, Штангенциркуль ГОСТ 166-89 | I14: 1. Декларация ТР ТС 010/2011. 2. ПС и/или РЭ. (ОТ или ОЭ).
A15: 13 | B15: Фильтр сетчатый НЕМЕН 821F-C80 | C15: По факту | D15: Все изделия | E15: Внешний вид (отсутствие механических повреждений), комплектность. Соответствие информации на шильде паспортным данным (наименование, серийный номер, входные и/или выходные параметры). Соответствие габаритных размеров данным паспорта (руководства по эксплуатации). Качество приложенной документации должно быть достаточным для уверенного восприятия всей содержащейся графической и текстовой информации. | H15: Визуальный осмотр, Рулетка ГОСТ 7502-98, Штанген- циркуль ГОСТ 166-89 | I15: 1. Декларация ТР ТС 010/2011. 2. ПС и/или РЭ (ОТ, ИЭ) на русском языке.
A16: 14 | B16: Фильтр сетчатый АДЛ IS16.01.0600.100.16 | E16: Внешний вид (отсутствие механических повреждений), комплектность. Соответствие информации на шильде паспортным данным (наименование, серийный номер, входные и/или выходные параметры). Соответствие габаритных размеров данным паспорта (руководства по эксплуатации). Качество приложенной документации должно быть достаточным для уверенного восприятия всей содержащейся графической и текстовой информации.
A17: 15 | B17: Кран-манипулятор | C17: По факту | D17: ТПУ | E17: По согласованной КД | H17: Визуальный осмотр, Рулетка ГОСТ 7502-98 и т.д. согласно требованиям КД | I17: 1. Декларация ТР ТС 010/2011. 2. ПС и/или РЭ (ОТ, ИЭ) на русском языке.
B19: =Титульник!A19 -> 0

Sheet Метизы
A1: Метизы
A2: № п/п | B2: Наименование изделия | C2: ГОСТ, ТУ и др. | D2: Применяемость | E2: Контролируемые параметры | H2: Оборудование | I2: Разрешительная и сопроводительная документация
A3: 1 | B3: Шпильки | C3: По факту | D3: Все изделия | E3: *ТТ на метизы. Проверка резьбы, размеров на соответствие указанным в сопроводительном документе, отсутствие изгибов по длине ГОСТ 20700-75 | H3: Визуальный осмотр, Штанген- циркуль ГОСТ 166-89, Калибр резьбовой, плита ГОСТ 10905-86, щупы КТ 2 | I3: Сертификат качества
A4: 2 | B4: Гайки, контргайки | C4: По факту
A5: 3 | B5: Винты | C5: По факту
A6: 4 | B6: Болты | C6: По факту
A7: 5 | B7: Шайбы | C7: По факту | D7: Все изделия | E7: *ТТ на метизы. Проверка размеров на соответствие указанным в сопроводительном документе, отсутствие изгибов по длине | I7: Сертификат качества
A8: 6 | B8: Заклепки | C8: По факту
A9: 7 | B9: Винты кровельные | C9: По факту
A10: 8 | B10: Гвозди | C10: По факту
A11: 9 | B11: Шплинты | C11: По факту | D11: Узлы
A12: 10 | B12: Шпонки | C12: По факту
A13: 11 | B13: Штифты | C13: По факту
A14: 12 | B14: Шурупы | C14: По факту
B17: =Титульник!A19 -> 0

Sheet КИПиА
A1: № п/п | B1: Наименование изделия | C1: ГОСТ, ТУ и др. | D1: Применяемость | E1: Контролируемые параметры | I1: Разрешительная и сопроводительная документация
A2: 1 | B2: Расходомер многофазный | C2: По факту | D2: Все изделия | E2: *ТТ на приборы КИПиА - датчики уровня. Внешний вид (отсутствие механических повреждений), комплектность. Соответствие информации на шильде паспортным данным (наименование, серийный номер, входные и/или выходные параметры). Соответствие габаритных размеров паспортным (РЭ) данным. Качество приложенной документации должно быть достаточным для уверенного восприятия всей содержащейся графической и текстовой информации. | I2: 1. Сертификат соответствия ТР ТС 012/2011; 2. Декларация ТР ТС 020/2011. 3. ПС и РЭ на рус. яз. 4. Сертификат об утверждении типа средств измерений (действующий на дату изготовления средства измерений) с приложением - Описание типа средства измерений. 5. Методика поверки. 6. Сведения об утвержденном типе средства измерений, включенные в ФИФ ОЕИ 7. Сведения о результатах поверки средства измерений, включенные в ФИФ ОЕИ 8. Паспорт безопасности на источник. 9. На средства измерений, входящие в состав расходомера (датчик давления и температуры, первичный термо-преобразова-тель сопротивле-ния): - ПС и РЭ на рус. яз. - Сертификат об утверждении типа средств измерений (действующий на дату изготовления средства измерений) с приложением - Описание типа средства измерений. - Методика поверки. - Сведения об утвержденном типе средства измерений, включенные в ФИФ ОЕИ - Сведения о результатах поверки средства измерений, включенные в ФИФ ОЕИ 10. Санитарно-эпидемиологическое заключение
A3: 2 | B3: Расходомер массовый кориолисовый | C3: По факту | D3: Все изделия | E3: Внешний вид (отсутствие механических повреждений), комплектность. Соответствие информации на шильде паспортным данным (наименование, серийный номер, входные и/или выходные параметры). Соответствие габаритных размеров паспортным (РЭ) данным. Качество приложенной документации должно быть достаточным для уверенного восприятия всей содержащейся графической и текстовой информации. Остаточный срок поверки не менее 3 лет | I3: 1. Сертификат соответствия ТР ТС 012/2011; 2. Декларация ТР ТС 020/2011. 3. ПС и РЭ на рус. яз. 4. Сертификат об утверждении типа средств измерений (действующий на дату изготовления средства измерений) с приложением - Описание типа средства измерений. 5. Методика поверки. 6. Сведения об утвержденном типе средства измерений, включенные в ФИФ ОЕИ 7. Сведения о результатах поверки средства измерений, включенные в ФИФ ОЕИ
A4: 3 | B4: Счетчики жидкости массовые | C4: По факту | D4: Все изделия | E4: Внешний вид (отсутствие механических повреждений), комплектность. Соответствие информации на шильде паспортным данным (наименование, серийный номер, входные и/или выходные параметры). Соответствие габаритных размеров паспортным (РЭ) данным. Качество приложенной документации должно быть достаточным для уверенного восприятия всей содержащейся графической и текстовой информации. Остаточный срок поверки не менее 3 лет | I4: 1. Сертификат соответствия ТР ТС 012/2011; 2. Декларация ТР ТС 020/2011. 3. ПС и РЭ на рус. яз. 4. Сертификат об утверждении типа средств измерений (действующий на дату изготовления средства измерений) с приложением - Описание типа средства измерений. 5. Методика поверки. 6. Сведения об утвержденном типе средства измерений, включенные в ФИФ ОЕИ 7. Сведения о результатах поверки средства измерений, включенные в ФИФ ОЕИ
A5: 4 | B5: Счетчики газа и жидкости объемные | C5: По факту | D5: Все изделия | E5: Внешний вид (отсутствие механических повреждений), комплектность. Соответствие информации на шильде паспортным данным (наименование, серийный номер, входные и/или выходные параметры). Соответствие габаритных размеров паспортным (РЭ) данным. Качество приложенной документации должно быть достаточным для уверенного восприятия всей содержащейся графической и текстовой информации. Остаточный срок поверки не менее 3 лет | I5: 1. Сертификат соответствия ТР ТС 012/2011; 2. Декларация ТР ТС 020/2011. 3. ПС и РЭ на рус. яз. 4. Сертификат об утверждении типа средств измерений (действующий на дату изготовления средства измерений) с приложением - Описание типа средства измерений. 5. Методика поверки. 6. Сведения об утвержденном типе средства измерений, включенные в ФИФ ОЕИ 7. Сведения о результатах поверки средства измерений, включенные в ФИФ ОЕИ
A6: 5 | B6: Влагомеры | C6: По факту | D6: Все изделия | E6: Внешний вид (отсутствие механических повреждений), комплектность. Соответствие информации на шильде паспортным данным (наименование, серийный номер, входные и/или выходные параметры). Соответствие габаритных размеров паспортным (РЭ) данным. Качество приложенной документации должно быть достаточным для уверенного восприятия всей содержащейся графической и текстовой информации. Остаточный срок поверки не менее 3 лет | I6: 1. Сертификат соответствия ТР ТС 012/2011; 2. Декларация ТР ТС 020/2011. 3. ПС и РЭ на рус. яз. 4. Сертификат об утверждении типа средств измерений (действующий на дату изготовления средства измерений) с приложением - Описание типа средства измерений. 5. Методика поверки. 6. Сведения об утвержденном типе средства измерений, включенные в ФИФ ОЕИ 7. Сведения о результатах поверки средства измерений, включенные в ФИФ ОЕИ
A7: 6 | B7: Датчики давления (избыточного, абсолютного, дифференциального, гидростатического) | C7: По факту | D7: Все изделия | E7: *ТТ на приборы КИПиА - датчики давления. Внешний вид (отсутствие механических повреждений), комплектность. Соответствие информации на шильде паспортным данным (наименование, серийный номер, входные и/или выходные параметры). Соответствие габаритных размеров паспортным (РЭ) данным. Качество приложенной документации должно быть достаточным для уверенного восприятия всей содержащейся графической и текстовой информации. Остаточный срок поверки не менее 3 лет | I7: 1. Сертификат соответствия ТР ТС 012/2011; 2. Декларация ТР ТС 020/2011. 3. ПС и РЭ на рус. яз. 4. Сертификат об утверждении типа средств измерений (действующий на дату изготовления средства измерений) с приложением - Описание типа средства измерений. 5. Методика поверки. 6. Сведения об утвержденном типе средства измерений, включенные в ФИФ ОЕИ 7. Сведения о результатах поверки средства измерений, включенные в ФИФ ОЕИ
A8: 7 | B8: Датчики температуры и термопреобразователи | C8: По факту | D8: Все изделия | E8: *ТТ на приборы КИПиА - датчики температуры. Внешний вид (отсутствие механических повреждений), комплектность. Соответствие информации на шильде паспортным данным (наименование, серийный номер, входные и/или выходные параметры). Соответствие габаритных размеров паспортным (РЭ) данным. Качество приложенной документации должно быть достаточным для уверенного восприятия всей содержащейся графической и текстовой информации. Остаточный срок поверки не менее 3 лет | I8: 1. Сертификат соответствия ТР ТС 012/2011; 2. Декларация ТР ТС 020/2011. 3. ПС и РЭ на рус. яз. 4. Сертификат об утверждении типа средств измерений (действующий на дату изготовления средства измерений) с приложением - Описание типа средства измерений. 5. Методика поверки. 6. Сведения об утвержденном типе средства измерений, включенные в ФИФ ОЕИ 7. Сведения о результатах поверки средства измерений, включенные в ФИФ ОЕИ
A9: 8 | B9: Уровнемеры поплавковые | C9: По факту | D9: Все изделия | E9: Внешний вид (отсутствие механических повреждений), комплектность. Соответствие информации на шильде паспортным данным (наименование, серийный номер, входные и/или выходные параметры). Соответствие габаритных размеров паспортным (РЭ) данным. Качество приложенной документации должно быть достаточным для уверенного восприятия всей содержащейся графической и текстовой информации. Остаточный срок поверки не менее 3 лет | I9: 1. Сертификат соответствия ТР ТС 012/2011; 2. Декларация ТР ТС 020/2011. 3. ПС и РЭ на рус. яз. 4. Сертификат об утверждении типа средств измерений (действующий на дату изготовления средства измерений) с приложением - Описание типа средства измерений. 5. Методика поверки. 6. Сведения об утвержденном типе средства измерений, включенные в ФИФ ОЕИ 7. Сведения о результатах поверки средства измерений, включенные в ФИФ ОЕИ
A10: 9 | B10: Сигнализаторы уровня | C10: По факту | D10: Все изделия | E10: Внешний вид (отсутствие механических повреждений), комплектность. Соответствие информации на шильде паспортным данным (наименование, серийный номер, входные и/или выходные параметры). Соответствие габаритных размеров паспортным (РЭ) данным. Качество приложенной документации должно быть достаточным для уверенного восприятия всей содержащейся графической и текстовой информации. Остаточный срок поверки не менее 3 лет | I10: 1. Сертификат соответствия ТР ТС 012/2011; 2. Декларация ТР ТС 020/2011. 3. ПС и РЭ на рус. яз. 4. Сертификат об утверждении типа средств измерений (действующий на дату изготовления средства измерений) с приложением - Описание типа средства измерений. 5. Методика поверки. 6. Сведения об утвержденном типе средства измерений, включенные в ФИФ ОЕИ 7. Сведения о результатах поверки средства измерений, включенные в ФИФ ОЕИ
A11: 10 | B11: Полевой барьер искрозащиты | C11: По факту | D11: Все изделия | E11: Внешний вид (отсутствие механических повреждений), комплектность. Соответствие информации на шильде паспортным данным (наименование, серийный номер, входные и/или выходные параметры). Соответствие габаритных размеров данным паспорта (руководства по эксплуатации). Качество приложенной документации должно быть достаточным для уверенного восприятия всей содержащейся графической и текстовой информации.
A12: 11 | B12: Дозиметр гамма-излучения | C12: По факту | D12: Все изделия | E12: Внешний вид (отсутствие механических повреждений), комплектность. Соответствие информации на шильде паспортным данным (наименование, серийный номер, входные и/или выходные параметры). Соответствие габаритных размеров данным паспорта (руководства по эксплуатации). Качество приложенной документации должно быть достаточным для уверенного восприятия всей содержащейся графической и текстовой информации. | I12: 1. Сертификат соответствия ТР ТС 012/2011; 2. Декларация ТР ТС 020/2011. 3. ПС и РЭ на рус. яз. 4. Сертификат об утверждении типа средств измерений (действующий на дату изготовления средства измерений) с приложением - Описание типа средства измерений. 5. Методика поверки. 6. Сведения об утвержденном типе средства измерений, включенные в ФИФ ОЕИ 7. Сведения о результатах поверки средства измерений, включенные в ФИФ ОЕИ
A13: 12 | B13: Дозиметр-радиометр
A14: 13 | B14: Манометры | C14: По факту | D14: Все изделия | E14: Внешний осмотр (отсутствие внешних повреждений, трещин на стекле, сколов), комплектность. Наличие действующего документа о поверке с резервом не менее 2/3 срока по-верки на момент проверки. Сверка данных сопроводи-тельной документации и маркировки прибора Наличие маркировки защиты от проникновения пыли и влаги IP на корпусе прибора (при особых требованиях Заказчика) | I14: 1.Сертификат соответствия ТР ТС; 2. Сертификат об утверждении типа средств измерений с описанием типа 3.ПС, РЭ (ИЭ) на русском языке. 4. Методика повер-ки
A15: 14 | B15: Термометры ртутные | E15: Внешний осмотр (отсутствие внешних поврежде-ний, трещин на стекле, сколов), комплектность Наличие действующего документа о поверке с резервом не менее 2/3 срока поверки на момент проверки
A16: 15 | B16: Термометры биметаллические (с гильзой) | E16: Внешний осмотр (отсутствие внешних поврежде-ний, трещин на стекле, сколов), комплектность. Наличие действующего документа о поверке с резервом не менее 2/3 срока поверки на момент проверки Проверка резьбы присоединения на штоке и длину погружной части.
B20: =Титульник!A19 -> 0

Sheet Вентиляция, кондиционирование
A1: Вентиляция, кондиционирование
A2: № п/п | B2: Наименование изделия | C2: ГОСТ, ТУ и др. | D2: Применяемость | E2: Контролируемые параметры | I2: Разрешительная и сопроводительная документация
A3: 1 | B3: Вентиляторы взрывозащищенные | C3: По факту | D3: Все изделия | E3: Внешний вид (отсутствие механических повреждений), комплектность. Проверка свободного вращения крыльчатки вентилятора | I3: 1.Сертификат соответствия ТР ТС 010/2011. 2.Сертификат соответствия ТР ТС 012/2011. 2. ПС и/или РЭ (ОТ, ИЭ)
A4: 2 | B4: Воздуховоды | C4: По факту | D4: Все изделия | E4: Внешний вид (отсутствие механических повреждений), комплектность, проверка габаритных и присоединительных размеров на соответствие ПС и КД Параметры согласно ТЗ, согласованному поставщиком | I4: Свидетельство о приёмке
A5: 3 | B5: Дефлекторы (с узлом прохода) | C5: По факту | D5: Все изделия | E5: Внешний вид (отсутствие механических повреждений), комплектность, проверка габаритных и присоединительных размеров на соответствие ПС и КД Параметры согласно ТЗ, согласованному поставщиком Резьба для крана на заслонке G 3/8 | I5: Свидетельство о приёмке
A6: 4 | B6: Клапаны обратные взрывозащищенные для вентиляционных систем | C6: По факту | D6: Все изделия | E6: Внешний вид (отсутствие механических повреждений), комплектность. Габаритно-присоединительные размеры Параметры согласно ТЗ, согласованному поставщиком | I6: 1.Сертификат соответствия ТР ТС 010/2011. 2.Сертификат соответствия ТР ТС 012/2011. 3. ПС и/или РЭ (ОТ, ИЭ)
A7: 5 | B7: Отводы, переходы вентиляционных систем | C7: По факту | D7: Все изделия | E7: Внешний вид (отсутствие механических повреждений), комплектность, проверка габаритных и присоединительных размеров на соответствие ПС и КД. Параметры согласно ТЗ, согласованному поставщиком | I7: Свидетельство о приёмке
A8: 6 | B8: Сплит-системы, кондиционеры | C8: По факту | D8: Все изделия (блоки аппаратурные) | E8: Внешний вид (отсутствие механических повреждений), комплектность | I8: 1. Сертификат соответствия ТР ТС 010/2011, Декларация ТР ТС 020/2011. 2.ПС и/или РЭ (ОТ, ИЭ)
A9: 7 | B9: Вентилятор форточный | C9: По факту | D9: Все изделия (блоки аппаратурные) | E9: Внешний вид (отсутствие механических повреждений, проверка свободного враще-ния лопастей при их доступности), комплектность | I9: ПС и/или РЭ (ОТ, ИЭ)
A10: 8 | B10: Решетки вентиляционные | C10: По факту | D10: Все изделия | E10: Внешний вид (отсутствие механических повреждений), комплектность | I10: Свидетельство о приёмке
A11: 9 | B11: Гибкая вставка типа ВГТ | C11: По факту | D11: Все изделия | E11: Внешний вид (отсутствие механических повреждений), комплектность, проверка габаритных и присоединительных размеров на соответствие ПС Параметры согласно ТЗ, согласованному поставщиком | I11: ПС и/или РЭ (ОТ, ИЭ)
A12: 10 | B12: Клапан воздушный или жалюзийная решетка с электроприводом | C12: По факту | D12: Все изделия | E12: Внешний вид (отсутствие механических повреждений), комплектность, проверка габаритных и присоединительных размеров на соответствие ПС Параметры согласно ТЗ, согласованному поставщиком | I12: 1.Сертификат соответствия ТР ТС 004/2011. 2.Сертификат соответствия ТР ТС 012/2011 (только на взрывозащищенные). 3. ПС и/или РЭ (ОТ, ИЭ)
B14: =Титульник!A19 -> 0

Sheet Обогрев, освещение
A1: Обогрев, освещение
A2: № п/п | B2: Наименование изделия | C2: ГОСТ, ТУ и др. | D2: Применяемость | E2: Контролируемые параметры | I2: Разрешительная и сопроводительная документация
A3: 1 | B3: Светильники | C3: По факту | D3: Все изделия | E3: *ТТ на светильники не взрывозащищенные. *ТТ на светильники взрывозащищенные. Внешний осмотр (проверка целостности плафонов, отсутствие механических по-вреждений корпуса), комплектность (наличие зажимных винтов) | I3: 1. Сертификат соот-ветствия ТР ТС 004/2011, Деклара-ция ТР ТС 020/2011; 2.Сертификат соответствия ТР ТС 012/2011 (только на взрывозащищенные); 3. ПС и/или РЭ (ОТ, ИЭ)
A4: 2 | B4: Прожекторы | C4: По факту | D4: Все изделия | E4: *ТТ на светильники не взрывозащищенные. *ТТ на светильники взрывозащищенные. Внешний осмотр (проверка целостности плафонов, отсутствие механических по-вреждений корпуса), комплектность (наличие зажимных винтов) | I4: 1. Сертификат соот-ветствия ТР ТС 004/2011, Деклара-ция ТР ТС 020/2011; 2.Сертификат соответствия ТР ТС 012/2011 (только на взрывозащищенные); 3. ПС и/или РЭ (ОТ, ИЭ)
A5: 3 | B5: Светильники аварийные | C5: По факту | D5: Все изделия (блоки аппаратурные) | E5: *ТТ на светильники не взрывозащищенные. *ТТ на светильники взрывозащищенные. Внешний осмотр (проверка целостности плафонов, отсутствие механических по-вреждений корпуса), комплектность (наличие зажимных винтов) | I5: 1. Сертификат соот-ветствия ТР ТС 004/2011, Деклара-ция ТР ТС 020/2011; 2.Сертификат соответствия ТР ТС 012/2011 (только на взрывозащищенные); 3. ПС и/или РЭ (ОТ, ИЭ)
A6: 4 | B6: Электрообогреватели | C6: По факту | D6: Все изделия | E6: Внешний осмотр (не допускаются разрывы сетки, повреждения окантовки, установочных элементов). Присоединительные и Габаритный размеры | I6: 1. Сертификат соответствия ТР ТС 004/2011, Декларация ТР ТС 020/2011; 2.Сертификат соответствия ТР ТС 012/2011 (только на взрывозащищенные); 3. ПС и/или РЭ (ОТ, ИЭ)
A7: 6 | B7: Трубчатые электро-нагреватели | C7: ГОСТ 13268-88 | D7: Обогрева-тель Ха2.983.003-01 | E7: Внешний осмотр (отсутствие механических повреждений), комплектность и соответствие типа по КД) | I7: 1. Сертификат соответствия ТР ТС 004/2011, Декларация ТР ТС 020/2011; 3. ПС и/или РЭ (ОТ, ИЭ)
A8: 7 | B8: Конвекторы, тепловентиляторы, электрообогреватели, печи, электрокалориферы, электропанели | C8: По факту | D8: Все изделия (блоки ап-паратурные) | E8: Внешний осмотр (отсутствие механических повреждений), комплектность | I8: 1. Сертификат соот-ветствия ТР ТС 004/2011, Декларация ТР ТС 020/2011; 2.Сертификат соответствия ТР ТС 012/2011 (только на взрывозащищенные); 3. ПС и/или РЭ (ОТ, ИЭ)
A9: 8 | B9: Панели инфракрасные | C9: По факту | D9: Все изделия | E9: Внешний осмотр (отсутствие механических повреждений), комплектность | I9: 1. Сертификат соответствия ТР ТС 004/2011, Декларация ТР ТС 020/2011; 2.Сертификат соответствия ТР ТС 012/2011 (только на взрывозащищенные); 3. ПС и/или РЭ (ОТ, ИЭ)
A10: 10 | B10: Лампы накаливания, энергосберегающая и др. | C10: По факту | D10: Все изделия | E10: Внешний осмотр (отсутствие механических повреждений, целостность колбы) | I10: Этикетка
A11: 11 | B11: Фонари аккумуляторные | C11: По факту | D11: Все изделия | E11: Внешний осмотр (отсутствие механических повреждений), комплектность | I11: 1.Сертификат соответствия ТР ТС 012/2011 (только на взрывозащищенные); 2. ПС и/или РЭ (ОТ, ИЭ)
A12: 12 | B12: Датчик-реле температуры, реле температуры | C12: По факту | D12: Все изделия | E12: Внешний осмотр (отсутствие внешних поврежде-ний), комплектность. | I12: 1. Сертификат соответствия ТР ТС 004/2011, Декларация ТР ТС 020/2011; 2.Сертификат соответствия ТР ТС 012/2011 (только на взрывозащищенные); 3.ПС и/или РЭ (ОТ, ИЭ) на русском языке
A13: 13 | B13: Регулятор | C13: По факту | D13: Все изделия (блоки ап-паратурные) | E13: Внешний осмотр (отсутствие внешних поврежде-ний), комплектность. | I13: 1. Сертификат соответствия ТР ТС 004/2011, Декларация ТР ТС 020/2011; 2.ПС и/или РЭ (ОТ, ИЭ) на русском языке
B15: =Содержание!A22 -> Лакокрасочные материалы (ЛКМ)

Sheet ОС, ПС, загазованность
A1: охранная сигнализация (ОС), пожарная сигнализация (ПС), загазованность
A2: № п/п | B2: Наименование изделия | C2: ГОСТ, ТУ и др. | D2: Применяемость | E2: Контролируемые параметры | H2: Оборудование | I2: Разрешительная и сопроводительная документация
A3: 1 | B3: Огнетушители | C3: ТУ 4854-164-21352393-98 | D3: Все изделия | E3: Внешний вид (отсутствие механических повреждений), комплектность | H3: Визуальный осмотр | I3: 1. Сертификат или декларация пожарной безопасности. 2. ПС и/или РЭ (ОТ, ИЭ)
A4: 2 | B4: Извещатели пожарные оптические, дымовые, тепловые, ручные | C4: По факту | D4: Все изделия | E4: *ТТ на извещатели пожарные (ИП) не взрывозащищенные. *ТТ на извещатели пожарные (ИП) взрывозащищенные. Внешний вид (отсутствие механических повреждений), комплектность | H4: Визуальный осмотр | I4: 1.Сертификат соответствия ТР ТС 012/2011 (только на взрывозащищенные); 2. ПС и/или РЭ (ОТ, ИЭ). 3. Сертификат или декларация пожарной безопасности
A5: 3 | B5: Комплекты модулей пожаротушения | C5: По факту | D5: Все изделия | E5: Внешний вид (отсутствие механических повреждений), комплектность | H5: Визуальный осмотр | I5: 1. Сертификат или декларация пожарной безопасности. 2.Сертификат соответствия ТР ТС 012/2011 (только на взрывозащищенные); 3. ПС и/или РЭ (ОТ, ИЭ) 4. Сертификат или декларация пожарной безопасности
A6: 4 | B6: Пульты пожарные, охранные и пожарно-охранные | C6: По факту | D6: Все изделия (блоки ап-паратурные) | E6: Внешний вид (отсутствие механических повреждений), комплектность. Сверить серийные номера на приборе и в сопроводитель-ных документах | H6: Визуальный осмотр | I6: 1.Декларация ТР ТС 020/2011; 2.ПС и/или РЭ (ОТ, ИЭ) 3. Сертификат или декларация пожарной безопасности
A7: 5 | B7: Пульты | C7: По факту | D7: Все изделия (блоки ап-паратурные) | E7: Внешний вид (отсутствие механических повреждений), комплектность | H7: Визуальный осмотр | I7: 1.Декларация ТР ТС 020/2011; 2.ПС и/или РЭ (ОТ, ИЭ) 3. Сертификат или декларация пожарной безопасности
A8: 6 | B8: Блоки, устройства сигнально-пусковые | C8: По факту | D8: Все изделия (блоки ап-паратурные) | E8: Внешний вид (отсутствие механических повреждений), комплектность | H8: Визуальный осмотр | I8: 1.Декларация ТР ТС 020/2011; 2.ПС и/или РЭ (ОТ, ИЭ) 3. Сертификат или декларация пожарной безопасности
A9: 7 | B9: Блоки питания, резервные источники питания. Аккумуляторы | C9: По факту | D9: Все изделия (блоки ап-паратурные) | E9: *ТТ на источники бесперебойного питания. Внешний вид (отсутствие механических повреждений), комплектность (проверить наличие аккумуляторных батарей и соответствие их емкости заявленным в паспорте) | H9: Визуальный осмотр | I9: 1.Сертификат соответствия ТР ТС 004/2011, Декларация ТР ТС 020/2011; 2.ПС и/или РЭ (ОТ, ИЭ) 3. Сертификат или декларация пожарной безопасности
A10: 8 | B10: Датчики доступа магнитоконтактные, объемные, извещатели охранные | C10: По факту | D10: Все изделия | E10: Внешний вид (отсутствие механических повреждений), комплектность | H10: Визуальный осмотр | I10: 1.Сертификат соответствия ТР ТС 004/2011, Декларация ТР ТС 020/2011; 2.Сертификат соответствия ТР ТС 012/2011 (только на взрывозащищенные); 3.ПС и/или РЭ (ОТ, ИЭ)
A11: 9 | B11: Газоанализаторы на метан, сероводород | C11: По факту | D11: Все изделия | E11: *ТТ на газоанализаторы. Внешний вид (отсутствие механических повреждений), комплектность. Сверить серийные номера на приборе и в сопроводитель-ных документах | H11: Визуальный осмотр | I11: 1.Сертификат соответствия ТР ТС 012/2011, 2.Сертификат соответствия ТР ТС 004/2011, Декларация ТР ТС 020/2011; 3. ПС и/или РЭ (ОТ, ИЭ); 4. Сертификат об утверждении типа средств измерений с описанием типа; 5. Методика поверки
A12: 10 | B12: Блок местной сигнализации | C12: По факту | D12: Все изделия | E12: Внешний вид (отсутствие механических повреждений), комплектность | H12: Визуальный осмотр | I12: 1.Сертификат соответствия ТР ТС 004/2011, Декларация ТР ТС 020/2011; 2. ПС и/или РЭ (ОТ, ИЭ)
A13: 11 | B13: Трансмиттер газосигнализатора | C13: По факту | D13: Все изделия (блоки ап-паратурные) | E13: Внешний вид (отсутствие механических повреждений), комплектность | H13: Визуальный осмотр | I13: 1.Сертификат соответствия ТР ТС 004/2011, Декларация ТР ТС 020/2011; 2. ПС и/или РЭ (ОТ, ИЭ)
A14: 12 | B14: Световые, звуковые, светозвуковые оповещатели | C14: По факту | D14: Все изделия | E14: Внешний вид (отсутствие механических повреждений, проверка целостности стеклянных/пластиковых плафонов), комплектность | H14: Визуальный осмотр | I14: 1.Сертификат соответствия ТР ТС 004/2011, Декларация ТР ТС 020/2011; 2. ПС и/или РЭ (ОТ, ИЭ)
B16: =ЗРА!B20 -> 0

Sheet Кабель, КНС и комплектующие
A1: Кабель, кабеленесущие системы (КНС) и комплектующие
A2: № п/п | B2: Наименование изделия | C2: ГОСТ, ТУ и др. | D2: Применяемость | E2: Контролируемые параметры | F2: Оборудование | G2: Разрешительная и сопроводительная документация
A3: 1 | B3: Кабельная и проводная продукция (силовой, контрольный) | C3: По факту | D3: Все изделия | E3: *ТТ на кабельную продукцию. Внешний осмотр, проверка отсутствия повреждений изоляции, документ о качестве или протокол испытаний. Измерение сечения жил. Сверка обозначения кабеля, изготовителя, даты изготовления в сертификате качества и на кабельной продук-ции | F3: Визуальный осмотр, Штанген-циркуль ГОСТ 166-89 | G3: 1. Сертификат соответствия ТР ТС 004/2011 2.Сертификат пожарной безопасности; 3.Сертификат (паспорт качества)
A4: 2 | B4: Кабеленесущая система DКC (лотки, крышки, профили и др.элементы) | C4: По факту | D4: Все изделия | E4: *ТТ на кабеленесущие системы. Внешний осмотр (отсутствие механических повреждений), при длине элемента более 1 метра проверка на прямолинейность | F4: Визуальный осмотр, Рулетка ГОСТ 7502-98, плита ГОСТ 10905-86, щупы КТ 2 | G4: 1. Сертификат соответствия ТР ТС 004/2011 2. Сертификат пожарной безопасности
A5: 3 | B5: Хомуты, стяжки кабельные все виды | C5: По факту | D5: Все изделия | E5: Внешний осмотр | F5: Визуальный осмотр | G5: Сертификат пожарной безопасности
A6: 4 | B6: Кабельные ввода, заглушки, муфты переходные, муфты для металлорукава, адаптеры (всех типоразмеров) | C6: По факту | D6: Все изделия | E6: Внешний осмотр (отсутствие механических по-вреждений), комплектность | F6: Визуальный осмотр | G6: 1. Сертификат соот-ветствия ТР ТС 004/2011 2.Сертификат соответствия ТР ТС 012/2011
A7: 5 | B7: Кольца заземления (всех типоразмеров) | C7: По факту | D7: Все изделия | E7: Внешний осмотр (отсутствие механических по-вреждений), особые требования наличие наличие отверстия под крепление болта М6. Длина не менее 50 мм, чтоб не задевало крепление на шпильке фланца | F7: Визуальный осмотр, Штанген-циркуль по ГОСТ 166-89 | G7: 1.Сертификат качества; 2. Паспорт или этикетка
A8: 6 | B8: Коробки клеммные взрывозащищенные | C8: По факту | D8: Все изделия | E8: *ТТ на клеммные коробки. Внешний осмотр (отсутствие механических повреждений), комплектность (проверить наличие всех кабельных вводов или заглушек на всех вводах) | F8: Визуальный осмотр | G8: 1. Сертификат соот-ветствия ТР ТС 004/2011, Деклара-ция ТР ТС 020/2011; 2.Сертификат соответствия ТР ТС 012/2011; 3. ПС и/или РЭ (ОТ, ИЭ)
A9: 7 | B9: Коробки клеммные пластиковые | C9: По факту | D9: Все изделия (блоки ап-паратурные) | E9: Внешний осмотр (отсутствие механических повреждений), комплектность (проверить наличие заглушек на всех вводах) | F9: Визуальный осмотр | G9: 1. ПС и/или РЭ (ОТ, ИЭ) на рус. яз.
A10: 8 | B10: Наконечники, наконечники-гильзы | C10: По факту | D10: Все изделия, щитовое оборудова-ние | E10: Внешний осмотр (отсутствие грубых механических повреждений) | F10: Визуальный осмотр | G10: 1. Этикетка
A11: 9 | B11: Трубки термоусадочные | C11: По факту | D11: Все изделия | E11: *ТТ на материалы разные. Внешний осмотр (отсутствие порезов) | F11: Визуальный осмотр | G11: 1.Сертификат качества; 2. Паспорт или этикетка
A12: 10 | B12: Металлорукава, трубки ПВХ | C12: По факту | D12: Все изделия | E12: *ТТ на материалы разные. Внешний осмотр (отсутствие вмятин, перегибов) | F12: Визуальный осмотр | G12: 1.Сертификат качества; 2. Паспорт или этикетка
A13: 11 | B13: Муфта ВП-00-00. Втулка муфтовая ВП-00-02-03 | C13: Размеры по КД | D13: Все изделия | E13: Внешний осмотр (отсутствие механических повреждений, трещин), комплектность. Допускается неоднородность цвета. | F13: Визуальный осмотр. Штанген-циркуль ГОСТ 166-89 | G13: Этикетка на партию
A14: 12 | B14: Кабельные проходки | C14: По факту | D14: Все изделия | E14: Внешний осмотр (отсутствие механических по-вреждений), комплектность | F14: Визуальный осмотр | G14: Этикетка
A15: 13 | B15: Провода | C15: ГОСТ 6323-79 | D15: Щитовое оборудование | E15: Внешний осмотр, проверка отсутствия повреждений изоляции, документ о качестве или протокола испытаний. Измерение сечения жил и сверка с обозначением. В сечение в соответствии ГОСТу | F15: Визуальный осмотр, Штанген-циркуль ГОСТ 166-89 | G15: 1.Сертификат соответствия ТР ТС; Этикетка на партию
B17: ='Обогрев, освещение'!B15 -> Лакокрасочные материалы (ЛКМ)

Sheet Электротехнические комплектующ.
A1: Электротехнические комплектующие
A2: № п/п | B2: Наименование изделия | C2: ГОСТ, ТУ и др. | D2: Применяемость | E2: Контролируемые параметры | F2: Оборудование | G2: Разрешительная и сопроводительная документация
A3: 1 | B3: Посты управления взрывозащищенные | C3: По факту | D3: Все изделия | E3: Внешний осмотр (отсутствие механических повреждений), комплектность. Проверка фиксации кнопок (клавиш) в каждом положении. | F3: Визуальный осмотр | G3: 1.Сертификат соответствия ТР ТС; 2. ПС и/или РЭ (ОТ, ИЭ)
A4: 2 | B4: Розетки настенные, открытой установки | C4: По факту | D4: Все изделия (блоки ап-паратурные) | E4: Внешний осмотр (отсутствие механических повреждений), комплектность | F4: Визуальный осмотр | G4: 1.Сертификат соответствия ТР ТС; 2. ПС и/или РЭ (ОТ, ИЭ)
A5: 3 | B5: Выключатели настенные открытой установки | C5: По факту | D5: Все изделия (блоки ап-паратурные) | E5: Внешний осмотр (отсутствие механических повреждений), комплектность | F5: Визуальный осмотр | G5: 1.Сертификат соответствия ТР ТС; 2. ПС и/или РЭ (ОТ, ИЭ)
A6: 4 | B6: Источники бесперебойного питания | C6: По факту | D6: Все изделия (блоки ап-паратурные) | E6: *ТТ на источники бесперебойного питания. Внешний осмотр (отсутствие механических повреждений), комплектность. | F6: Визуальный осмотр | G6: 1.Сертификат соответствия ТР ТС; 2. ПС и/или РЭ (ОТ, ИЭ).
B8: ='ОС, ПС, загазованность'!B16 -> 0

Sheet ЩО, корпуса и комплектующие
A1: Щитовое оборудование (ЩО), корпуса и комплектующие
A2: № п/п | B2: Наименование изделия | C2: ГОСТ, ТУ и др. | D2: Применяемость | E2: Контролируемые параметры | F2: Оборудование | G2: Разрешительная и сопроводительная документация
A3: 1 | B3: Контроллер кустовой ТМ | C3: По факту | D3: Все изделия | E3: Внешний вид (отсутствие механических повреждений), комплектность. Соответствие информации на шильде паспортным данным (наименование, серийный номер, входные и/или выходные параметры). Соответствие габаритных размеров данным паспорта (руководства по эксплуатации). Наличие крепежных элементов в количестве, указанном в паспорте или РЭ. Наличие принципиальной электрической схемы шкафа со спецификацией (в составе паспорта или РЭ или отдельным документом). Качество приложенной документации должно быть достаточным для уверенного восприятия всей содержащейся графической и текстовой информации. | F3: Визуальный осмотр, Рулетка ГОСТ 7502-98 | G3: 1. Сертификат соответствия ТР ТС 004/2011, 2. сертификат соответствия/декларация ТР ТС 020/2011; 2. ПС и РЭ на рус. яз. 3. Сертификат об утверждении типа средств измерений (действующий на дату изготовления средства измерений) с приложением - Описание типа средства измерений. 4. Методика поверки. 5. Сведения об утвержденном типе средства измерений, включенные в ФИФ ОЕИ 6. Сведения о результатах поверки средства измерений, включенные в ФИФ ОЕИ
A4: 2 | B4: Шкаф общестанционного контроллера
A5: 3 | B5: Станция телемеханики
A6: 4 | B6: Станция АГЗУ
A7: 5 | B7: Блок электроники
A8: 6 | B8: Контроллер
A9: 7 | B9: Щит электропитания | G9: 1. Сертификат соответствия ТР ТС 004/2011, 2. сертификат соответствия/декларация ТР ТС 020/2011;
A10: 8 | B10: Шкаф силовой
A11: 9 | B11: Шкафы ЯБПВУ
A12: 10 | B12: Шкаф серии AE | C12: По факту | D12: Щитовое оборудование | E12: Внешний осмотр (визуальный контроль сварных швов, отсутствие механических повреждений, отсутствие сколов краски), комплектность (ключ, навесные элементы) | F12: Визуальный осмотр | G12: 1. Сертификат соответствия ТР ТС 004/2011, 2. сертификат соответствия/декларация ТР ТС 020/2011;
A13: 11 | B13: Компактный системный шкаф СМ | C13: По факту | D13: Щитовое оборудование | E13: Внешний осмотр (визуальный контроль сварных швов, отсутствие механических повреждений, отсутствие сколов краски), комплектность (ключ, навесные элементы) | F13: Визуальный осмотр | G13: 1. Сертификат соответствия ТР ТС 004/2011, 2. сертификат соответствия/декларация ТР ТС 020/2011;
A14: 12 | B14: Шкаф навесной серии SM | C14: По факту | D14: Щитовое оборудование | E14: Внешний осмотр (визуальный контроль сварных швов, отсутствие механических повреждений, отсутствие сколов краски), комплектность (ключ, навесные элементы) | F14: Визуальный осмотр | G14: 1. Сертификат соответствия ТР ТС 004/2011, 2. сертификат соответствия/декларация ТР ТС 020/2011;
A15: 13 | B15: Шкаф серии СЕ | C15: По факту | D15: Щитовое оборудование | E15: Внешний осмотр (отсутствие механических повреждений, отсутствие сколов краски), комплектность (ключ, навесные элементы) | F15: Визуальный осмотр | G15: 1. Сертификат соответствия ТР ТС 004/2011, 2. сертификат соответствия/декларация ТР ТС 020/2011;
A16: 14 | B16: Шкаф серии DAE | C16: По факту | D16: Щитовое оборудование | E16: Внешний осмотр (отсутствие механических повреждений, отсутствие сколов краски), комплектность (ключ, навесные элементы) | F16: Визуальный осмотр | G16: 1. Сертификат соответствия ТР ТС 004/2011, 2. сертификат соответствия/декларация ТР ТС 020/2011;
A17: 15 | B17: Коробка взрывозащищенные серий РВ | C17: По факту | D17: Щитовое оборудование | E17: Внешний осмотр (отсутствие механических повреждений, трещин при наличии стекол), комплектность. Проверка наличия всех винтов на крышке и отсутствие повреждений провода и взрывозащищённой оптической мыши | F17: Визуальный осмотр | G17: 1. Сертификат соответствия ТР ТС 012/2011 2. ПС и/или РЭ (ОТ, ИЭ) на рус. яз.
A18: 16 | B18: Коробка взрывозащищенные серий ССА | C18: По факту | D18: Щитовое оборудование | E18: Внешний осмотр (отсутствие механических повреждений, трещин при наличии стекол), комплектность. Проверка наличия всех винтов на крышке и расположение кнопок на корпусе (красная сверху черная снизу) | F18: Визуальный осмотр | G18: 1. Сертификат соответствия ТР ТС 012/2011 2. ПС и/или РЭ (ОТ, ИЭ) на рус. яз.
A19: 17 | B19: Коробка взрывозащищенные серий МВУ | C19: По факту | D19: Щитовое оборудование | E19: Внешний осмотр (отсутствие механических повреждений, трещин при наличии стекол), комплектность. Проверка наличия всех винтов на крышке и отсутствие повреждений провода и взрывозащищённой оптической мыши | F19: Визуальный осмотр | G19: 1. Сертификат соответствия ТР ТС 012/2011 2. ПС и/или РЭ (ОТ, ИЭ) на рус. яз.
A20: 18 | B20: Корпус серии DP | C20: По факту | D20: Щитовое оборудование | E20: Внешний осмотр (отсутствие механических повреждений), комплектность. | F20: Визуальный осмотр | G20: Этикетка на партию
A21: 19 | B21: Клеммы | C21: По факту | D21: Щитовое оборудование | E21: Внешний осмотр (отсутствие механических повреждений, трещин при наличии стекол), комплектность. Проверка наличия всех винтов на крышке. | F21: Визуальный осмотр | G21: Этикетка на партию
A22: 20 | B22: Стопор концевой | C22: По факту | D22: Щитовое оборудование | F22: Визуальный осмотр | G22: Этикетка на партию
A23: 21 | B23: DIN-рейки, рельсы | C23: По факту | D23: Щитовое оборудование | F23: Визуальный осмотр | G23: Этикетка на партию
A24: 22 | B24: Концевая крышка | C24: По факту | D24: Щитовое оборудование | F24: Визуальный осмотр | G24: Этикетка на партию
A25: 23 | B25: Разъем M22-USB-SA, USB3-25-1- IP67-001 | C25: По факту | D25: Щитовое оборудование | E25: Внешний осмотр (отсутствие механических повреждений), комплектность. | F25: Визуальный осмотр | G25: Этикетка паспорт на партию
A26: 24 | B26: Интерфейс передачи данных SI-SES-U1A / 1 - 1404515 | C26: По факту | D26: Щитовое оборудование | E26: Внешний осмотр (отсутствие механических повреждений), комплектность. | F26: Визуальный осмотр | G26: Этикетка на партию
A27: 25 | B27: Вилка/разъем серии DB | C27: По факту | D27: Щитовое оборудование | E27: Внешний осмотр (отсутствие механических повреждений), комплектность. | F27: Визуальный осмотр | G27: Этикетка на партию
A28: 26 | B28: Регулятор температуры (термостат) | C28: По факту | D28: Щитовое оборудование | E28: Внешний осмотр (отсутствие механических повреждений, отсутствие трещин на лицевой панели), комплектность. Проверка наличия зажимных винтов. | F28: Визуальный осмотр | G28: Этикетка 1. Сертификат соответствия ТР ТС 004/2011, 2. сертификат соответствия/декларация ТР ТС 020/2011;

Sheet ПЛК, ЖК-панели, преобразователи
A1: Программируемые логичекие контроллеры (ПЛК), ЖК-панели, преобразователи
A2: № п/п | B2: Наименование изделия | C2: ГОСТ, ТУ и др. | D2: Применяемость | E2: Контролируемые параметры | F2: Оборудование | G2: Разрешительная и сопроводительная документация
A3: 1 | B3: Контроллеры | C3: По факту | D3: Щитовое оборудование | E3: Внешний осмотр (отсутствие механических повреждений), комплектность | F3: Визуальный осмотр | G3: На партию контроллеров: 1. Сертификат соответствия ТР ТС 004/2011 2. Декларация ТР ТС 020/2011 3. Сертификат об утверждении типа средств измерений с описанием типа 4. Методика поверки
A4: 4 | B4: Панели операторские | C4: По факту | D4: Щитовое оборудование | E4: Внешний осмотр (отсутствие механических повреждений, отсутствие трещин на лицевой панели), комплектность | F4: Визуальный осмотр | G4: 1. Сертификат соответствия ТР ТС 004/2011 2. Декларация ТР ТС 020/2011
A5: 5 | B5: Преобразователь интерфейса | C5: По факту | D5: Щитовое оборудование | E5: Внешний осмотр (отсутствие механических повреждений, отсутствие трещин на лицевой панели), комплектность. Проверка наличия зажимных винтов. | F5: Визуальный осмотр | G5: 1. Сертификат соответствия ТР ТС 004/2011 2. Декларация ТР ТС 020/2011 3. Руководство пользователя
A6: 6 | B6: Устройство защиты линии | C6: По факту | D6: Щитовое оборудование | E6: Внешний осмотр (отсутствие механических повреждений, отсутствие трещин на лицевой панели), комплектность. Проверка наличия зажимных винтов. | F6: Визуальный осмотр | G6: 1. Сертификат соответствия ТР ТС 004/2011 2. Декларация ТР ТС 020/2011 3. Паспорт Руководство по эксплуатации
A7: 7 | B7: Преобразователь интерфейса | C7: По факту | D7: Щитовое оборудование | E7: Внешний осмотр (отсутствие механических повреждений, отсутствие трещин на лицевой панели), комплектность. Проверка наличия зажимных винтов. | F7: Визуальный осмотр | G7: 1. Сертификат соответствия ТР ТС 004/2011 2. Декларация ТР ТС 020/2011 3. Паспорт Руководство по эксплуатации
A8: 8 | B8: Модуль коммуникационный (Коммутатор) EDS | C8: По факту | D8: Щитовое оборудование | E8: Внешний осмотр (отсутствие механических повреждений, отсутствие трещин на лицевой панели), комплектность. Проверка наличия зажимных винтов. | F8: Визуальный осмотр | G8: 1. Сертификат соответствия ТР ТС 004/2011 2. Декларация ТР ТС 020/2011
A9: 9 | B9: Блоки сопряжения, искробезопасные | C9: По факту | D9: Щитовое оборудование | E9: Внешний осмотр (отсутствие механических повреждений, отсутствие трещин на лицевой панели), комплектность. Проверка наличия зажимных винтов. | F9: Визуальный осмотр | G9: 1. Этикетка 2. Сертификат соответствия ТР ТС 004/2011 3. Декларация ТР ТС 020/2011
A10: 10 | B10: Коммутаторы | C10: По факту | D10: Щитовое оборудование | E10: Внешний вид (отсутствие механических повреждений), комплектность. Соответствие информации на шильдике паспортным данным (наименование, серийный номер, входные и/или выходные параметры). Качество приложенной документации должно быть достаточным для уверенного восприятия всей содержащейся графической и текстовой информации. | F10: Визуальный осмотр | G10: 1. Сертификат соответствия ТР ТС 004/2011 2. Декларация ТР ТС 020/2011 3. ПС и/или РЭ.
B14: ='ОС, ПС, загазованность'!B16 -> 0

Sheet Модульная автоматика, УПП, БП
A1: Модульная автоматика, устройства плавного пуска (УПП), блоки питания (БП), реле, управление и индикация
A2: № п/п | B2: Наименование изделия | C2: ГОСТ, ТУ и др. | D2: Применяемость | E2: Контролируемые параметры | F2: Оборудование | G2: Разрешительная и сопроводительная документация
A3: 1 | B3: Выключатель автоматический | C3: ГОСТ IEC 60898-1-2020 | D3: Щитовое оборудование | E3: Внешний осмотр (отсутствие механических повреждений), комплектность. Проверка фиксации переключателя в каждом положении, проверка наличия зажимных винтов | F3: Визуальный осмотр | G3: 1. Сертификат соответствия ТР ТС 004/2011, ТР ТС 020/2011; 2. Технический паспорт на комплект
A4: 2 | B4: Независимый расцепитель | C4: ГОСТ 25699.10-93 | D4: Щитовое оборудование | E4: Внешний осмотр (отсутствие механических повреждений), комплектность. Проверка фиксации переключателя в каждом положении, проверка наличия зажимных винтов | F4: Визуальный осмотр | G4: 1. Сертификат соответствия ТР ТС 004/2011, ТР ТС 020/2011; 2. Технический паспорт на комплект
A5: 3 | B5: Автомат дифференциальный | C5: ГОСТ Р 50030.2-2010 | D5: Щитовое оборудование | E5: Внешний осмотр (отсутствие механических повреждений), комплектность. Проверка фиксации переключателя в каждом поло-жении, проверка наличия зажимных винтов | F5: Визуальный осмотр | G5: 1. Сертификат соответствия ТР ТС 004/2011, ТР ТС 020/2011; 2. Технический паспорт на комплект
A6: 4 | B6: Переключатель | C6: ГОСТ Р 51324.1-2012 | D6: Щитовое оборудование | E6: Проверка фиксации переключателя в каждом положении, проверка наличия зажимных винтов, проверка отсутствия механических повреждений | F6: Визуальный осмотр | G6: 1. Сертификат соответствия ТР ТС 004/2011, ТР ТС 020/2011; 2. Технический паспорт на комплект
A7: 5 | B7: Кнопка управления (типа АЕ-22, ВК-22 и др.) | C7: По факту | D7: Щитовое оборудование | E7: Проверка фиксации переключателя в каждом положении, проверка наличия зажимных винтов, проверка отсутствия механических повреждений | F7: Визуальный осмотр | G7: 1. Сертификат соответствия ТР ТС 004/2011, ТР ТС 020/2011; 2. Технический паспорт на комплект
A8: 6 | B8: Светосигнальный индикатор | C8: По факту | D8: Щитовое оборудование | E8: Внешний осмотр (отсутствие механических повреждений, отсутствие трещин на лицевой панели), комплектность | F8: Визуальный осмотр | G8: 1. Сертификат соответствия ТР ТС 004/2011, ТР ТС 020/2011; 2. Технический паспорт на комплект
A9: 7 | B9: Пускатели | C9: По факту | D9: Щитовое оборудование | E9: Внешний осмотр (отсутствие механических повреждений), комплектность. | F9: Визуальный осмотр | G9: 1. Сертификат соответствия ТР ТС 004/2011 2. Декларация ТР ТС 020/2011 3. ПС или Краткое руководство по эксплуатации
A10: 8 | B10: Гибридные пускатели | C10: По факту | D10: Щитовое оборудование | E10: Внешний осмотр (отсутствие механических повреждений, отсутствие трещин на лицевой панели), комплектность. Проверка наличия зажимных винтов. | F10: Визуальный осмотр | G10: 1. Сертификат соответствия ТР ТС 004/2011 2. Декларация ТР ТС 020/2011 3. Инструкция по установке
A11: 9 | B11: Источник питания | C11: По факту | D11: Щитовое оборудование | E11: Внешний осмотр (отсутствие механических повреждений, отсутствие трещин на лицевой панели), комплектность. Проверка наличия зажимных винтов. | F11: Визуальный осмотр | G11: 1. Сертификат соответствия ТР ТС 004/2011 2. Декларация ТР ТС 020/2011
A12: 10 | B12: Релейный модуль | C12: По факту | D12: Щитовое оборудование | E12: Внешний осмотр (отсутствие механических повреждений, отсутствие трещин на лицевой панели), комплектность. Проверка наличия зажимных винтов. | F12: Визуальный осмотр | G12: 1. Сертификат соответствия ТР ТС 004/2011 2. Декларация ТР ТС 020/2011 3. Инструкция по установке
A13: 11 | B13: Реле времени, реле контроля напряжения | C13: ТУ 3425−007−31928807−2014 | D13: Щитовое оборудование | E13: Внешний осмотр (отсутствие механических повреждений, отсутствие трещин на лицевой панели), комплектность. Проверка наличия зажимных винтов. | F13: Визуальный осмотр | G13: Этикетка 1. Сертификат соответствия ТР ТС 004/2011 2. Декларация ТР ТС 020/2011 Технический паспорт.
A14: 12 | B14: Резисторы, конденсаторы | C14: По факту | D14: Все изделия | E14: Внешний осмотр (отсутствие механических повреждений), проверка срока хранения. Допускаются изделия с оставшимся сроком хранения не менее одного года | F14: Визуальный осмотр | G14: ПС и/или РЭ (ОТ, ИЭ) на партию
A15: 13 | B15: Трансформатор | C15: По факту | D15: Щитовое оборудование | E15: Внешний вид (отсутствие механических повреждений), комплектность. Соответствие информации на шильдике паспортным данным (наименование, серийный номер, входные и/или выходные параметры). Качество приложенной документации должно быть достаточным для уверенного восприятия всей содержащейся графической и текстовой информации. | F15: Визуальный осмотр | G15: ПС и/или РЭ (ОТ, ИЭ) на партию
B18: ='ОС, ПС, загазованность'!B16 -> 0

Sheet Установки, агрегаты
A1: Установки, агрегаты, электроприводы
A2: № п/п | B2: Наименование изделия | C2: ГОСТ, ТУ и др. | D2: Применяемость | E2: Контролируемые параметры | F2: Оборудование | G2: Разрешительная и сопроводительная документация
A3: 2 | B3: Блок фильтров- сепараторов | C3: По факту | D3: Все изделия | E3: Внешний вид (отсутствие механических повреждений), комплектность. Соответствие информации на шильдике паспортным данным (наименование, серийный номер, входные и/или выходные параметры). Соответствие габаритных размеров паспортным (РЭ) данным. Качество приложенной документации должно быть достаточным для уверенного восприятия всей содержащейся графической и текстовой информации. | F3: Визуальный осмотр, Рулетка ГОСТ 7502-98 | G3: 1. ПС и/или РЭ 2. Разрешение на применение 3. Сертификат соответствия ТР ТС 032/2013; 4. Декларация ТР ТС 010/2011.
A4: 3 | B4: Указатель уровня жидкости акустический | C4: По факту | D4: Все изделия | E4: Внешний вид (отсутствие механических повреждений), комплектность. Соответствие информации на шильдике паспортным данным (наименование, серийный номер, входные и/или выходные параметры). Соответствие габаритных размеров паспортным (РЭ) данным. Качество приложенной документации должно быть достаточным для уверенного восприятия всей содержащейся графической и текстовой информации. | F4: Визуальный осмотр, Рулетка ГОСТ 7502-98, Штанген-циркуль ГОСТ 166-89 | G4: 1.Сертификат соответствия ТР ТС 012/2011; 2.ПС и/или РЭ.
A5: 4 | B5: Электропривод четвертьоборотный Взрывозащищённый | C5: По факту | D5: Все изделия | E5: Внешний вид (отсутствие механических повреждений), комплектность. Соответствие информации на шильдике паспортным данным (наименование, серийный номер, входные и/или выходные параметры). Соответствие габаритных размеров паспортным (РЭ) данным. Качество приложенной документации должно быть достаточным для уверенного восприятия всей содержащейся графической и текстовой информации. | F5: Визуальный осмотр, Рулетка ГОСТ 7502-98 | G5: 1. Сертификат соответствия ТР ТС 012/2011. 2. ПС и/или РЭ (ОТ, ИЭ) на русском языке.
A6: 5 | B6: Гильза защитная 2001-М20х1,5-М20х1,5-Н10-80 | C6: По факту | D6: Все изделия | E6: Внешний вид (отсутствие механических повреждений), комплектность. Соответствие информации на шильдике паспортным данным (наименование, серийный номер, входные и/или выходные параметры). Соответствие габаритных размеров паспортным (РЭ) данным. Качество приложенной документации должно быть достаточным для уверенного восприятия всей содержащейся графической и текстовой информации. | F6: Визуальный осмотр, Рулетка ГОСТ 7502-98, Штанген-циркуль ГОСТ 166-89 | G6: ПС и/или РЭ.
A7: 6 | B7: Кольцо уплотнительное Norsok | C7: ISO 27509:2012 | D7: Все изделия | E7: Внешний вид (отсутствие механических повреждений). Качество приложенной документации должно быть достаточным для уверенного восприятия всей содержащейся графической и текстовой информации. Габаритные размеры. Присоединительные размеры проверять в специализированной организации. | F7: Визуальный осмотр. Штанген-циркуль ГОСТ 166-89 | G7: Паспорт качества с указанием материала по стандарту ISO 27509:2012/ наличие сертификата на материал. Протокол измерения от завода-изготовителя
A8: 7 | B8: Фланец Norsok | C8: NORSOK standard L-005 | D8: Все изделия | E8: Внешний вид (отсутствие механических повреждений). Качество приложенной документации должно быть достаточным для уверенного восприятия всей содержащейся графической и текстовой информации. Габаритные размеры. Присоединительные размеры проверять в специализированной организации. | F8: Визуальный осмотр. Штанген-циркуль ГОСТ 166-89 | G8: Паспорт качества с указанием материала/ наличие сертификата на материал. Протокол измерения от завода-изготовителя
A9: 8 | B9: Насосы НД | C9: По факту | D9: Все изделия | E9: Внешний вид (отсутствие механических повреждений), комплектность. Соответствие информации на шильде паспортным данным (наименование, серийный номер, входные и/или выходные параметры). Соответствие габаритных размеров данным паспорта (руководства по эксплуатации). Качество приложенной документации должно быть достаточным для уверенного восприятия всей содержащейся графической и текстовой информации. | F9: Визуальный осмотр. Штанген- циркуль ГОСТ 166-89 | G9: 1. Сертификат ТР ТС 004/2011 2. Сертификат ТР ТС 012/2011 3. Декларация ТР ТС 010/2011 4. ПС и/или РЭ.
A10: 9 | B10: Насосы НМШ | C10: По факту | D10: Все изделия | E10: Внешний вид (отсутствие механических повреждений), комплектность. Соответствие информации на шильде паспортным данным (наименование, серийный номер, входные и/или выходные параметры). Соответствие габаритных размеров данным паспорта (руководства по эксплуатации). Качество приложенной документации должно быть достаточным для уверенного восприятия всей содержащейся графической и текстовой информации. | F10: Визуальный осмотр. Штанген- циркуль ГОСТ 166-89 | G10: 1. Сертификат ТР ТС 004/2011 2. Сертификат ТР ТС 012/2011 3. Декларация ТР ТС 010/2011 4. ПС и/или РЭ.
A11: 10 | B11: Насосы ЭЦН | C11: По факту | D11: Все изделия | E11: Внешний вид (отсутствие механических повреждений), комплектность. Соответствие информации на шильде паспортным данным (наименование, серийный номер, входные и/или выходные параметры). Соответствие габаритных размеров данным паспорта (руководства по эксплуатации). Качество приложенной документации должно быть достаточным для уверенного восприятия всей содержащейся графической и текстовой информации. | F11: Визуальный осмотр. Штангенциркуль ГОСТ 166-89 | G11: 1. Сертификат ТР ТС 004/2011 2. Сертификат ТР ТС 012/2011 3. Декларация ТР ТС 010/2011 4. ПС и/или РЭ.
A12: 11 | B12: Пробоотборник автоматический (типа Стандарт-А и др.) | C12: По факту | D12: Все изделия | E12: Внешний вид (отсутствие механических повреждений), комплектность. Соответствие информации на шильде паспортным данным (наименование, серийный номер, входные и/или выходные параметры). Соответствие габаритных размеров данным паспорта (руководства по эксплуатации). Качество приложенной документации должно быть достаточным для уверенного восприятия всей содержащейся графической и текстовой информации. | F12: Визуальный осмотр. Штанген- циркуль ГОСТ 166-89 | G12: 1. Сертификат ТР ТС 004/2011 2. Сертификат ТР ТС 012/2011 3. Декларация ТР ТС 010/2011 4. ПС и/или РЭ.
A13: 12 | B13: Блок управления насосными агрегатами | C13: По факту | D13: Все изделия | E13: Внешний вид (отсутствие механических повреждений), комплектность. Соответствие информации на шильдике паспортным данным (наименование, серийный номер, входные и/или выходные параметры). Качество приложенной документации должно быть достаточным для уверенного восприятия всей содержащейся графической и текстовой информации. | F13: Визуальный осмотр | G13: 1. Сертификат ТР ТС 004/2011 2. Сертификат ТР ТС 012/2011 (только на взрывозащищенный) 3. ПС и/или РЭ.
B15: ='Кабель, КНС и комплектующие'!B17 -> Лакокрасочные материалы (ЛКМ)

Sheet Перечень ПКИ по цеху №75
A1: Перечень ПКИ по цеху №75
A2: № п/п | B2: Наименование изделия | C2: ГОСТ, ТУ и др. | D2: Применяемость | E2: Контролируемые параметры | H2: Оборудование | I2: Разрешительная и сопроводительная документация
A3: 1 | B3: Масло моторное в канистрах | C3: По факту | D3: Переключа-тели потока, УДС. | E3: Внешний осмотр (отсутствие механических примесей). | H3: Визуальный осмотр | I3: 1. Сертификат качества. 2. Паспорт или этикетка
A4: 2 | B4: Мешки полиэтиле-новые | C4: По факту | D4: Для ЗИ и отправочной | E4: Внешний осмотр, целостность | H4: Визуальный осмотр | I4: 1. Сертификат качества. 2. Паспорт или этикетка
A5: 3 | B5: Оргстекло листовое ТОСН2; 3; 5 | C5: ГОСТ 17622-72 | D5: Стенды | E5: Внешний осмотр, целостность, толщина | H5: Визуальный осмотр, Штанген-циркуль ГОСТ 166-89, Рулетка ГОСТ 7502-99 | I5: 1. Сертификат качества. 2. Паспорт или этикетка
A6: 4 | B6: Пневмораспредели-тель В64-25-03 (220в) | C6: ГОСТ 21251-85 | D6: Отключа-тель буровой лебёдки | E6: Внешний осмотр (отсутствие механических повреждений) | H6: Визуальный осмотр | I6: 1. Сертификат качества. 2. Паспорт или этикетка
A7: 5 | B7: Розетка ШР20П4ЭШ8 Вилка ШР20П4ЭГ8 | C7: По факту | D7: Переключа-тели потока, Счетчик ТОР1 | E7: Внешний осмотр (отсутствие механических повреждений) | H7: Визуальный осмотр | I7: 1. Сертификат качества. 2. Паспорт или этикетка на партию
A8: 6 | B8: Магниты МК4К4Р21.14/18 МК4К4Р36.26/20 Магнитный цилиндр 22х6мм МК4ЦО | C8: ТУ 3498-003-21515300-2002 | D8: Счетчик ТОР1 | E8: Внешний осмотр, целостность -Остаточная индукция Br не менее 0,3 Тл -Коэрцитивная сила по намагниченности Hci, не менее 400 kA/m | H8: Визуальный осмотр | I8: 1. Сертификат качества. 2. Паспорт или этикетка на партию
A9: 7 | B9: Магнит - Цилиндр магнитный ф8х9мм – МК3ЦО 8/9 | C9: ТУ 3498-003-21515300-2002 | D9: Перекл. скв. ПСМ | E9: Внешний осмотр (отсутствие механических повреждений) -Остаточная индукция Br не менее 0,25 Тл -Коэрцитивная сила по намагниченности Hci, не менее 280 kA/m | H9: Визуальный осмотр | I9: 1. Сертификат качества. 2. Паспорт на партию.
A10: 8 | B10: Барабан начальный Барабан средний Барабан конечный Трибка | C10: По факту | D10: Счетчик ТОР | E10: Внешний осмотр, целостность, комплектность | H10: Визуальный осмотр | I10: 1. Сертификат качества. 2. Паспорт или этикетка на партию
A11: 9 | B11: Сетка 2-2-1,0 12Х18Н10Т | C11: ГОСТ 3826-82 | D11: КШЭ1 | E11: Внешний осмотр (отсутствие механических повреждений) | H11: Визуальный осмотр | I11: 1. Сертификат качества. 2. Паспорт или этикетка на партию
A12: 10 | B12: Сетка полутомпаковая 04Н | C12: ГОСТ 6613-86 | D12: ГП1М | E12: Внешний осмотр (отсутствие механических повреждений) | H12: Визуальный осмотр | I12: 1. Сертификат качества. 2. Паспорт или этикетка на партию
A13: 11 | B13: Труба ДКРНМ 8х1 НДМ2 | C13: ГОСТ 617-2006 | D13: ГП1М | E13: Внешний осмотр (отсутствие механических повреждений) | H13: Визуальный осмотр | I13: 1. Сертификат качества. 2. Паспорт или этикетка на партию
A14: 12 | B14: Штуцер-дроссель КБША 757519.027 | C14: По факту | D14: Кран шаровой дроссельный | E14: Внешний осмотр, целостность | H14: Визуальный осмотр | I14: 1. Сертификат качества. 2. Паспорт или этикетка на партию
... A49: 47 | B49: Отливка ТОР | C49: КД | D49: ТОР | E49: Внешний вид (отсутствие механических повреждений), комплектность. Габаритно-присоединительные размеры по КД | H49: Визуальный осмотр, Рулетка ГОСТ 7502-98, Штанген-циркуль ГОСТ 166-89 | I49: Сертификат качества
B52: ='Электротехнические комплектующ.'!B8 -> 0

Sheet Оборудование для ПИУ
A1: Оборудование для передвижных измерительных установок (ПИУ)
A2: № п/п | B2: Наименование изделия | C2: ГОСТ, ТУ и др. | D2: Применяемость | E2: Контролируемые параметры | H2: Оборудование | I2: Разрешительная и сопроводительная документация
A3: 1 | B3: Фонарь габаритный, лампа габаритная автомобильная, фара-прожектор, фара, фонарь аварийный | C3: По факту | D3: Передвижные установки | E3: Внешний осмотр (отсутствие механических повреждений, целостность стеклянных и пластиковых частей), комплектность | H3: Визуальный осмотр | I3: 1.Декларация ТР ТС 020/2011, сертификат соответ-ствия ТР ТС 018/2011 2. ПС и/или РЭ (ОТ, ИЭ)
A4: 2 | B4: Колодка штырьевая, колодка гнездовая, вилка, розетка взрывозащищенные | C4: По факту | D4: Передвижные установки | E4: Внешний вид (отсутствие механических повреждений, отсутствие загибов штырей, посторонних предметов в гнездах), комплектность | H4: Визуальный осмотр | I4: 1. Декларация ТР ТС 020/2011, Сертификат соот-ветствия ТР ТС 012/2011. 2.ПС и/или РЭ (ОТ, ИЭ)
A5: 3 | B5: Клемма автомобильная | C5: По факту | D5: Передвижные установки | E5: Внешний вид (отсутствие механических повреждений). | H5: Визуальный осмотр | I5: Этикетка
A6: 4 | B6: Ноутбук | C6: По факту | D6: Передвижные установки | E6: Внешний вид (отсутствие механических повреждений), комплектность | H6: Визуальный осмотр | I6: ПС и/или РЭ (ОТ, ИЭ) на русском языке
A7: 5 | B7: Принтер | C7: По факту | D7: Передвижные установки | E7: Внешний вид (отсутствие механических повреждений), комплектность | H7: Визуальный осмотр | I7: ПС и/или РЭ (ОТ, ИЭ) на русском языке
A8: 6 | B8: Микроволновая печь | C8: По факту | D8: Передвижные установки | E8: Внешний вид (отсутствие механических повреждений), комплектность | H8: Визуальный осмотр | I8: ПС и/или РЭ (ОТ, ИЭ) на русском языке
A9: 7 | B9: Электрочайник | C9: По факту | D9: Передвижные установки | E9: Внешний вид (отсутствие механических повреждений), комплектность | H9: Визуальный осмотр | I9: ПС и/или РЭ (ОТ, ИЭ) на русском языке
A10: 8 | B10: Сумка для ноутбука | C10: По факту | D10: Передвижные установки | E10: Внешний вид (отсутствие механических повреждений) | H10: Визуальный осмотр | I10: Этикетка
A11: 9 | B11: Лом | C11: По факту | D11: Передвижные установки | E11: Внешний осмотр | H11: Визуальный осмотр | I11: Этикетка
A12: 10 | B12: Ведро | C12: По факту | D12: Передвижные установки | E12: Внешний осмотр | H12: Визуальный осмотр | I12: Этикетка
A13: 11 | B13: Асбестовое полотно, шнур | C13: По факту | D13: Передвижные установки | E13: Внешний осмотр | H13: Визуальный осмотр | I13: Паспорт
A14: 12 | B14: Лопата | C14: По факту | D14: Передвижные установки | E14: Внешний осмотр | H14: Визуальный осмотр | I14: Этикетка
... A34: 32 | B34: Шасси и прицепы автомобильные | C34: По факту | D34: Все изделия | E34: Производить комиссионную приемку | H34: Визуальный осмотр | I34: Одобрение типа транспортного средства
B37: ='ПЛК, ЖК-панели, преобразователи'!B14 -> 0

Sheet Металл
A1: Наименование изделия | B1: НД, требованиям которой должны соответствовать изделия | C1: Использование | D1: Контролируемые | G1: Средства измерения* | H1: Необходимая разрешительная и сопроводительная документация
C2: на каких изделиях | D2: параметры
D3: (в том числе
D4: специальные требования заказчика)
A5: 1 | B5: 2 | C5: 3 | D5: 4 | G5: 7 | H5: 8
A6: Все виды | B6: Смотри ниже | C6: Изделия, выпускаемые АО «ОЗНА-Измерительные системы» | D6: 1) Проверить наличие документации от поставщика по требованиям, указанным в столбце 8. 2) Проверить наличие этикеток (бирок) с указанием марки материала, номер партии. 3) 1 штуку (образец) из партии отправить лабораторию, для проверки химического состава и механических испытаний. Допускается отправить в лабораторию при поступлении материала в производство. | G6: Смотри ниже | H6: Смотри ниже
A7: Прокат стальной горячекатаный круглый | B7: ГОСТ 2590-2006 | D7: 1);2);3); 4) Внешний осмотр: на поверхности не допускаются раскатанные пузыри, закаты, трещины, коррозия если при контрольной зачистке выводят за предельные отклонения по диаметру. Овальность сечения (разность между наибольшим и наименьшим диаметром одного сечения измерение производить не менее в 2-х точках) не должна превышать предельных отклонений по диаметру согласно ГОСТ 2590-2006 Кривизна** проката не должна превышать следующих значений для участка длиной 1 м: I-ый класс кривизны(по согласованной спецификации) Все диаметры- 2 мм. II-ой класс кривизны d до 25 мм вкл. – 5мм d 25-80вкл. – 4мм d 80-270 вкл. -2,5 мм. III-ий класс кривизны До d 80мм вкл. – не регламент. D 80-270 мм вкл. – 4,5 мм IV-ый класс кривизны До d 80мм вкл. – не регламент. D 80-270 мм вкл. – 5 мм Кривизну проката измеряют на расстоянии не менее 100 мм от конца прутка. 5) Контролировать диаметр и длину на соответствие, согласно сопроводительной документации. | G7: Микрометр ГОСТ 6507-90 Штангенциркуль ГОСТ 166-89 Рулетка ГОСТ 7502-98 ** Визуальный осмотр При выявлении несоответствия в производстве произвести контроль согласно ТИ-513И Линейка измерительная металлическая ГОСТ 427-75 Уровень строительный магнитный ГОСТ Р 58514-2019 | H7: 1.Сертификат (паспорт) качества с указанием химического состава, требования значения ударной вязкости. 2.Подлинность сертификата качества подтверждается синей печатью завода-изготовителя и может быть проверена на сайте завода-изготовителя в разделе «Проверка сертификатов».
A8: Сталь калиброванная круглая | B8: ГОСТ 7417-75 | D8: 1);2);3); 4) Внешний осмотр: на поверхности не допускаются раскатанные пузыри, закаты, трещины, коррозия если при контрольной зачистке выводят за предельные отклонения по диаметру. Овальность сечения (разность между наибольшим и наименьшим диаметром одного сечения измерение производить не менее в 2-х точках) не должна превышать предельных отклонений по диаметру согласно ГОСТ 7417-75 Предельная кривизна** зависит от поля допуска на 1 метр длины. При h9 d до 25 мм вкл. – 1,0мм d 25-50мм вкл. – 0,75мм d свыше 50 мм. -0,5 мм. При h10 и h11 d до 25 мм вкл. – 2,0мм d 25-50мм вкл. – 1,0мм d свыше 50 мм. - 1,0мм При h12 d до 25 мм вкл. – 3,0мм d 25-50мм вкл. – 2,0 мм d свыше 50 мм. – 1,0мм 5) Контролировать диаметр и длину на соответствие, согласно сопроводительной документации. | G8: Микрометр ГОСТ 6507-90 Штангенциркуль ГОСТ 166-89 Рулетка ГОСТ 7502-98 ** Визуальный осмотр При выявлении несоответствия в производстве произвести контроль согласно ТИ-513И Линейка измерительная металлическая ГОСТ 427-75 Уровень строительный магнитный ГОСТ Р 58514-2019 Щупы ТУ 3936-011-59489947-2007 | H8: 1.Сертификат (паспорт) качества с указанием химического состава, требования значения ударной вязкости. 2.Подлинность сертификата качества подтверждается синей печатью завода-изготовителя и может быть проверена на сайте завода-изготовителя в разделе «Проверка сертификатов».
A9: Прутки прессованные из алюминия и алюминиевых сплавов | B9: ГОСТ 21488-97 | D9: 1);2);3); 4) Внешний осмотр: Поверхность прутков не должна иметь трещин, расслоений, неметаллических включений, пятен коррозионного происхождения и следов селитры. Овальность круглых прутков не должна выводить их размеры за предельные отклонения по диаметру согласно ГОСТ 21488-97 Угол скручивания** вокруг продольной оси на 1 м длины любого участка квадратного и шестигранного прутка не должен превышать 5°. Кривизна** прутков на 1 м длины не должна превышать для прутков: d до 100мм - 3мм; d свыше 100мм до 120мм - 6мм; d свыше 120мм до 150мм - 9мм; d свыше 150мм до 200мм - 12мм; d свыше 200мм до 300мм - 15мм; d свыше 300мм до 400мм - 20мм. 5) Контролировать диаметр (диаметр вписанной окружности для квадратных и шестигранных прутков) и длину на соответствие, согласно сопроводительной документации. | G9: Микрометр ГОСТ 6507-90 Штангенциркуль ГОСТ 166-89 Рулетка ГОСТ 7502-98 ** Визуальный осмотр При выявлении несоответствия в производстве произвести контроль согласно ТИ-513И Линейка измерительная металлическая ГОСТ 427-75 Уровень строительный магнитный ГОСТ Р 58514-2019 Угольники поверочные 90° ГОСТ 3749-77 Угломеры с нониусом по ГОСТ 5378-88 | H9: 1.Сертификат (паспорт) качества с указанием химического состава, требования значения ударной вязкости. 2.Подлинность сертификата качества подтверждается синей печатью завода-изготовителя и может быть проверена на сайте завода-изготовителя в разделе «Проверка сертификатов».
A10: Прутки медные | B10: ГОСТ 1535-2016 | D10: 1);2);3); 4) Внешний осмотр: Поверхность прутков должна быть свободной от загрязнений, затрудняющих ее визуальный осмотр, без трещин и расслоений. На поверхности допускаются мелкие плены, вмятины, раковины, риски, задиры, кольцеватость, следы правки, если они при контрольной зачистке не выводят прутки за предельные отклонения по диаметру Овальность круглых прутков не должна выводить их размеры за предельные отклонения по диаметру согласно ГОСТ 1535-2016 Максимальное скручивание** на 1м квадратных и шестигранных прутков не должно превышать значений при расстоянии между параллельными гранями прутка (h): h= 17-18 мм - 2,0 мм h= 18-30 мм - 3,0 мм h= 30-50 мм - 4,0 мм Максимальное отклонение по кривизне** на 1 м длины прутка при номинальном диаметре или расстоянии между параллельными гранями прутка от 5,0мм до 50,0 мм вкл. – 2,0 мм; св. 50,0 до 120,0 вкл. – 6,0 мм; св. 120,0 до 150,0 вкл. – 10,0 мм; св. 150,0 – 15,0 мм. 5) Контролировать диаметр (диаметр вписанной окружности для квадратных и шестигранных прутков) и длину на соответствие, согласно сопроводительной документации. | G10: Микрометр ГОСТ 6507-90 Штангенциркуль ГОСТ 166-89 Рулетка ГОСТ 7502-98 ** Визуальный осмотр При выявлении несоответствия в производстве произвести контроль согласно ТИ-513И Линейка измерительная металлическая ГОСТ 427-75 Щупы ТУ 3936-011-59489947-2007 Уровень строительный магнитный ГОСТ Р 58514-2019 | H10: 1.Сертификат (паспорт) качества с указанием химического состава, требования значения ударной вязкости. 2.Подлинность сертификата качества подтверждается синей печатью завода-изготовителя и может быть проверена на сайте завода-изготовителя в разделе «Проверка сертификатов».
A11: Пруток из бериллиевой бронзы | B11: ГОСТ 15835-2013 | D11: 1);2);3); 4) Внешний осмотр: Поверхность прутков должна быть свободной от загрязнений, затрудняющих визуальный осмотр, без трещин и расслоений. На поверхности допускаются отдельные плены, вмятины, раковины, риски, задиры и другие дефекты, а также кольцеватость, следы правки, если они при контрольной зачистке не выводят прутки за предельные отклонения по диаметру. Допускаются следы технологической смазки, а также цвета побежалости и покраснение поверхности после отжига и травления. Овальность круглых прутков не должна выводить их размеры за предельные отклонения по диаметру согласно ГОСТ 15835-2013 Кривизна** прутков на 1 м длины не должна превышать для прутков: d от 5мм до 18мм – 3,0 мм; d свыше 18мм до 40мм – 2,0 мм; d свыше 4 мм до 100мм – 6,0 мм; 5) Контролировать диаметр (диаметр вписанной окружности для квадратных и шестигранных прутков) и длину на соответствие, согласно сопроводительной документации. | G11: Микрометр ГОСТ 6507-90 Штангенциркуль ГОСТ 166-89 Рулетка ГОСТ 7502-98 ** Визуальный осмотр При выявлении несоответствия в производстве произвести контроль согласно ТИ-513И Линейка измерительная металлическая ГОСТ 427-75 Угломеры ГОСТ 5378-88 Уровень строительный магнитный ГОСТ Р 58514-2019 Щуп №4 ТУ 3936-011-59489947-2007 | H11: 1.Сертификат (паспорт) качества с указанием химического состава, требования значения ударной вязкости. 2.Подлинность сертификата качества подтверждается синей печатью завода-изготовителя и может быть проверена на сайте завода-изготовителя в разделе «Проверка сертификатов».
A12: Прутки латунные | B12: ГОСТ 2060-2006 | D12: 1);2);3); 4) Внешний осмотр: Поверхность прутков должна быть свободной от загрязнений, затрудняющих визуальный осмотр, без трещин и расслоений. На поверхности допускаются отдельные плены, вмятины, раковины, риски, задиры и другие дефекты, а также кольцеватость, следы правки, если они при контрольной зачистке не выводят прутки за предельные отклонения по диаметру. Допускаются следы технологической смазки, а также цвета побежалости и покраснение поверхности после отжига и травления. Овальность круглых прутков не должна выводить их размеры за предельные отклонения по диаметру согласно ГОСТ 2060-2006 Скручивание** на 1м квадратных и шестигранных прутков не должно превышать значений при расстоянии между параллельными гранями прутка (h): h= до 17 мм - 1,0 мм h= 17-50 мм - 2,0 мм Кривизна** прутка на 1 м длины прутка при номинальном диаметре или расстоянии между параллельными гранями прутка: до 50,0мм вкл – 2,0 мм; Прессованные до 18,0мм вкл – 3,0 мм св. 18,0 до 40,0 вкл. – 4,5 мм; св. 18,0 до 40,0 вкл. – 4,5 мм; св. 40,0 до 50,0 вкл. – 5,0 мм; св. 50,0 до 120,0 вкл. – 6,0 мм; св. 120,0 – 9,0 мм. 5) Контролировать диаметр (диаметр вписанной окружности для квадратных и шестигранных прутков) и длину на соответствие, согласно сопроводительной документации. | G12: Микрометр ГОСТ 6507-90 Штангенциркуль ГОСТ 166-89 Рулетка ГОСТ 7502-98 ** Визуальный осмотр При выявлении несоответствия в производстве произвести контроль согласно ТИ-513И Линейка измерительная металлическая ГОСТ 427-75 Уровень строительный магнитный ГОСТ Р 58514-2019 Угольники поверочные 90° ГОСТ 3749-77 Щупы ТУ 3936-011-59489947-2007 | H12: 1.Сертификат (паспорт) качества с указанием химического состава, требования значения ударной вязкости. 2.Подлинность сертификата качества подтверждается синей печатью завода-изготовителя и может быть проверена на сайте завода-изготовителя в разделе «Проверка сертификатов».
A13: Прутки и трубы Бронзовые и латунные литые | B13: ГОСТ 24301-93 | D13: 1);2);3); 4) Внешний осмотр: Поверхность прутков и труб должна быть без трещин, раковин и неметаллических включений. Допускаются дефекты поверхности при условии, что они не распространяются в глубину более чем на половину разности измеренного диаметра и минимально допустимого Предельные отклонения толщины стенок труб должны соответствовать:I-ой группы S=8-10 мм – (+1,0 мм; -0,7 мм) S=12-20 мм – (+1,5 мм; -1,2 мм) S=25-40 мм – (+2,0 мм; -1,5 мм) II-ой группы S=8-10 мм – ±1,0 мм S=12-20 мм – ±1,5 мм S=25-40 мм – ±2,0 мм Допуск овальности прутков и допуски овальности и концентричности труб не должны выводить их размеры за предельные отклонения по наружным диаметрам и толщине стенки согласно ГОСТ 24301-93 Кривизна** не должна превышать следующих значений для участка длиной 1 м: 3 мм - для прутков и труб из бронзы; 10 мм - для прутков и труб из латуни 5) Провести испытания на ударную вязкость** (таблица 1) 6) Контролировать диаметр и длину на соответствие, согласно сопроводительной документации. | G13: Микрометр ГОСТ 6507-90 Штангенциркуль ГОСТ 166-89 Рулетка ГОСТ 7502-98 Толщиномеры и стенкомеры индикаторные ГОСТ 11358-89 ** Визуальный осмотр При выявлении несоответствия в производстве произвести контроль согласно ТИ-513И Линейка измерительная металлическая ГОСТ 427-75 Уровень строительный магнитный ГОСТ Р 58514-2019 | H13: 1.Сертификат (паспорт) качества с указанием химического состава, требования значения ударной вязкости. 2.Подлинность сертификата качества подтверждается синей печатью завода-изготовителя и может быть проверена на сайте завода-изготовителя в разделе «Проверка сертификатов».
A14: Прутки, полосы и мотки из инструментальной нелегированной стали. | B14: ГОСТ 1435-99 ГОСТ 5950-2000 | D14: 1);2); 3); 4) Внешний осмотр : На поверхности не допускаются раскатанные пузыри, закаты, трещины, коррозия, если при контрольной зачистке выводят за предельные отклонения по диаметру. Овальность сечения (разность между наибольшим и наименьшим диаметром одного сечения измерение производят не менее в двух точках) не должна превышать предельных отклонений согласно требований на сортамент соответствующего проката и сопроводительной документации. | G14: Микрометр ГОСТ 6507-90 Штангенциркуль ГОСТ 166-89 Рулетка ГОСТ 7502-98 ** Визуальный осмотр При выявлении несоответствия в производстве произвести контроль согласно ТИ-513И Линейка измерительная металлическая ГОСТ 427-75 Уровень строительный магнитный ГОСТ Р 58514-2019 Угольники поверочные 90° ГОСТ 3749-77 Щупы ТУ 3936-011-59489947-2007 | H14: 1.Сертификат (паспорт) качества с указанием химического состава, требования значения ударной вязкости. 2.Подлинность сертификата качества подтверждается синей печатью завода-изготовителя и может быть проверена на сайте завода-изготовителя в разделе «Проверка сертификатов».
A15: Трубы медные и латунные круглого сечения общего назначения | B15: ГОСТ 617-2006 | D15: 1);2);3); 4) Внешний осмотр: на поверхности труб не допускаются трещины, плены, крупные раковины, рванины и закаты. Допускаются отдельные поверхностные дефекты: вмятины, углубления, забоины, риски, плены, задиры, раковины, следы правки, если они не выводят трубы за предельные отклонения по размерам при контрольной зачистке места дефекта до его полного удаления. Предельные отклонения по длине труб мерной длины должны соответствовать: При d=3-50мм: – L менее 2000мм+6мм – L более 2000мм+10мм. При d=50-150мм: – L менее 2000мм+10мм – L более 2000мм+15мм. При d=свыше 150мм: – L менее 2000мм+18мм – L более 2000мм+24мм. Предельные отклонения по наружному диаметру: Dн = 3-10 мм - -0,15 мм Dн = 10-18 мм - -0,20 мм Dн = 18-30 мм - -0,24 мм Dн = 30-48 мм - -0,30 мм Dн = 48-76 мм - -0,40 мм Dн = 76-100 мм - -0,50 мм Dн = 100-120 мм - ±0,30 мм Dн = 120-139 мм - ±0,40 мм Dн = 120-139 мм - ±0,40 мм Dн = 139-170 мм - ±0,50 мм Dн = 170-235 мм - ±0,70 мм Dн = 235-360 мм - ±0,90 мм Предельное отклонение по толщине стенки: S=0,8 мм – ±0,08 мм S=1,0 мм – ±0,10 мм S=1,2 мм – ±0,12 мм | G15: Микрометр ГОСТ 6507-90 Штангенциркуль ГОСТ 166-89 Рулетка ГОСТ 7502-98 Толщиномеры и стенкомеры индикаторные ГОСТ 11358-89 ** Визуальный осмотр При выявлении несоответствия в производстве произвести контроль согласно ТИ-513И Линейка измерительная металлическая ГОСТ 427-75 | H15: 1.Сертификат (паспорт) качества с указанием химического состава, требования значения ударной вязкости. 2.Подлинность сертификата качества подтверждается синей печатью завода-изготовителя и может быть проверена на сайте завода-изготовителя в разделе «Проверка сертификатов».
D16: S=2,0 мм – ±0,20 мм S=2,5-3,0 мм – ±0,25 мм S=3,5-4,0 мм – ±0,30 мм S=4,5 мм – ±0,35 мм S=5,0 мм – ±0,40 мм S=6,0 мм – ±0,50 мм S=7,0-8,0 мм – ±0,60 мм S=10,0 мм – ±0,75 мм Овальность и разностенность труб не должны выводить их размеры за предельные отклонения соответственно по наружному диаметру и толщине стенки Кривизна** не должна превышать следующих значений для участка длиной 1 м: 3 мм - для труб диаметром 11-60мм; 5 мм - для труб диаметром 60-150мм; 15мм -для труб диаметром св.150мм; 5) Провести испытания на ударную вязкость** (таблица 1) 6) Контролировать диаметр и длину на соответствие, согласно сопроводительной документации.
A17: Прокат стальной горячекатаный шестигранный | B17: ГОСТ 2879-2006 | D17: 1);2);3); 4) Внешний осмотр: на поверхности быть без трещин, раковин и неметаллических включений. Скручивание** проката на 1 м не должно превышать требований d до 14 мм вкл. – 4° d 14-50 мм вкл. – 3° d 50-103 мм вкл. - 3° Кривизна** проката не должна превышать следующих значений для участка длиной 1 м: I-ый класс кривизны Все диаметры- 2 мм. II-ой класс кривизны d до 39,5 мм вкл. – 5мм d 39,5-83 мм вкл. – 4мм d 83-103 мм вкл. -2,5 мм. III-ий класс кривизны До d 39,5 мм вкл. – не регламент. D 39,5-103 мм вкл. – 4,5 мм IV-ый класс кривизны До d 39,5 мм вкл. – не регламент. D 39,5-103 мм вкл. – 5 мм Кривизну проката измеряют на расстоянии не менее 100 мм от конца прутка. 5) Контролировать диаметр и длину на соответствие, согласно сопроводительной документации. | G17: Штангенциркуль ГОСТ 166-89 Рулетка ГОСТ 7502-98 ** Визуальный осмотр При выявлении несоответствия в производстве произвести контроль согласно ТИ-513И Линейка измерительная металлическая ГОСТ 427-75 Угольники поверочные 90° ГОСТ 3749-77 | H17: 1.Сертификат (паспорт) качества с указанием химического состава, требования значения ударной вязкости. 2.Подлинность сертификата качества подтверждается синей печатью завода-изготовителя и может быть проверена на сайте завода-изготовителя в разделе «Проверка сертификатов».
A18: Уголки стальные горячекатаные равнополочные | B18: ГОСТ 8509-93 | D18: 1);2);3); 4) Внешний осмотр: На поверхности не допускаются расслоения кромок, трещины, плены, рванины, раковины, закаты, коррозия если при контрольной зачистке выводят за предельные отклонения размеров. Предельные отклонения по длине уголков мерной длины или кратной мерной не должны превышать: +30 мм - при длине до 4 м включительно; +50 мм - при длине свыше 4 до 6 м включительно; +70 мм - при длине свыше 6 м. Предельные отклонения по размерам уголков (№ уголков) не должны превышать: По ширине полки № 2-4,5 - ±1,0 мм № 5-9 - ±1,5 мм № 10-15 - ±2,0 мм № 16-20 - ±3,0 мм № 22- 25 - ±4,0 мм По толщине полки для обычной точности S до 6 вкл. № 2-4,5 – (+0,3; -0,4) мм № 5-9 - (+0,3; -0,5) мм S от 6,5 до 9 вкл. № 5-9 - (+0,3; -0,6) мм № 10-15 – (+0,4; -0,5) мм S свыше 9 № 5-9 - (+0,4; -0,6) мм № 10-15 – (+0,4; -0,7) мм № 16-20 - (+0,5; -0,8) мм № 22- 25 - (+0,5; -0,9) мм Кривизна** не должна превышает 0,2% длины. Для уголков от N 2 до 4,5 включительно кривизну проверяют на длине 1 м. 5) Контролировать размеры на соответствие, согласно сопроводительной документации. | G18: Штангенциркуль ГОСТ 166-89 Рулетка ГОСТ 7502-98 ** Визуальный осмотр При выявлении несоответствия в производстве произвести контроль согласно ТИ-513И Линейка измерительная металлическая ГОСТ 427-75 | H18: 1.Сертификат (паспорт) качества с указанием химического состава, требования значения ударной вязкости. 2.Подлинность сертификата качества подтверждается синей печатью завода-изготовителя и может быть проверена на сайте завода-изготовителя в разделе «Проверка сертификатов».
A19: Швеллеры стальные горячекатаные | B19: ГОСТ 8240-97 | D19: 1);2);3); 4) Внешний осмотр: На поверхности не допускаются расслоения кромок, трещины, плены, рванины, раковины, закаты, коррозия при контрольной зачистке выводят за предельные отклонения размеров Высота швеллера h: h до 80 мм вкл. - ±1.5мм h 80-200 мм - ±2,0 мм h 200-400 мм - ±3,0 мм Ширина полки b: b до 40 мм вкл. - ±1,5 мм b 40-89 мм - ±2,0 мм b свыше 89 мм – ±3,0 мм Толщина полки t: t до 10 мм - ‒0,5 мм t 10-11 мм - ‒0,8 мм t свыше 11 мм - –1,0 мм Толщина стенки s: s до 5,1 мм вкл. - ±0,5 мм s 5,1-6,0 мм - ±0,6 мм s свыше 6,0 мм - ±0,7 мм Прогиб стенки f по высоте h: h до 100 мм вкл. - 0,5 мм h 100-200 мм – 1,0 мм h 200-400 мм – 1,5 мм Перекос полки при ширине полки b: Высокая точность b до 95 мм- 0,9 мм b свыше 95 мм – 0,01b Повышенная точность b до 95 мм- 1,0 мм b свыше 95 мм – 0,015b Обычная точность b до 95 мм- 1,2 мм b свыше 95 мм – 0,025b Предельные отклонения по длине швеллеров мерной и кратной мерной длины не должны превышать: +40 мм - при длине от 2 до 8 м включ.; +[40+5(l-8)] мм, но не более 100 мм - при длине св. 8 м где l - длина швеллера, м. Кривизна** швеллера в горизонтальной и вертикальной плоскостях не должна превышать 0,2% длины (на 1 м – 2 мм). 5) Контролировать размеры на соответствие, согласно сопроводительной документации. | G19: Штангенциркуль ГОСТ 166-89 Рулетка ГОСТ 7502-98 ** Визуальный осмотр При выявлении несоответствия в производстве произвести контроль согласно ТИ-513И Линейка измерительная металлическая ГОСТ 427-75 Щупы ТУ 3936-011-59489947-2007 | H19: 1.Сертификат (паспорт) качества с указанием химического состава, требования значения ударной вязкости. 2.Подлинность сертификата качества подтверждается синей печатью завода-изготовителя и может быть проверена на сайте завода-изготовителя в разделе «Проверка сертификатов».
A21: Двутавры стальные горячекатаные | B21: ГОСТ Р 57837-2017 | D21: 1);2);3); 4) Внешний осмотр: На поверхности не допускаются расслоения кромок, трещины, плены, рванины, раковины, закаты, коррозия если при контрольной зачистке выводят за предельные отклонения размеров Для обычной точности: Высота двутавра h: h до 140 мм вкл. - ±2,0мм h 140-180 мм - ±2,5 мм h 180-300 мм - ±3,0 мм h 300-360 мм - ±3,5 мм h 360-600 мм - ±4,0 мм Ширина полки b: b до 73 мм вкл. - ±2,0 мм b 73-90 мм - ±2,5 мм b 90-135 мм - ±3,0 мм b 135-155 мм - ±3,5 мм b свыше 155 мм – ±4,0 мм Толщина полки t: t до 8,9 мм вкл. - ‒0,7 мм t 8,9-10,7 мм - ‒0,8 мм t 10,7-15,2 мм - ‒1,0 мм t свыше 15,2 мм - –1,2 мм Перекос полки при ширине полки b: b= 55-190 мм – 0,02b Отклонение от симметричности δ ( ) при ширине полки b: b до 73 мм вкл. - 2,0 мм b 73-90 мм – 2,0 мм b 90-135 мм – 3,0 мм b 135-145 мм – 3,5 мм b свыше 145 мм – 4,0 мм Длина L: L до 8 м вкл. - +40 мм L свыше 8м - +80 мм Для повышенной точности: Высота двутавра h: h до 180 мм вкл. - ±2,0мм h 180-360 мм - ±3,0 мм h 360-600 мм - ±4,0 мм Ширина полки b: b до 135 мм вкл. - ±2,0 мм b свыше 135 мм – ±3,0 мм Толщина полки t: t до 7,5 мм вкл. - ‒0,4 мм t 7,5-8,9 мм - ‒0,5 мм t 8,9-10,7 мм - ‒0,6 мм t 10,7-12,3 мм - ‒0,7 мм t 12,3-14,2 мм - ‒0,8 мм t 14,2-15,2 мм - ‒0,9 мм t свыше 15,2 мм - –1,0 мм Перекос полки при ширине полки b: b= 55-190 мм – 0,0125b Отклонение от симметричности δ ( ) при ширине полки b: b до 135 мм вкл. - 2,0 мм b свыше 135 мм – 3,0 мм Длина L: L до 8 м вкл. - +40 мм L свыше 8м - +40 и прибавлять по 5 мм на каждый метр дины свыше 8 м. Прогиб стенки (f) не должен превышать 0,15s Кривизна** двутавра не должна превышать 0,2% длины (на 1 м – 2 мм). 5) Контролировать размеры на соответствие, согласно сопроводительной документации. | G21: Штангенциркуль ГОСТ 166-89 Рулетка ГОСТ 7502-98 ** Визуальный осмотр При выявлении несоответствия в производстве произвести контроль согласно ТИ-513И Линейка измерительная металлическая ГОСТ 427-75 Щупы ТУ 3936-011-5948 Угольники поверочные 90° ГОСТ 3749-77 | H21: 1.Сертификат (паспорт) качества с указанием химического состава, требования значения ударной вязкости. 2.Подлинность сертификата качества подтверждается синей печатью завода-изготовителя и может быть проверена на сайте завода-изготовителя в разделе «Проверка сертификатов».
A23: Балки двутавровые и швеллеры стальные специальные | B23: ГОСТ 19425-74 | D23: 1);2);3); 4) Внешний осмотр: На поверхности не допускаются расслоения кромок, трещины, плены, рванины, раковины, закаты, коррозия если при контрольной зачистке выводят за предельные отклонения размеров Предельные отклонения по № профиля: По высоте профиля h: Обычная точность №18 - ±2,5 мм № 36 - ±3,5 мм №45 - ±4,0 мм Высокая точность №14 - ±2,0 мм № 18-30 - ±3,0 мм По ширине полки b: Обычная точность № 14 - ±2,0 мм №18 - ±2,5 мм №36 - ±3,0 мм №45 - ±4,0 мм Высокая точность №14 – (+1,0; -2,0) мм № 18-30 - ±3,0 мм По толщине полки =0,06t Длина L: Обычной точности L до 8 м вкл. - +40 мм L свыше 8м - +80 мм Высокая точность L до 8 м вкл. - +40 мм L свыше 8м - +40 и прибавлять по 5 мм на каждый метр дины свыше 8 м. Кривизна** профилей в вертикальной и горизонтальной плоскостях не должна превышать 0,2% длины (на 1 м – 2 мм). 5) Контролировать размеры на соответствие, согласно сопроводительной документации. | G23: Штангенциркуль ГОСТ 166-89 Рулетка ГОСТ 7502-98 ** Визуальный осмотр При выявлении несоответствия в производстве произвести контроль согласно ТИ-513И Линейка измерительная металлическая ГОСТ 427-75 Щупы ТУ 3936-011-59489947-2007 | H23: 1.Сертификат (паспорт) качества с указанием химического состава, требования значения ударной вязкости. 2.Подлинность сертификата качества подтверждается синей печатью завода-изготовителя и может быть проверена на сайте завода-изготовителя в разделе «Проверка сертификатов».
A24: Двутавры стальные горячекатаные с параллельными гранями полок | D24: 1);2);3); 4) Внешний осмотр: На поверхности не допускаются расслоения кромок, трещины, плены, рванины, раковины, закаты, коррозия если при контрольной зачистке выводят за предельные отклонения размеров Высота двутавра h: h до 120 мм вкл. - ±2,0мм h 120-380 мм - ±3.0 мм h 380-580 мм - ±4,0 мм h свыше 580 мм - ±5,0 мм Ширина полки b: b до 120 мм вкл. - ±2,0 мм b свыше 120 мм – ±3,0 мм Толщина стенки s: s до 4,4 мм вкл. - ±0,5 мм s 4,4-6,5 мм - ±0,7 мм s 6,5-16 мм - ±1,0 мм s 16-23 мм - ±1,5 мм s свыше 23 мм - ±2,0 мм Толщина полки t: t до 6,3 мм -±1,0 мм t 6,3-16 мм - ±1,5 мм t 16-25 мм - ±2,0 мм t 25-40 мм - ±2,5 мм Перекос полки: h до 120 мм вкл – 1,0 мм h 120-290 мм – 0,015b ≤ 3,0 мм h свыше 290 мм - 0,015b ≤ 4,0мм Смещение полки относительно стенки δ ( ): h≤120 - 1,5 мм 120<h<190 - 2,5 мм 190≤h≤290 - 3,0 мм h>290b<220 - 3,0 мм b≥220 - 4,5 мм Кривизна стенки по высоте сечения f: | G24: Штангенциркуль ГОСТ 166-89 Рулетка ГОСТ 7502-98 ** Визуальный осмотр При выявлении несоответствия в производстве произвести контроль согласно ТИ-513И Линейка измерительная металлическая ГОСТ 427-75 Щупы ТУ 3936-011-59489947-2007 | H24: 1.Сертификат (паспорт) качества с указанием химического состава, требования значения ударной вязкости. 2.Подлинность сертификата качества подтверждается синей печатью завода-изготовителя и может быть проверена на сайте завода-изготовителя в разделе «Проверка сертификатов».
D25: h до 120 мм вкл – 1,0 мм h 120-380 мм – 1,5 мм h 380-680 мм –2,0 мм h свыше 680мм – 3,0 мм Кривизна** профиля в вертикальной и горизонтальной плоскостях 0,002L (на 1 м – 2 мм) 5) Контролировать размеры на соответствие, согласно сопроводительной документации.
A26: Листы из алюминия и алюминиевых сплавов | B26: ГОСТ 21631-2019 | D26: 1);2);3); 4) Внешний осмотр: на поверхности не допускаются плены, сквозные разрывы, пузыри, вздутия, порезы, надрывы, вкатанные окалины, металлические инородные частицы. Предельные отклонения по ширине проката: +6,0 мм - при толщине до 5,0 мм включ. +10 мм - при толщине св. 5,0мм. Предельные отклонения по длине проката +20,0 мм - при толщине 0,3-3,5 мм включ. +25 мм - при толщине 3,5-10,5 мм. Предельные отклонения по толщине проката по ГОСТ 21631-2019 5) Контролировать размеры на соответствие, согласно сопроводительной документации. | G26: Штангенциркуль ГОСТ 166-89 Рулетка ГОСТ 7502-98 Ультразвуковой толщиномер ТУЗ-1 | H26: 1.Сертификат (паспорт) качества с указанием химического состава, требования значения ударной вязкости. 2.Подлинность сертификата качества подтверждается синей печатью завода-изготовителя и может быть проверена на сайте завода-изготовителя в разделе «Проверка сертификатов».
A27: Листы и плиты латунные | B27: ГОСТ 2208-2007 | D27: 1);2);3); 4) Внешний осмотр: на поверхности не допускаются плены, сквозные разрывы, пузыри, вздутия, порезы, надрывы, вкатанные окалины, металлические инородные частицы. Предельные отклонения по ширине при ширине проката: при толщине 0,20-2,0 мм до 300 мм вкл. -3,0 мм св. 300 мм -6,0 мм при толщине 2,0-6,0 мм до 300 мм вкл. -5,0 мм св. 300 мм -8,0 мм при толщине 6,0-12,0 мм до 300 мм вкл. -10,0 мм св. 300 мм -10,0 мм листы изготовляют с предельными отклонениями по длине: при толщине до 3,00 мм вкл.- ±10,0 мм; При толщине св. 3,00 мм – ±15,0 мм Предельные отклонения по толщине проката по ГОСТ 2208-2007 и ГОСТ 1173-2006 5) Контролировать размеры на соответствие, согласно сопроводительной документации. | G27: Штангенциркуль ГОСТ 166-89 Рулетка ГОСТ 7502-98 Ультразвуковой толщиномер ТУЗ-1 | H27: 1.Сертификат (паспорт) качества с указанием химического состава, требования значения ударной вязкости. 2.Подлинность сертификата качества подтверждается синей печатью завода-изготовителя и может быть проверена на сайте завода-изготовителя в разделе «Проверка сертификатов».
A28: Листы и плиты медные | B28: ГОСТ 1173-2006
A29: Прокат листовой горячекатаный | B29: ГОСТ 19903-2015 | D29: 1);2);3); 4) Внешний осмотр: на поверхности не допускаются плены, сквозные разрывы, пузыри, вздутия, порезы, надрывы, вкатанные окалины, металлические инородные частицы, коррозия если при контрольной зачистке выводят за предельные отклонения размеров. Предельные отклонения по ширине проката с обрезной кромкой, не должны превышать: +5 мм - при ширине до 1000 мм включ.; +10 мм - при ширине свыше 1000 мм. Предельные отклонения по ширине проката с необрезной кромкой, не должны превышать: +20 мм - при ширине до 1000 мм включ.; +30 мм - при ширине свыше 1000 мм. Предельные отклонения по длине проката S до 3,9 мм вкл. L до 1500 мм вкл. +10,0 мм L свыше 1500 мм +15,0 мм S= 3,9-16 мм L до 2000 мм вкл. +10,0 мм L 2000-6000 мм +25,0 мм L свыше 6000 мм +35,0 мм S= 16-60 мм L до 3000 мм вкл. +15,0 мм L 3000-6000 мм +25,0 мм L свыше 6000 мм +40,0 мм S= 60-100 мм Для всех длин +50,0 мм S= 100-160 мм Для всех длин +75,0 мм Предельные отклонения по толщине проката по ГОСТ 19903-2015 Толщину проката измеряют на: - листах - на расстоянии не менее 40 мм от кромок и не менее 100 мм от торцов; - рулонах - на расстоянии не менее 40 мм от кромок и не менее 2 м от конца рулона. Отклонения от плоскостности** на 1 м длины проката: Особо высокой S=0,4-3,9 мм - 8 мм S= свыше 3,9 мм – 5 мм Высокий S=0,4-3,9 мм -10 мм S= свыше 3,9 мм – 8 мм Улучшеной S=0,4-1,4 мм – 15 мм S=1,4-3,9 мм – 12 мм S= свыше 3,9 мм – 10 мм Нормальной S=0,4-1,4 мм – 20 мм S=1,4-3,9 мм – 15 мм S= свыше 3,9 мм – 12 мм 5) Контролировать размеры на соответствие, согласно сопроводительной документации. | G29: Штангенциркуль ГОСТ 166-89 Рулетка ГОСТ 7502-98 Ультразвуковой толщиномер ТУЗ-1 ** Визуальный осмотр При выявлении несоответствия в производстве произвести контроль согласно ТИ-513И Линейка измерительная металлическая ГОСТ 427-75 | H29: 1.Сертификат (паспорт) качества с указанием химического состава, требования значения ударной вязкости. 2.Подлинность сертификата качества подтверждается синей печатью завода-изготовителя и может быть проверена на сайте завода-изготовителя в разделе «Проверка сертификатов».
A31: Прокат листовой холоднокатаный | B31: ГОСТ 19904-90 | D31: 1);2);3); 4) Внешний осмотр: на поверхности не допускаются плены, сквозные разрывы, пузыри, вздутия, порезы, надрывы, вкатанные окалины, металлические инородные частицы, коррозия если при контрольной зачистке выводят за предельные отклонения размеров Предельные отклонения по ширине проката с обрезной кромкой, прокатанного полистно, не должны превышать, мм: +6 - при ширине до 1000 мм; +10 - при ширине св. 1000 до 1500 мм; +15 - при ширине св. 1500 мм. +10 - при длине листов до 1500 мм; +15 - при длине листов св. 1500 мм Предельные отклонения по толщине проката по ГОСТ 19904-90 Толщину проката измеряют на: - листах - на расстоянии не менее 40 мм от кромок и не менее 100 мм от торцов; - рулонах - на расстоянии не менее 40 мм от кромок и не менее 2 м от конца рулона. Предельные отклонения от плоскостности** листов на 1 м длины не должны превышать значений: При ширине до 1000 мм особо высокая – 4 мм высокая – 8 мм улучшенная – 10 мм нормальная – 12 мм При ширине 1000-1500 мм особо высокая – 5 мм высокая – 8 мм улучшенная – 12 мм нормальная – 15 мм При ширине свыше 1500 мм особо высокая – 6 мм высокая – 10 мм улучшенная – 15 мм нормальная – 18 мм 5) контролировать Адгезию на 1 окрашенном листе из партии. 6) Контролировать размеры на соответствие, согласно сопроводительной документации. | G31: Штангенциркуль ГОСТ 166-89 Рулетка ГОСТ 7502-98 Ультразвуковой толщиномер ТУЗ-1 Лупа ГОСТ 25706-83 Адгезиметр-решетка Константа-АР2 Нож канцелярский ** Визуальный осмотр При выявлении несоответствия в производстве произвести контроль согласно ТИ-513И Линейка измерительная металлическая ГОСТ 427-75 Штангенглубиномер ГОСТ 162-90 | H31: 1.Сертификат (паспорт) качества с указанием химического состава, требования значения ударной вязкости. 2.Подлинность сертификата качества подтверждается синей печатью завода-изготовителя и может быть проверена на сайте завода-изготовителя в разделе «Проверка сертификатов».
A32: Листы стальные с ромбическим и чечевичным рифлением | B32: ГОСТ 8568-77 | D32: 1);2);3); 4)Внешний осмотр: На поверхности листов не должно быть прокатных и слиточных плен, раковин-вдавов, раковин от окалины, раскатанных пузырей, трещин и загрязнений. На кромках листов не должно быть расслоений На поверхности листов допускаются рябизна, окалина, ржавчина, отпечатки, отдельные плены, глубина залегания которых не превышает предельных отклонений по толщине. +20 мм - при ширине до 1000 мм включ.; +30 мм - при ширине свыше 1000 мм. Предельные отклонения по длине проката S до 3,9 мм вкл. L до 1500 мм вкл. +10,0 мм L свыше 1500 мм +15,0 мм S= 3,9-16 мм L до 2000 мм вкл. +10,0 мм L 2000-6000 мм +25,0 мм L свыше 6000 мм +35,0 мм S= 16-60 мм L до 3000 мм вкл. +15,0 мм L 3000-6000 мм +25,0 мм L свыше 6000 мм +40,0 мм S= 60-100 мм Для всех длин +50,0 мм S= 100-160 мм Для всех длин +75,0 мм Предельные отклонения по толщине проката по ГОСТ 8568-77 Высота рифлей на листах должна быть 10-30% толщины основания листа, но не менее 0,5 мм. По требованию потребителя листы толщиной основания 5 мм и более должны иметь высоту рифлений не менее 1,0 мм. Отклонения от плоскостности** на 1 м длины проката: Особо высокой S=0,4-3,9 мм - 8 мм S= свыше 3,9 мм – 5 мм Высокий S=0,4-3,9 мм -10 мм S= свыше 3,9 мм – 8 мм Улучшеной S=0,4-1,4 мм – 15 мм S=1,4-3,9 мм – 12 мм S= свыше 3,9 мм – 10 мм Нормальной S=0,4-1,4 мм – 20 мм S=1,4-3,9 мм – 15 мм S= свыше 3,9 мм – 12 мм 5) Контролировать размеры на соответствие, согласно сопроводительной документации | G32: Штангенциркуль ГОСТ 166-89 Рулетка ГОСТ 7502-98 Ультразвуковой толщиномер ТУЗ-1 ** Визуальный осмотр При выявлении несоответствия в производстве произвести контроль согласно ТИ-513И Линейка измерительная металлическая ГОСТ 427-75 | H32: 1.Сертификат (паспорт) качества с указанием химического состава, требования значения ударной вязкости. 2.Подлинность сертификата качества подтверждается синей печатью завода-изготовителя и может быть проверена на сайте завода-изготовителя в разделе «Проверка сертификатов».
A34: Прокат сортовой стальной горячекатаный полосовой | B34: ГОСТ 103-2006 | D34: 1);2);3); 4) Внешний осмотр: на поверхности не допускаются плены, сквозные разрывы, пузыри, вздутия, порезы, надрывы, вкатанные окалины, металлические инородные частицы, коррозия если при контрольной зачистке выводят за предельные отклонения по толщине Предельные отклонения по ширине проката для повышенной точности: От 10 до 60 включ. +0,3, -0,9 Св. 60 до 65 включ. +0,3, -1,1 Св. 65 до 75 включ. +0,3, -1,3 Св. 75 до 85 включ. +0,5, -1,4 Св. 85 до 95 включ +0,6, -1,6 Св. 95 до 105 включ. +0,7, -1,8 Св. 105 до 110 включ. +0,8, -2,0 Св. 110 до 125 включ. +0,9, -2,2 Св. 125 до 150 включ. +1,0, -2,4 Св. 150 до 180 включ. +1,2, -2,5 Св. 180 до 200 включ. +1,4, -2,8 для обычной точности: От 10 до 60 включ. +0,5, -1,0 Св. 60 до 65 включ. +0,5, -1,3 Св. 65 до 75 включ. +0,5, -1,4 Св. 75 до 85 включ +0,7, -1,6 Св. 85 до 95 включ. +0,9, -1,8 Св. 95 до 105 включ. +1,0, -2,0 Св. 105 до 110 включ. +1,0, -2,2 Св. 110 до 125 включ. +1,1, -2,4 Св. 125 до 150 включ. +1,2, -2,8 Св. 150 до 180 включ. +1,4, -3,2 Св. 180 до 200 включ. +1,7, -4,0 Предельные отклонения по толщине проката для повышенной точности: От 4 до 6 включ. (+0,2, -0,3) мм Св. 6 до 16 включ. (+0,2, -0,4) мм Св. 16 до 20 включ.(+0,2, -0,6) мм Св. 20 до 32 включ. (+0,2, -0,7)мм Св. 32 до 40 включ (+0,2, -1,0)мм Св. 40 до 50 включ. (+0,2, -1,5)мм Св. 50 (+0,2, -1,8) мм для обычной точности: От 4 до 6 включ. (+0,2, -0,3) мм Св. 6 до 16 включ. (+0,2, -0,4) мм Св. 16 до 20 включ.(+0,2, -0,6) мм Св. 20 до 32 включ. (+0,2, -0,7)мм Св. 32 до 40 включ (+0,2, -1,0)мм Св. 40 до 50 включ. (+0,2, -1,5)мм Св. 50 (+0,2, -1,8) мм Предельные отклонения на изготовляемую длину проката: До 4 м вкл. - +30 мм Св. 4 м до 6 м вкл. - +50 мм Св.6 м до 12 м вкл. - +70 мм Отклонение от прямого угла для проката шириной от 10 до 200 мм включительно не должно превышать значений: S=40мм – 1мм S=40-80мм – 1,5мм Отклонение от плоскостности** проката До 12 мм – не нормируется и не контролируется Св. 12 мм до 36 мм вкл.- 20 мм Св 36 мм до 80 мм вкл. – 10 мм 5) Контролировать размеры на соответствие, согласно сопроводительной документации. | G34: Штангенциркуль ГОСТ 166-89 Рулетка ГОСТ 7502-98 Ультразвуковой толщиномер ТУЗ-1 ** Визуальный осмотр При выявлении несоответствия в производстве произвести контроль согласно ТИ-513И Линейка измерительная металлическая ГОСТ 427-75 | H34: 1.Сертификат (паспорт) качества с указанием химического состава, требования значения ударной вязкости. 2.Подлинность сертификата качества подтверждается синей печатью завода-изготовителя и может быть проверена на сайте завода-изготовителя в разделе «Проверка сертификатов».
A37: Трубы стальные бесшовные горячедеформированные. | B37: ГОСТ 8732-78 ГОСТ 8731-74 | D37: 1);2);3); 4) Внешний осмотр: на поверхности труб не допускаются трещины, плены, крупные раковины, рванины и закаты. Допускаются отдельные незначительные забоины, раковины, следы ржавчины, вмятины, риски, тонкий слой окалины, следы зачистки дефектов и мелкие плены, если они не выводят толщину стенки за пределы минусовых отклонений. Предельные отклонения по длине труб мерной длины и длины, кратной мерной, не должны превышать: +10 мм - при длине до 6 м; +15 мм - при длине свыше 6 м ±500 мм - для приблизительной длины Предельные отклонения по наружному диаметру для Обычной точности: До 50 мм вкл. - ±0,5 мм Св. 50 до 219 мм вкл. – 1,0% Св. 219 мм - ±1,25% Повышенной точности: До 50 мм вкл. - ±0,5 мм Св. 50 до 219 мм вкл. – 0,8% Св. 219 мм - ±1,0% Предельные отклонения по толщине стенки труб: До 15 мм вкл. – (+12% , -15,0%) мм Св. 15 мм до 30 мм - ±12,5% мм 30 мм и выше – (+10% , -12,5%) мм Кривизна** любого участка трубы на 1 м: 1,5 мм - для труб с толщиной стенки до 20 мм; 2,0 мм - для труб с толщиной стенки свыше 20 до 30 мм; 4,0 мм - для труб с толщиной стенки свыше 30 мм Овальность и разностенность труб не должны выводить размер труб за предельные отклонения по диаметру и толщине стенки 5) Провести испытания на ударную вязкость** (таблица 1) 6) Контролировать диаметр и длину на соответствие, согласно сопроводительной документации. 7) Обязательная проверка и контроль марки стали. Требование по ударной вязкости для труб 426х50,430х50 09Г2С при толщине стенки более 25 мм KCU -60°C не ниже 39,2 Дж/см2 (3,92 кгс*м/см2 Для Ст.20 KCU -40C не ниже 30 Дж/см2 (3,0кгс*см2). | G37: Штангенциркуль ГОСТ 166-89 Рулетка ГОСТ 7502-98 Микрометр ГОСТ 6507-90 Толщиномеры и стенкомеры индикаторные ГОСТ 11358-89 ** Визуальный осмотр При выявлении несоответствия в производстве произвести контроль согласно ТИ-513И Линейка измерительная металлическая ГОСТ 427-75 | H37: 1.Сертификат (паспорт) качества с указанием химического состава, требования значения ударной вязкости. 2.Подлинность сертификата качества подтверждается синей печатью завода-изготовителя и может быть проверена на сайте завода-изготовителя в разделе «Проверка сертификатов».
A39: Трубы стальные бесшовные холоднодеформи-рованные. | B39: ГОСТ 8734-75 | D39: 1);2);3); 4) Внешний осмотр: на поверхности труб не допускаются трещины, плены, крупные раковины, рванины и закаты. Допускаются отдельные незначительные забоины, раковины, следы ржавчины, вмятины, риски, тонкий слой окалины, следы зачистки дефектов и мелкие плены, если они не выводят толщину стенки за пределы минусовых отклонений. Предельные отклонения по наружному диаметру: Dн = 4-10 мм - ±0,15 мм Dн = 10-30 мм - ±0,30 мм Dн = 30-50 мм - ±0,40 мм Dн = свыше 50 мм - ±0,8% Предельные отклонения по толщине стенки: S до 1 мм - ±0,12 мм S= 1-5 мм - ±10% При диаметре 110 мм и более S= 1-2,5 мм - ±12% S= свыше 2,5 мм - ±8% Овальность и разностенность труб не должны выводить их размеры за предельные отклонения соответственно по наружному диаметру и толщине стенки Кривизна** любого участка трубы на 1 м длины не должна превышать: 3 мм - для труб диаметром от 4 до 8 мм; 2 мм - для труб диаметром от 8 до 10 мм; 1,5 мм - для труб диаметром свыше 10 мм. 5) Провести испытания на ударную вязкость** (таблица 1) 6) Контролировать диаметр и длину на соответствие, согласно сопроводительной документации 7) Обязательная проверка и контроль марки стали. | G39: Штангенциркуль ГОСТ 166-89 Рулетка ГОСТ 7502-98 Микрометр ГОСТ 6507-90 Толщиномеры и стенкомеры индикаторные ГОСТ 11358-89 ** Визуальный осмотр При выявлении несоответствия в производстве произвести контроль согласно ТИ-513И Линейка измерительная металлическая ГОСТ 427-75 | H39: 1.Сертификат (паспорт) качества с указанием химического состава, требования значения ударной вязкости. 2.Подлинность сертификата качества подтверждается синей печатью завода-изготовителя и может быть проверена на сайте завода-изготовителя в разделе «Проверка сертификатов».
A40: Трубы стальные водогазопроводные. | B40: ГОСТ 3262-75 | D40: 1);2);3); 4) Внешний осмотр: На поверхности труб не допускаются трещины, плены, вздутия и закаты. На торцах труб не допускаются расслоения. Допускаются отдельные вмятины, рябизна, риски, следы зачистки и другие дефекты, обусловленные способом производства, если они не выводят толщину стенки за минимальные размеры, а также слой окалины, не препятствующий осмотру. Предельные отклонения по размерам труб: Обычной точности: Наружный диаметр с условным проходом: До 40 мм вкл. – (+0,4, -0,5) мм Свыше 40 мм – (+0,8%, -1,0) мм Толщина стенки - ‒15% Для повышенной точности Наружный диаметр с условным проходом: До 40 мм вкл. – ±0,4 мм Свыше 40 мм – ±0,8% мм Толщина стенки - ‒10% Кривизна** труб на 1 м длины не должна превышать: 2 мм - с условным проходом до 20 мм включительно; 1,5 мм - с условным проходом свыше 20 мм 5) Контролировать размеры на соответствие, согласно сопроводительной документации. | G40: Штангенциркуль ГОСТ 166-89 Рулетка ГОСТ 7502-98 Микрометр ГОСТ 6507-90 Толщиномеры и стенкомеры индикаторные ГОСТ 11358-89 ** Визуальный осмотр При выявлении несоответствия в производстве произвести контроль согласно ТИ-513И Линейка измерительная металли | H40: 1.Сертификат (паспорт) качества с указанием химического состава, требования значения ударной вязкости. 2.Подлинность сертификата качества подтверждается синей печатью завода-изготовителя и может быть проверена на сайте завода-изготовителя в разделе «Проверка сертификатов».
A41: Профили стальные гнутые замкнутые | B41: ГОСТ 30245-2003 | D41: 1);2);3); 4) Внешний осмотр: не допускаются трещины, плены, рванины, крупные раковины, расслоение и закаты на поверхности основного металла труб. Предельные отклонения по толщине стенки профилей должны соответствовать предельным отклонениям по толщине проката листового по ГОСТ 19903-2015. Предельные отклонения по толщине не распространяются на места изгиба. Предельные отклонения по высоте и ширине профиля: при высоте и ширине до 100мм ±1,0% но не менее ±0,5мм при высоте и ширине свыше 100мм ±0,8% Предельные отклонения по длине профилей мерной и кратной мерной длины не должны быть более +60,0 мм Кривизна** любого участка трубы на 1м длины не должна превышать 2мм 5)Контролировать: размеры, согласно сопроводительной, документации | G41: Штангенциркуль ГОСТ 166-89 Рулетка ГОСТ 7502-98 Толщиномеры и стенкомеры индикаторные ГОСТ 11358-89 ** Визуальный осмотр При выявлении несоответствия в производстве произвести контроль согласно ТИ-513И Линейка измерительная металлическая ГОСТ 427-75 | H41: 1.Сертификат (паспорт) качества с указанием химического состава, требования значения ударной вязкости. 2.Подлинность сертификата качества подтверждается синей печатью завода-изготовителя и может быть проверена на сайте завода-изготовителя в разделе «Проверка сертификатов».
A42: Трубы стальные квадратные | B42: ГОСТ 8639-82 | D42: 1);2);3); 4) Внешний осмотр: не допускаются трещины, плены, рванины, крупные раковины, расслоение и закаты на поверхности основного металла труб. Незначительные забоины, риски, раковины, следы ржавчины, рябизна и окалина допускаются (на 2 м длины трубы не более двух дефектов 30х30 мм), если они не выводят толщину стенки за пределы минусовых отклонений. Исправление поверхностных дефектов основного металла сваркой не допускается. Допускается исправление поверхностных дефектов зачисткой, при этом следы зачистки не должны выводить толщину стенки трубы за пределы минусовых отклонений. Наружные размеры: Для горячедеформированных труб - ±1,5 % Для холоднодеформированных труб До 30 мм - ±0,3 мм От 30 мм до 50 мм - ±0,4 мм Свыше 50 мм - ±0,8 мм Толщина стенки: Для горячедеформированных труб – (+12,5%, -15,0%) мм Для холоднодеформированных труб - ±12,5 % Кривизна** любого участка трубы на 1м длины не должна превышать 2мм 5)Контролировать:размеры, согласно сопроводительной, документации | G42: Штангенциркуль ГОСТ 166-89 Рулетка ГОСТ 7502-98 Толщиномеры и стенкомеры индикаторные ГОСТ 11358-89 ** Визуальный осмотр При выявлении несоответствия в производстве произвести контроль согласно ТИ-513И Линейка измерительная металлическая ГОСТ 427-75 | H42: 1.Сертификат (паспорт) качества с указанием химического состава, требования значения ударной вязкости. 2.Подлинность сертификата качества подтверждается синей печатью завода-изготовителя и может быть проверена на сайте завода-изготовителя в разделе «Проверка сертификатов».
A43: Трубы стальные прямоугольные | B43: ГОСТ 8645-68
A45: Проволока стальная низкоуглеродистая общего назначения. | B45: ГОСТ 3282-74 | D45: 1);2);3); 4) Внешний осмотр: Поверхность проволоки без покрытия не должна иметь трещин, плен, закатов и окалины (за исключением термически обработанной черной проволоки). На поверхности оцинкованной проволоки не должно быть мест, не покрытых цинком, черных пятен. Предельное отклонение по диаметру проволоки: Нормальной точности d=0,16-0,25 мм - ‒0,02 мм d= 0,28-0,36 мм - ‒0,03 мм d= 0,37-0,60 мм - ‒0,04 мм d= 0,63-1,00 мм - ‒0,05 мм d= 1,10-1,20 мм - ‒0,06 мм d= 1,30-2,00 мм - ‒0,10 мм d= 2,20-3,20 мм - ‒0,12 мм d= 3,50-6,00 мм - ‒0,16 мм d= 6,30-10,00 мм - ‒0,20 мм Повышенной точности d=0,16-0,25 мм - ‒0,02 мм d= 0,28-0,40 мм - ‒0,03 мм d= 0,45-1,00 мм - ‒0,04 мм d= 1,10-1,60 мм - ‒0,05 мм d= 1,80-2,50 мм - ‒0,06 мм d= 2,80-10,00- мм - ‒0,10 мм Овальность проволоки не должна превышать половины предельных отклонений по диаметру 5) Контролировать массу партии, согласно сопроводительной, документации. | G45: Микрометр ГОСТ 6507-90 Штангенциркуль ГОСТ 166-89 | H45: 1.Сертификат (паспорт) качества с указанием химического состава, требования значения ударной вязкости. 2.Подлинность сертификата качества подтверждается синей печатью завода-изготовителя и может быть проверена на сайте завода-изготовителя в разделе «Проверка сертификатов».
A46: Проволока стальная легированная пружинная. | B46: ГОСТ 14963-78 | D46: 1);2);3); 4) Внешний осмотр: Поверхность проволоки без покрытия не должна иметь трещин, плен, закатов и окалины Овальность проволоки не должна превышать половины предельных отклонений по диаметру. Предельное отклонение по диаметру проволоки: Нормальной точности d=0,50-0,60 мм - ±0,02 мм d= 0,63-1,00 мм – (+0,03, -0,02)мм d= 1,10-3,00 мм - ±0,03 мм d= 3,20-6,00 мм - ±0,04 мм d= 6,20-10,00 мм - ±0,05мм d= 11,00-14,00 мм - ±0,06 мм Повышенной точности d=0,50-0,60 мм – (+0,015, -0,01)мм d= 0,63-1,00 мм – (+0,02, -0,01)мм d= 1,10-3,00 мм - ±0,02 мм d= 3,20-6,00 мм – (+0,03, -0,02)мм d= 6,20-10,00 мм - ±0,03мм d= 11,00-14,00 мм – (+0,04, -0,03)мм 5) Контролировать массу партии, согласно сопроводительной, документации. | G46: Микрометр ГОСТ 6507-90 Штангенциркуль ГОСТ 166-89 | H46: 1.Сертификат (паспорт) качества с указанием химического состава, требования значения ударной вязкости. 2.Подлинность сертификата качества подтверждается синей печатью завода-изготовителя и может быть проверена на сайте завода-изготовителя в разделе «Проверка сертификатов».
A47: Сетки проволочные тканые с квадратными ячейками. 1-0,63-0,25; 2-1,4-0,45; 2-1,6-0,32; 2-3,2-0,50; 2-10,0-2,0 | B47: ГОСТ 3826-82 | D47: 1);2) 3) Внешний осмотр: сетки не должны иметь механических повреждений, перегибов, разорванных и сшитых мест. Допускается сращивание концов проволоки, перегиб в начале куска сетки, ткацкие дефекты в виде галочек, петель, скруток в количестве не более двух на 1 м2 сетки, изменяющих правильность формы ячеек для сеток группы 2 всех номеров и группы 1 сеток от № 04 до № 4,5 и не более одного на 1 м2 для сеток группы 1 от № 5 до № 20. | G47: Для сеток номеров 004 - 045 - микроскопом с окулярмикрометром при увеличении 50 - 120´ с ценой деления шкалы 0,001 мм; для сеток номеров 05 - 2,5 - микроскопом при увеличении 24 - 40´ с ценой деления шкалы 0,01 - 0,05 мм. Штангенциркуль ГОСТ 166-89 | H47: Сертификат качества с указанием химического состава
A48: Профили стальные листовые гнутые с трапециевидными гофрами | B48: ГОСТ 24045-2016 | D48: 1);2);3); 4)Внешний осмотр: На поверхности цинкового или лакокрасочного покрытия профилей допускаются потертости, риски, следы формообразующих валков, не нарушающие сплошности покрыти Предельные отклонения по высоте профиля ±1,0мм - при высоте профиля 8-19 мм; ±1,5мм - при высоте профиля 20-59 мм; ±2,0мм - при высоте профиля 60-74 мм; ±2,5,0мм - при высоте профиля 75-160 мм Предельные отклонения по ширине ±8,0мм - при высоте профиля 8-74 мм; ±15,0мм - при высоте профиля 75-160 мм Предельные отклонения по длине +2,0мм - при длине листов до 6000 мм; +6,0 мм - при длине листов св. 6000мм 5) Контролировать размеры на соответствие, согласно сопроводительной документации. | G48: Штангенциркуль ГОСТ 166-89 Рулетка ГОСТ 7502-98 При выявлении несоответствия в производстве произвести контроль согласно ТИ-513И | H48: 1.Сертификат (паспорт) качества с указанием химического состава, требования значения ударной вязкости. 2.Подлинность сертификата качества подтверждается синей печатью завода-изготовителя и может быть проверена на сайте завода-изготовителя в разделе «Проверка сертификатов».
A49: Поковки: II группа | B49: ГОСТ 8479-70, ГОСТ 7566-2018 | D49: 1) Внешний осмотр: - наличие трещин - наличие Маркировки с указанием: -номер группы, клеймо ОТК, номер чертежа детали, номер плавки, марки стали или ее условное обозначение с указанием расшифровки в документе о качестве, номер поковки (Для поковок массой до 10 кг допускается маркировка партии на бирке). 2) Контролировать: размеры, согласно сопроводительной, документации | G49: Штангенциркуль ГОСТ 166-89 Рулетка ГОСТ 7502-98 | H49: 1) Сертификат качества с указанием: - наименование или товарный знак предприятия-изготовителя; - номер заказа; - количество поковок в партии и их масса (для V группы - номер поковки); -номер чертежа; - марка стали и обозначение стандарта или технических условий; - химический состав; - номер плавки; - группа поковок; - нормы твердости для поковки II и III групп и обозначение настоящего стандарта; - вид термической обработки; - результаты испытаний; 2) Сертификат на материал 3) Сертификат качества ( с указанием: - наименование или товарный знак предприятия-изготовителя; - номер заказа; - количество поковок в партии и их масса (для V группы - номер поковки); -номер чертежа; - марка стали и обозначение стандарта или технических условий; - химический состав; - номер плавки; - группа поковок; - категория прочности, - обозначение настоящего стандарта; - вид термической обработки; - результаты испытаний (Испытаний на растяжение; Ударная вязкость)
A50: Поковки: III группа | G50: Штангенциркуль ГОСТ 166-89 Рулетка ГОСТ 7502-98
A51: Поковки: IV группа | G51: Штангенциркуль ГОСТ 166-89 Рулетка ГОСТ 7502-98
A52: Поковки: V группа | B52: ГОСТ 8479-70 ГОСТ 7566-2018 | D52: 1) Внешний осмотр: - наличие трещин - наличие Маркировки с указанием: -номер группы, клеймо ОТК, номер чертежа детали, номер плавки, марки стали или ее условное обозначение с указанием расшифровки в документе о качестве, номер поковки (Для поковок массой до 10 кг допускается маркировка партии на бирке). 2) Контролировать: размеры, согласно сопроводительной, документации 3) Хим. состав | G52: Штангенциркуль ГОСТ 166-89 Рулетка ГОСТ 7502-98
A56: Примечание- при поставке проката по ТУ проверять геометрию согласно данного документа
A57: *- Пределы и класс точности применяемых средств измерений указан в таблице 2
A58: **- При выявлении несоответствия в производстве произвести контроль согласно ТИ-513И. Производить измерения и испытания при поступлении материала в производство
A60: Требования к верификации продукции по результатам входного контроля:
A61: Отметка о результате входного контроля наносится на ярлык по форме Приложения Г к СТО ИС СМК 8.4.03 (принято/не принято) с подтверждением подписью и Ф.И.О. сотрудника, осуществляющего приемку, либо на тару/упаковку наносится клеймо, подтверждающее положительный результат приемки.
A63: Таблица 1. Требования по ударной вязкости
A64: Номинальная толщина стенки (δ), мм | B64: Минимальные значения,
B65: замеренные на образцах Менаже (KCU тип 1-3 по ГОСТ 9454-78) при температуре равной минус 60°С.
B66: KCU-60°C, Дж/см2 (кгс*м/см2)
B67: ДЛЯ ОСНОВНОГО МЕТАЛЛА | D67: ДЛЯ СВАРНЫХ СОЕДИНЕНИЙ
B68: ТРУБЫ | C68: ДЕТАЛИ | D68: ТРУБЫ | E68: ДЕТАЛИ
A69: 1 | B69: 2 | C69: 3 | D69: 4 | E69: 5
A70: δ ≤ 15 | B70: 39,2 (4,0) | D70: 39,2 (4,0)
A71: 15 < δ ≤ 25 | B71: 49,0 (5,0) | C71: 39,2 (4,0)
A72: 25 < δ ≤ 30 | B72: 58,8 (6,0)
A73: Примечание: 1.Величина ударной вязкости определяется как среднее арифметическое значение по результатам испытаний трех образцов. На одном образце допускается снижение ударной вязкости на 9,8 Дж/см2 (1 кгс·м/см2).
A74: 2.В сертификате качества на марки стали 09Г2С, 13ХФА, 12Х18Н10Т и др. должно быть значение ударной вязкости на -60*.
A77: Таблица 1а - Нормируемые показатели ударной вязкости проката для хладостойких (09Г2С, 13ХФА, 10Г2 и др.) строительных металлоконструкций – профильная труба, швеллеры, уголок, лист, круг
A80: Расчетная температура, °С | B80: Группа конструк- | C80: Нормативное сопротивление стали, Н/мм
B81: ций
C82: <290 | E82: 290 <390 | G82: 390 <440 | I82: 440 <540 | K82: 540
C84: Показатели ударной вязкости KCV, Дж/см
C86: при температуре испытаний на ударный изгиб, °С
C87: 20 | D87: 0 | E87: -20 | F87: -40 | G87: -40 | H87: -60 | I87: -40 | J87: -60 | K87: -60
A88: -45 | B88: 1, 2, 3 | C88: - | D88: 34 | E88: 34 | F88: + | G88: 34 | H88: + | I88: 66/34 | J88: 40 | K88: 66
B90: 4 | C90: + | D90: 34 | E90: + | F90: + | G90: + | H90: + | I90: + | J90: + | K90: -
A93: -45> -55 | B93: 1 | C93: - | D93: - | E93: - | F93: 34 | G93: 34 | H93: + | I93: 66/34 | J93: + | K93: 66
B95: 2, 3 | C95: - | D95: 34 | E95: 34 | F95: + | G95: 34 | H95: + | I95: 66/34 | J95: + | K95: 66
B98: 4 | C98: - | D98: 34 | E98: 34 | F98: + | G98: + | H98: + | I98: + | J98: + | K98: -
A101: -55 | B101: 1, 2, 3 | C101: - | D101: - | E101: - | F101: 34 | G101: - | H101: 34 | I101: - | J101: 66/34 | K101: 66
B103: 4 | C103: - | D103: - | E103: 34 | F103: + | G103: + | H103: + | I103: + | J103: + | K103: -
A106: Где - предел текучести стали, принимаемый равным значению предела текучести по национальным стандартам и техническим условиям на сталь (см.класс/группа прочности в сертификате на прокат); Для справок в измерительных установках: Расчетную температуру хладостойких металлоконструкций (столбец 1) принять равной -55 . Группа металлоконструкций конструкций (столбец 2) – 2. Знак " - " означает, что применение стали с такими гарантиями не допускается; знак " + " - допускается использовать фактические результаты механических свойств в поставленной партии проката при нормативных значениях KCV , KCV , KCV 34 Дж/см и для сталей с 440 Н/мм при KCV , KCV 66/34 Дж/см . _______________ Нормы устанавливаются на основании испытаний на ударный изгиб образцов с острым V-образным надрезом проката с толщиной не менее 5 мм и труб с толщиной стенки не менее 5 мм. В случае толщины элемента менее 5 мм, проведение испытаний не требуется. Применяются стали С235 без гарантий по ударной вязкости. Для сооружений с ограниченным сроком службы и пребыванием в них людей. Числитель - нормативные значения для листовой стали и труб; знаменатель - для фасонного проката. В листовом прокате испытываются поперечные образцы, в широкополосном универсальном, фасонном, сортовом прокате, в трубах и профилях - продольные.
A119: Таблица 2. Перечень средств измерений металлопродукции
A120: Средства измерений | B120: Единица измерений | C120: Диапазон измерения | D120: Класс точности, погрешность
A121: Рулетки измерительные металлические по ГОСТ 7502-98 | B121: м | C121: От 1 до 30 | D121: Кл. 2:
D123: Кл. 3:
D125: где
D126: - длина, м.
A127: Штангенциркули типов I, II, III по ГОСТ 166-89 | B127: мм | C127: От 0 до 1600 | D127: От ±0,03 до ±0,20
A128: Штангенглубиномеры по ГОСТ 162-90 | B128: мм | C128: От 0 до 400 | D128: От ±0,03 до ±0,10
A129: Штангенрейсмасы по ГОСТ 164-90 | B129: мм | C129: От 0 до 1000 | D129: От ±0,03 до ±0,10
A130: Линейки измерительные металлические по | B130: мм | C130: От 0 до 1000 | D130: От ±0,10 до ±0,20
A131: ГОСТ 427-75
A132: Щупы ТУ 3936-011-59489947-2007 | B132: мм | C132: 0,02-1,00 | D132: Кл. 2
A133: Угольники поверочные по ГОСТ 3749-77 | B133: мм | C133: От 60 до 630 | D133: Кл. 2
A134: Угломеры с нониусом по ГОСТ 5378-88 | B134: градус | C134: Наружных углов: от 0° до 360° | D134: ±2’; +5’; ±10’
C135: Внутренних углов: от 40° до 180°
A136: Толщиномеры и стенкомеры индикаторные типов ТР-10, ТР-25Б, ТР-50Б, С-10Б, С-25, С-50 по ГОСТ 11358 | B136: мм | C136: От 0 до 50 | D136: От ±0,018 до ±0,15
A137: Микрометры по ГОСТ 6507-90 типов МК | B137: мм | C137: От 0 до 600 | D137: Кл. 2
A138: Уровни строительные магнитные ГОСТ Р 58514-2019 | B138: мм | C138: От 0 до 1200 | D138: ± (0,6 – 8,7) мм/м
A142: ='[1]Общие требования'!A10 -> Примечание: Данный перечень не является исчерпывающим. Покупатель вправе запросить иные документы, не запрещенные действующим законодательством.

Sheet ЛКМ
A1: Лакокрасочные материалы (ЛКМ)
A2: Наименование изделия | B2: НД, требованиям которой должны соответствовать изделия | C2: Использование на каких изделиях | D2: Контролируемые параметры (в том числе специальные требования заказчика) | G2: Оборудование | H2: Необходимая разрешительная и сопроводительная документация
A6: 1 | B6: 2 | C6: 3 | D6: 4 | F6: 6 | G6: 7 | H6: 8
A7: Все виды | B7: Смотри ниже | C7: Изделия, выпускаемые АО «ОЗНА-Измерительные системы» | D7: 1) Проверить наличие документации от поставщика по требованиям, указанным в столбце 8. 2) Проверить наличие этикеток (бирок) с указанием марки материала. 3) Сверить сертификат (паспорт) качества с биркой на таре. 4) Проверить целостность упаковки изделий, поставляемых в таре. 5) Проверить срок годности. * 6) Сверить обозначение RAL в документации с этикеткой (биркой) на таре, номер партии. | G7: Контроль документации и обозначения на таре | H7: 1) Паспорт безопасности 2) Сертификат качества 3) Санитарно-эпидемиологическое заключение
A8: 1. Грунт PROZINC PU PRIMER | B8: Инструкция завода-изготовителя | D8: 12 мес.** | G8: Контроль документации и обозначения на таре
A9: 2. Разбавитель Р-4 | B9: ГОСТ 7827-74 | D9: 36 мес. ** | G9: Контроль документации и обозначения на таре
A10: 3. Разбавитель | B10: Инструкция завода-изготовителя | D10: 36 мес. ** | G10: Контроль документации и обозначения на таре
A11: PROCORE
A12: UNIVERSAL
A13: THINNER
A14: 4. Обезжириватель | B14: Инструкция завода-изготовителя | D14: 36 мес. ** | G14: Контроль документации и обозначения на таре
A15: PROCORE
A16: DTGREASER PS651
A17: 5. Сольвент нефтяной | B17: ГОСТ 10214-78 | D17: 5 лет. ** | G17: Контроль документации и обозначения на таре
A18: 6. Растворитель 646 | B18: ГОСТ 18188-2020 | D18: 5 лет. ** | G18: Контроль документации и обозначения на таре
A19: 7. Растворитель ксилол | B19: ГОСТ 9410-78 | D19: 36 мес. ** | G19: Контроль документации и обозначения на таре
A20: 8. Полиуретан. материал с железной слюдкой | B20: Инструкция завода-изготовителя | D20: 12 мес. ** | G20: Контроль документации и обозначения на таре
A21: PROMICA PU BARRIER
A22: 9. Грунт-эмаль PROСOAT АР 259 SC в комплекте с | B22: Инструкция завода-изготовителя | D22: 24 мес. ** | G22: Контроль документации и обозначения на таре
A23: Отвердителем HARDENER 498
A24: 10. Грунт ГФ-021 | B24: ГОСТ 25129-2020 | D24: 6 мес. ** | G24: Контроль документации и обозначения на таре
A25: 11. Грунт ГФ 017 | B25: ТУ6-27-7-89 | D25: 6 мес. ** | G25: Контроль документации и обозначения на таре
A26: 12. HEMPADUR MASTIC | B26: Инструкция завода-изготовителя | D26: 12 мес. ** | G26: Контроль документации и обозначения на таре
A27: 45880
A28: (основа 45889 + отвердитель 95880)
A29: 13. Эмаль HEMPATHANE | B29: Инструкция завода-изготовителя | D29: 12 мес. ** | G29: Контроль документации и обозначения на таре
A30: HS 55610
A31: (основа 55619 + отвердитель 97050)
A32: 14. Эпоксидное покрытие | B32: Инструкция завода-изготовителя | D32: 12 мес. ** | G32: Контроль документации и обозначения на таре
A33: Hempadur 85671
A34: (основа 85675 + отвердитель 97371)
A35: 15. Эмаль HEMPATHANE | B35: Инструкция завода-изготовителя | D35: 12 мес. ** | G35: Контроль документации и обозначения на таре
A36: TOPCOAT 55210
A37: (основа 55619 + отвердитель 95370)
A38: 16. Эпоксидная грунтовка, с содержанием цинка HEMPADUR ZN 17360 (основа 17369 + отвердитель 97040) | B38: Инструкция завода-изготовителя | D38: 12 мес. ** | G38: Контроль документации и обозначения на таре
A41: 17. Грунт-эмаль HEMPATHANE | B41: Инструкция завода-изготовителя | D41: 12 мес. ** | G41: Контроль документации и обозначения на таре
A42: FAST DRY 55750
A43: (основа 55759 + отвердитель 97050)
A44: 18. Двухкомпонентный эпоксидный грунт Barrier 77 Сomp A , | B44: Инструкция завода-изготовителя | D44: 12 мес. ** | G44: Контроль документации и обозначения на таре
A45: Barrier 77 Сomp B.
A46: 19. Двухкомпонентный эпоксидный грунт Barrier 80 Сomp A , | B46: Инструкция завода-изготовителя | D46: 12 мес. ** | G46: Контроль документации и обозначения на таре
A47: Barrier 80 Сomp B.
A49: 20. Двухкомп.покрытие на основе модифиц. эпоксидов | B49: Инструкция завода-изготовителя | D49: 12 мес. ** | G49: Контроль документации и обозначения на таре
A50: Primastic (в комплекте с отвердителем)
A51: 21. Двухкомпонентное эластичное полиуретан. Покрытие Hardtop AS (в комплекте с отвердителем) | B51: Инструкция завода-изготовителя | D51: 12 мес. ** | G51: Контроль документации и обозначения на таре
A52: 22. Грунт Muki Z2001 | B52: Инструкция завода-изготовителя | D52: 12 мес. ** | G52: Контроль документации и обозначения на таре
A53: (в комплекте с отвердителем)
A54: 23. Грунт Jotamastic 87 | B54: Инструкция завода-изготовителя | D54: 12 мес. ** | G54: Контроль документации и обозначения на таре
A55: (в комплекте с отвердителем)
A56: 24. Грунт Jotamastic 87 | B56: Инструкция завода-изготовителя | D56: 12 мес. ** | G56: Контроль документации и обозначения на таре
A57: Aluminium (в комплекте с отвердителем)
A58: 25. Грунт Penguard Express ZP (в комплекте с отвердителем) | B58: Инструкция завода-изготовителя | D58: 12 мес. ** | G58: Контроль документации и обозначения на таре
A59: 26. Hardtop XPF (в комплекте с отвердителем) | B59: Инструкция завода-изготовителя | D59: 12 мес. ** | G59: Контроль документации и обозначения на таре
A60: 27. Разбавитель | B60: Инструкция завода-изготовителя | D60: 24 мес. ** | G60: Контроль документации и обозначения на таре
A61: THINNER 08450, THINNER 08080
A62: 28. Разбавитель | B62: Инструкция завода-изготовителя | D62: 36 мес. ** | G62: Контроль документации и обозначения на таре
A63: Jotun Thinner №4,
A64: Jotun Thinner №17, Jotun Thinner №10
A65: 29. Грунт PROCORE PU 167 PRIMER | B65: Инструкция завода-изготовителя | D65: 12 мес. ** | G65: Контроль документации и обозначения на таре
A67: 30. Грунт PROCORE PU 152 PRIMER | B67: Инструкция завода-изготовителя | D67: 12 мес. ** | G67: Контроль документации и обозначения на таре
A69: 31. Sigmafast 210 HS в комплекте с отвердителем | B69: Инструкция завода-изготовителя | D69: 12 мес. ** | G69: Контроль документации и обозначения на таре
A70: 32. Sigmadur 520 в комплекте с отвердителем | B70: Инструкция завода-изготовителя | D70: 12 мес. ** | G70: Контроль документации и обозначения на таре
A76: 33. Temacoat SPA Primer | B76: Инструкция завода-изготовителя | D76: 12 мес. ** | G76: Контроль документации и обозначения на таре
A77: (Temacoat SPA Primer + отвердитель Hardener 008 5607)
A78: 34. Temathane 50 | B78: Инструкция завода-изготовителя | D78: 12 мес. ** | G78: Контроль документации и обозначения на таре
A79: (Temathane + отвердитель Hardener 008 7620)
A80: 35. Эпоксидное покрытие Тematar TFA (в комплекте с отвердителем №5459) | B80: Инструкция завода-изготовителя | D80: По требованию производства контролировать вязкость по | G80: Контроль документации и обозначения на таре Визуальный осмотр, Вискозиметр Brookfield DV2T (объем расхода готовой краски 600мл***)
D81: ТИ-494И
D83: 12 мес. **
A84: 36. Разбавитель | B84: Инструкция завода-изготовителя | D84: 24 мес. ** | G84: Контроль документации и обозначения на таре
A85: Thinner 1031, Thinner 1048
A86: 37. Двухкомпонентное эпоксидное покрытие с каменноугольными смолами Дюропокс мастик 80 (в комплекте с отвердителем) | B86: ТУ 2312-012-11253649-2013 | D86: 12 мес. ** | G86: Контроль документации и обозначения на таре
A90: 38. Двухкомпонентная эпоксидная грунт-эмаль с фосфатом цинка Дюропокс ДТМ 70 в комплекте с отвердителем | B90: ТУ 2312-006-11253649-2013 | D90: 12 мес. ** | G90: Контроль документации и обозначения на таре
A91: 39. Самогрунтующееся двухкомпонентное полиуретановое покрытие (грунт-эмаль) Изопур финиш 80 (в комплекте с отвердителем) | B91: ТУ 2312-036-11253649-2013 | D91: 12 мес. ** | G91: Контроль документации и обозначения на таре
A92: 40. Термостойкая краска | B92: Инструкция завода-изготовителя | D92: 12 мес. ** | G92: Контроль документации и обозначения на таре
A93: Protherm 600
A94: 41. Огнезащитная краска | B94: ТУ 2317 -005-84152034-10 | D94: 12 мес. ** | G94: Контроль документации и обозначения на таре
A95: Декотерм-R
A96: 42. Огнезащитная краска | B96: ТУ 2312 -010-84152034-2014 | D96: 12 мес. ** | G96: Контроль документации и обозначения на таре
A97: Декотерм-эпокси
A98: 43. Огнезащитное покрытие: Primaterm SB | B98: Инструкция завода-изготовителя | D98: 12 мес. ** | G98: Контроль документации и обозначения на таре
A99: 44. Грунт PRIMALKID Fast Primer | B99: Инструкция завода-изготовителя | D99: 12 мес. ** | G99: Контроль документации и обозначения на таре
A100: 45. Грунт-краска PS332 EPOXY DTM в комплекте с отвердителем | B100: Инструкция завода-изготовителя | D100: 12 мес. ** | G100: Контроль документации и обозначения на таре
A102: 46. Грунт двухкомпонентный на основе эпоксидных смол АКРУС-ЭПОЦИНК | B102: ТУ 2312-006-93475776-2006 | D102: 6 мес. ** | G102: Контроль документации и обозначения на таре
A103: 47. Грунт цинконаполненный ДЮРОПОКС ПРАЙМЕР 55 | B103: ТУ- 2312-005-11253649-2013 | D103: 12 мес. ** | G103: Контроль документации и обозначения на таре
A104: 48. Грунтовка АКРУС-ЭПОКС С | B104: ТУ 2312-001-93475776-2006 | D104: 12 мес. ** | G104: Контроль документации и обозначения на таре
A105: 49. Грунт-эмаль полиуретановая ТЕМАДУР 20 | B105: Инструкция завода-изготовителя | D105: 12 мес. ** | G105: Контроль документации и обозначения на таре
A106: 50. Разбавитель для ЛКМ «Акрус» | B106: Инструкция завода-изготовителя | D106: 36 мес. ** | G106: Контроль документации и обозначения на таре
A107: 51. Эмаль | B107: ТУ-2312-002-93475776-2006 | D107: 12 мес. ** | G107: Контроль документации и обозначения на таре
A108: «АКРУС-ПОЛИУР»
A109: 52. Краска | B109: ТУ-2312-003-93475776-2006 | D109: 12 мес. ** | G109: Контроль документации и обозначения на таре
A110: «АКРУС-ПРАЙМ»
A111: 53. Краска | B111: ТУ-2312-003-93475776-2006 | D111: 12 мес. ** | G111: Контроль документации и обозначения на таре
A112: «АКРУС-ЛОНГ»
A113: 54. Грунт Элакор-ПУ | D113: 12 мес. ** | G113: Контроль документации и обозначения на таре
B115: ТУ 2312-009-18891264-2009
A116: 55. Эмаль Элакор-ПУ | B116: ТУ 2312-009-18891264-2009 | D116: 12 мес. ** | G116: Контроль документации и обозначения на таре
A118: 56. Краска порошковая эпоксидно-полиэфирная | B118: Протокол испытаний | D118: 12 мес. ** | G118: Контроль документации и обозначения на таре
A119: Technopulver Powder
A120: Coatings s.p.a.
...

Sheet Сварочные материалы
A1: Наименование изделия | B1: НД, требованиям которой должны соответствовать изделия | C1: Использование на каких изделиях | D1: Контролируемые параметры (в том числе специальные требования заказчика) | G1: Оборудование | H1: Необходимая разрешительная и сопроводительная документация
A5: 1 | B5: 2 | C5: 3 | D5: 4 | F5: 6 | G5: 7 | H5: 8
A6: Все виды | B6: Смотри ниже | C6: Изделия, выпускаемые АО «ОЗНА-Измерительные системы» | D6: 1) Проверить наличие документации от поставщика по требованиям, указанным в столбце 8. 2) Проверить наличие этикеток (бирок) с указанием марки материала. 3) Сверить сертификат (паспорт) качества с биркой на таре. 4) Проверить целостность упаковки изделий, поставляемых в таре. 5) Проверить срок годности. * 6) Сверить обозначение RAL в документации с этикеткой (биркой) на таре, номер партии. | G6: Контроль документации и обозначения на таре | H6: 1) Паспорт безопасности 2) Сертификат качества 3) Санитарно-эпидемиологическое заключение
A7: 1. Грунт PROZINC PU PRIMER | B7: Инструкция завода-изготовителя | D7: 12 мес.** | G7: Контроль документации и обозначения на таре
A8: 2. Разбавитель Р-4 | B8: ГОСТ 7827-74 | D8: 36 мес. ** | G8: Контроль документации и обозначения на таре
A9: 3. Разбавитель | B9: Инструкция завода-изготовителя | D9: 36 мес. ** | G9: Контроль документации и обозначения на таре
A10: PROCORE
A11: UNIVERSAL
A12: THINNER
A13: 4. Обезжириватель | B13: Инструкция завода-изготовителя | D13: 36 мес. ** | G13: Контроль документации и обозначения на таре
A14: PROCORE
A15: DTGREASER PS651
A16: 5. Сольвент нефтяной | B16: ГОСТ 10214-78 | D16: 5 лет. ** | G16: Контроль документации и обозначения на таре
A17: 6. Растворитель 646 | B17: ГОСТ 18188-2020 | D17: 5 лет. ** | G17: Контроль документации и обозначения на таре
A18: 7. Растворитель ксилол | B18: ГОСТ 9410-78 | D18: 36 мес. ** | G18: Контроль документации и обозначения на таре
A19: 8. Полиуретан. материал с железной слюдкой | B19: Инструкция завода-изготовителя | D19: 12 мес. ** | G19: Контроль документации и обозначения на таре
A20: PROMICA PU BARRIER
A21: 9. Грунт-эмаль PROСOAT АР 259 SC в комплекте с | B21: Инструкция завода-изготовителя | D21: 24 мес. ** | G21: Контроль документации и обозначения на таре
A22: Отвердителем HARDENER 498
A23: 10. Грунт ГФ-021 | B23: ГОСТ 25129-2020 | D23: 6 мес. ** | G23: Контроль документации и обозначения на таре
A24: 11. Грунт ГФ 017 | B24: ТУ6-27-7-89 | D24: 6 мес. ** | G24: Контроль документации и обозначения на таре
A25: 12. HEMPADUR MASTIC | B25: Инструкция завода-изготовителя | D25: 12 мес. ** | G25: Контроль документации и обозначения на таре
A26: 45880
A27: (основа 45889 + отвердитель 95880)
A28: 13. Эмаль HEMPATHANE | B28: Инструкция завода-изготовителя | D28: 12 мес. ** | G28: Контроль документации и обозначения на таре
A29: HS 55610
A30: (основа 55619 + отвердитель 97050)
A31: 14. Эпоксидное покрытие | B31: Инструкция завода-изготовителя | D31: 12 мес. ** | G31: Контроль документации и обозначения на таре
A32: Hempadur 85671
A33: (основа 85675 + отвердитель 97371)
A34: 15. Эмаль HEMPATHANE | B34: Инструкция завода-изготовителя | D34: 12 мес. ** | G34: Контроль документации и обозначения на таре
A35: TOPCOAT 55210
A36: (основа 55619 + отвердитель 95370)
A37: 16. Эпоксидная грунтовка, с содержанием цинка HEMPADUR ZN 17360 (основа 17369 + отвердитель 97040) | B37: Инструкция завода-изготовителя | D37: 12 мес. ** | G37: Контроль документации и обозначения на таре
A40: 17. Грунт-эмаль HEMPATHANE | B40: Инструкция завода-изготовителя | D40: 12 мес. ** | G40: Контроль документации и обозначения на таре
A41: FAST DRY 55750
A42: (основа 55759 + отвердитель 97050)
A43: 18. Двухкомпонентный эпоксидный грунт Barrier 77 Сomp A , | B43: Инструкция завода-изготовителя | D43: 12 мес. ** | G43: Контроль документации и обозначения на таре
A44: Barrier 77 Сomp B.
A45: 19. Двухкомпонентный эпоксидный грунт Barrier 80 Сomp A , | B45: Инструкция завода-изготовителя | D45: 12 мес. ** | G45: Контроль документации и обозначения на таре
A46: Barrier 80 Сomp B.
A48: 20. Двухкомп.покрытие на основе модифиц. эпоксидов | B48: Инструкция завода-изготовителя | D48: 12 мес. ** | G48: Контроль документации и обозначения на таре
A49: Primastic (в комплекте с отвердителем)
A50: 21. Двухкомпонентное эластичное полиуретан. Покрытие Hardtop AS (в комплекте с отвердителем) | B50: Инструкция завода-изготовителя | D50: 12 мес. ** | G50: Контроль документации и обозначения на таре
A51: 22. Грунт Muki Z2001 | B51: Инструкция завода-изготовителя | D51: 12 мес. ** | G51: Контроль документации и обозначения на таре
A52: (в комплекте с отвердителем)
A53: 23. Грунт Jotamastic 87 | B53: Инструкция завода-изготовителя | D53: 12 мес. ** | G53: Контроль документации и обозначения на таре
A54: (в комплекте с отвердителем)
A55: 24. Грунт Jotamastic 87 | B55: Инструкция завода-изготовителя | D55: 12 мес. ** | G55: Контроль документации и обозначения на таре
A56: Aluminium (в комплекте с отвердителем)
A57: 25. Грунт Penguard Express ZP (в комплекте с отвердителем) | B57: Инструкция завода-изготовителя | D57: 12 мес. ** | G57: Контроль документации и обозначения на таре
A58: 26. Hardtop XPF (в комплекте с отвердителем) | B58: Инструкция завода-изготовителя | D58: 12 мес. ** | G58: Контроль документации и обозначения на таре
A59: 27. Разбавитель | B59: Инструкция завода-изготовителя | D59: 24 мес. ** | G59: Контроль документации и обозначения на таре
A60: THINNER 08450, THINNER 08080
A61: 28. Разбавитель | B61: Инструкция завода-изготовителя | D61: 36 мес. ** | G61: Контроль документации и обозначения на таре
A62: Jotun Thinner №4,
A63: Jotun Thinner №17, Jotun Thinner №10
A64: 29. Грунт PROCORE PU 167 PRIMER | B64: Инструкция завода-изготовителя | D64: 12 мес. ** | G64: Контроль документации и обозначения на таре
A66: 30. Грунт PROCORE PU 152 PRIMER | B66: Инструкция завода-изготовителя | D66: 12 мес. ** | G66: Контроль документации и обозначения на таре
A68: 31. Sigmafast 210 HS в комплекте с отвердителем | B68: Инструкция завода-изготовителя | D68: 12 мес. ** | G68: Контроль документации и обозначения на таре
A69: 32. Sigmadur 520 в комплекте с отвердителем | B69: Инструкция завода-изготовителя | D69: 12 мес. ** | G69: Контроль документации и обозначения на таре
A75: 33. Temacoat SPA Primer | B75: Инструкция завода-изготовителя | D75: 12 мес. ** | G75: Контроль документации и обозначения на таре
A76: (Temacoat SPA Primer + отвердитель Hardener 008 5607)
A77: 34. Temathane 50 | B77: Инструкция завода-изготовителя | D77: 12 мес. ** | G77: Контроль документации и обозначения на таре
A78: (Temathane + отвердитель Hardener 008 7620)
A79: 35. Эпоксидное покрытие Тematar TFA (в комплекте с отвердителем №5459) | B79: Инструкция завода-изготовителя | D79: По требованию производства контролировать вязкость по | G79: Контроль документации и обозначения на таре Визуальный осмотр, Вискозиметр Brookfield DV2T (объем расхода готовой краски 600мл***)
D80: ТИ-494И
D82: 12 мес. **
A83: 36. Разбавитель | B83: Инструкция завода-изготовителя | D83: 24 мес. ** | G83: Контроль документации и обозначения на таре
A84: Thinner 1031, Thinner 1048
A85: 37. Двухкомпонентное эпоксидное покрытие с каменноугольными смолами Дюропокс мастик 80 (в комплекте с отвердителем) | B85: ТУ 2312-012-11253649-2013 | D85: 12 мес. ** | G85: Контроль документации и обозначения на таре
A89: 38. Двухкомпонентная эпоксидная грунт-эмаль с фосфатом цинка Дюропокс ДТМ 70 в комплекте с отвердителем | B89: ТУ 2312-006-11253649-2013 | D89: 12 мес. ** | G89: Контроль документации и обозначения на таре
A90: 39. Самогрунтующееся двухкомпонентное полиуретановое покрытие (грунт-эмаль) Изопур финиш 80 (в комплекте с отвердителем) | B90: ТУ 2312-036-11253649-2013 | D90: 12 мес. ** | G90: Контроль документации и обозначения на таре
A91: 40. Термостойкая краска | B91: Инструкция завода-изготовителя | D91: 12 мес. ** | G91: Контроль документации и обозначения на таре
A92: Protherm 600
A93: 41. Огнезащитная краска | B93: ТУ 2317 -005-84152034-10 | D93: 12 мес. ** | G93: Контроль документации и обозначения на таре
A94: Декотерм-R
A95: 42. Огнезащитная краска | B95: ТУ 2312 -010-84152034-2014 | D95: 12 мес. ** | G95: Контроль документации и обозначения на таре
A96: Декотерм-эпокси
A97: 43. Огнезащитное покрытие: Primaterm SB | B97: Инструкция завода-изготовителя | D97: 12 мес. ** | G97: Контроль документации и обозначения на таре
A98: 44. Грунт PRIMALKID Fast Primer | B98: Инструкция завода-изготовителя | D98: 12 мес. ** | G98: Контроль документации и обозначения на таре
A99: 45. Грунт-краска PS332 EPOXY DTM в комплекте с отвердителем | B99: Инструкция завода-изготовителя | D99: 12 мес. ** | G99: Контроль документации и обозначения на таре
A101: 46. Грунт двухкомпонентный на основе эпоксидных смол АКРУС-ЭПОЦИНК | B101: ТУ 2312-006-93475776-2006 | D101: 6 мес. ** | G101: Контроль документации и обозначения на таре
A102: 47. Грунт цинконаполненный ДЮРОПОКС ПРАЙМЕР 55 | B102: ТУ- 2312-005-11253649-2013 | D102: 12 мес. ** | G102: Контроль документации и обозначения на таре
A103: 48. Грунтовка АКРУС-ЭПОКС С | B103: ТУ 2312-001-93475776-2006 | D103: 12 мес. ** | G103: Контроль документации и обозначения на таре
A104: 49. Грунт-эмаль полиуретановая ТЕМАДУР 20 | B104: Инструкция завода-изготовителя | D104: 12 мес. ** | G104: Контроль документации и обозначения на таре
A105: 50. Разбавитель для ЛКМ «Акрус» | B105: Инструкция завода-изготовителя | D105: 36 мес. ** | G105: Контроль документации и обозначения на таре
A106: 51. Эмаль | B106: ТУ-2312-002-93475776-2006 | D106: 12 мес. ** | G106: Контроль документации и обозначения на таре
A107: «АКРУС-ПОЛИУР»
A108: 52. Краска | B108: ТУ-2312-003-93475776-2006 | D108: 12 мес. ** | G108: Контроль документации и обозначения на таре
A109: «АКРУС-ПРАЙМ»
A110: 53. Краска | B110: ТУ-2312-003-93475776-2006 | D110: 12 мес. ** | G110: Контроль документации и обозначения на таре
A111: «АКРУС-ЛОНГ»
A112: 54. Грунт Элакор-ПУ | D112: 12 мес. ** | G112: Контроль документации и обозначения на таре
B114: ТУ 2312-009-18891264-2009
A115: 55. Эмаль Элакор-ПУ | B115: ТУ 2312-009-18891264-2009 | D115: 12 мес. ** | G115: Контроль документации и обозначения на таре
A117: 56. Краска порошковая эпоксидно-полиэфирная | B117: Протокол испытаний | D117: 12 мес. ** | G117: Контроль документации и обозначения на таре
A118: Technopulver Powder
A119: Coatings s.p.a.
A120: 57. Порошковое покрытие Prima Tek InnoPipe | B120: ТУ 2329-005-70623562-2013; | D120: 12 мес. ** | G120: Контроль документации и обозначения на таре
...

Sheet РТИ и Пластмассы
A1: Резинотехнические изделия (РТИ) и пластмассы
A2: Наименование изделия | B2: НД, требованиям которой должны соответствовать изделия | C2: Использование на каких изделиях | D2: Контролируемые параметры (в том числе специальные требования заказчика) | G2: Оборудование | H2: Необходимая разрешительная и сопроводительная документация
A3: 1 | B3: 2 | C3: 3 | D3: 4 | F3: 6 | G3: 7 | H3: 8
A4: Все виды | B4: Смотри ниже | C4: Изделия, выпускаемые АО «ОЗНА-Измерительные системы» | D4: 1) Проверить наличие документации от поставщика по требованиям, указанным в столбце 8. 2) Проверить наличие этикеток (бирок) с указанием марки материала, номер партии. 3) Сверить сертификат с этикеткой (биркой). 4) Проверить на герметичность и целостность упаковки изделий на момент прихода. * 5) Проверить срок годности. 6) Листы вальцованных и каландрованных резиновых смесей должны быть пересыпаны тальком или обработаны антиадгезионным составом или проложены полиэтиленовой пленкой | H4: 1) Сертификат качества 2) Паспорт безопасности
A5: Фенопласт ФФ201 | B5: ТУ 2253-125-55778270-2002 (поставщика) | D5: Контролировать документацию 8 мес. **
A6: Паронит ПА2 | B6: ГОСТ 481-80 | D6: Контролировать параметры: Поверхность паронита и прокладок из него должна быть ровной, без разрывов, складок, задиров, надломов, вздутий, раковин, посторонних включений. Размер листов по толщине S: s= 0,8 мм, 1,0 мм - ±0,10 мм s= 1,2 мм - ±0,15 мм по длине l: l= 400 мм - ±20 мм l= 500 мм - ±25 мм l= 750 мм - ±40 мм l= 1000 мм - ±50 мм l= 1500 мм - ±75 мм по ширине h: h= 400 мм - ±20 мм h= 500 мм - ±25 мм h= 750 мм - ±40 мм h= 900 мм - ±45 мм 2 года ** | G6: Рулетка ГОСТ 7502-98 или Линейка ГОСТ 427-75 Штангенциркуль ГОСТ 166-89 Микрометр ГОСТ 6507-90 или Толщиномер ГОСТ 11358-89
A7: Паронит ПМБ | B7: ГОСТ 481-80 | D7: Контролировать параметры: Поверхность паронита и прокладок из него должна быть ровной, без разрывов, складок, задиров, надломов, вздутий, раковин, посторонних включений. Размер листов по толщине S: s= 0,8 мм, 1,0 мм - ±0,10 мм s= 1,5 мм - ±0,15 мм s= 2,0 мм - ±0,20 мм s= 2,5 мм - ±0,25 мм s= 3,0 мм - ±0,3 мм по длине l: l= 400 мм - ±20 мм l= 500 мм - ±25 мм l= 1000 мм - ±50 мм l= 1500 мм - ±75 мм по ширине h: h= 300 мм - ±15 мм h= 400 мм - ±20 мм h= 500 мм - ±25 мм h= 1000 мм - ±50 мм l= 1500 мм - ±75 мм 2 года ** | G7: Рулетка ГОСТ 7502-98 или Линейка ГОСТ 427-75 Штангенциркуль ГОСТ 166-89 Микрометр ГОСТ 6507-90 или Толщиномер ГОСТ 11358-89
A8: Пластины: 1Ф-1-МБС-М 1Ф-1-МБС-С 1Ф-2-МБС-С 1Ф-1-ТМКЩ-С 2Ф-1-ТМКЩ-М | B8: ГОСТ 7338-90 | D8: Контролировать параметры: Поверхность пластин должна быть без трещин и повреждений. Контроль визуально Контролировать ширину, длину, толщину пластин: для 1-го класса ±5,0% длины (ширины) для 2-го класса ±10,0% длины (ширины) На поверхности и в срезе пластин не допускаются: Возвышения, углубления, включения и пористость (в срезе), превышающие значения, указанные в таблице 3, при этом для пластин 1-го класса не допускаются посторонние включения материалов, не входящих в состав резиновой смеси; Расслоения между резиновыми и тканевыми или резиновыми слоями по кромке пластины длиной более 2 см, глубиной более 3 см Допускаются: наличие пудровочного материала, оттиски рельефа и ворсинок ткани, разнотонность, матовость, налет выцветающих ингредиентов. 1 год ** | G8: Рулетка ГОСТ 7502-98 или Линейка ГОСТ 427-75 Толщиномер ГОСТ 11358-89
A9: Смесь резиновая: 3825сIII-3б-12 3826сIII-3б-12 ИРП 1396 В-14 | B9: ТУ 2512-046-00152081-2003 | D9: Контролировать параметры: Частиц размером более 0,5 мм; На поверхности резиновых смесей не допускается: Механические повреждения и расслоения; Включения, в т.ч. подвулканизированной резины, размером более 1 мм; Пузыри шириной 2 мм и длинной 10 мм., раковины более 1 мм. В остальном внешний вид не регламентируется. 6 мес. ** | G9: Линейка ГОСТ 427-75 или Лупа ГОСТ 25706-83 Рулетка ГОСТ 7502-98 Толщиномер ГОСТ 11358-89
A10: Кольца резиновые уплотнительные | B10: ГОСТ 9833-73 | D10: Контролировать параметры: Номинальный диаметр сечения d1, d2 Предельное отклонение для групп точности Предельные отклонения параметров шероховатости Предельные отклонения на размеры канавок. На поверхности резиновых колец не допускается: забоины, риски и другие повреждения; включения, в т.ч. подвулканизированной резины. 6 мес. ** | G10: Линейка ГОСТ 427-75; Штангенциркуль ГОСТ 166-89 Толщиномер ГОСТ 11358-89
A11: ИРП-1068 | B11: ТУ 2512-046-00152081-2003 Группа 3-3в-12 Твердость по Шору 83 единицы | D11: На поверхности резиновой смеси не допускаются:-механические повреждения и расслоения; -включения; -пузыри; -раковины; -неоднородность -срок годности | G11: Линейка ГОСТ 427-75 Штангенциркуль ГОСТ 166-89
A12: Втулка из полиамида | D12: Габаритные размеры | G12: Штангенциркуль ГОСТ 166-89
B13: ТУ 2224-001-78-534599-2006
A14: Манжета поршня из полиуретана (ПУ) | B14: КД заказчика | D14: Соответствие КД | G14: Штангенциркуль ГОСТ 166-89 визуально
A16: *- не допускается принимать продукцию с нарушенной целостностью упаковки.
A17: **- срок годности продукции.
A20: Требования к верификации продукции по результатам входного контроля:
A21: Отметка о результате входного контроля наносится на ярлык по форме Приложения Г к СТО ИС СМК 8.4.03 (принято/не принято) с подтверждением подписью и Ф.И.О. сотрудника, осуществляющего приемку, либо на тару/упаковку наносится клеймо, подтверждающее положительный результат приемки.
A28: Таблица 3. Возвышения, углубления и пористость пластин по ГОСТ 7338-90
A30: Толщина пластины | F30: Возвышения, углубления, включения класса, мм | H30: Диаметр пор класса, мм
F31: 1 | G31: 2 | H31: 1 | I31: 2
A32: 1 | F32: 0.2 | G32: 0.3 | H32: 0.2 | I32: 0.2
A33: 1,5; 2,0 | F33: 0.3 | G33: 0.5
A34: Св. | B34: 2 | C34: до | D34: 5 | E34: включ. | F34: 0.5 | G34: 1
A35: " | B35: 5 | C35: до | D35: 10 | E35: " | F35: 0.75 | G35: 1.5 | H35: 0.6 | I35: 0.6
A36: " | B36: 10 | C36: до | D36: 20 | E36: " | F36: 1 | G36: 2
A37: " | B37: 20 | C37: до | D37: 40 | E37: " | F37: - | G37: 3 | H37: - | I37: 1.2
A38: " | B38: 40 | C38: до | D38: 60 | E38: " | F38: - | G38: 4
B41: =[1]Титульник!A32 -> Примечание: Данный перечень не является исчерпывающим. Покупатель вправе запросить иные документы, не запрещенные действующим законодательством.

Sheet Химия
A1: Наименование изделия | B1: НД, требованиям которой должны соответствовать изделия | C1: Использование | D1: Контролируемые | G1: Сроки годности | J1: Необходимая разрешительная и сопроводительная документация
C2: на каких изделиях | D2: параметры
D3: (в том числе
D4: специальные требования заказчика)
A5: 1 | B5: 2 | C5: 3 | D5: 4 | G5: 5 | I5: 7 | J5: 8
A6: Все виды | B6: Смотри ниже | C6: Изделия, выпускаемые АО «ОЗНА-Измерительные системы» | D6: 1) Проверить наличие документации от поставщика по требованиям, указанным в столбце 8. 2) Проверить наличие этикеток (бирок) с указанием марки материала, номер партии. 3) Сверить сертификат (паспорт) качества с биркой на таре. 4) Проверить на герметичность и целостность упаковки изделий, поставляемых в упаковке. * 5) Проверить срок годности. 6) Проверить визуально внешний вид материала на чистоту (отсутствие загрязненности, посторонних включений). 7) Проверить визуально внешнее состояние материала на отсутствие механических повреждений (царапины, вмятины, сколы, проколы, пробои, отрывы, разрывы и т.д.). | J6: 1) Паспорт безопасности 2) Сертификат качества
A7: Азотная кислота | B7: ГОСТ 4461-77 | D7: 1,2,3,4,5,6,7 | G7: 6 мес. **
A8: Аммоний хлористый | B8: ГОСТ 3773-72 | D8: 1,2,3,4,5,6,7 | G8: 3 года **
G9: (не допускается желтизна)
A10: Анилиновый краситель (черный) | B10: ГОСТ 15907-70 | D10: 1,2,3,4,5,6,7 | G10: 1 год **
A11: Аммоний двухромовокислый | B11: ГОСТ 3763-76 | D11: 1,2,3,4,5,6,7 | G11: 3 год **
A12: Гашеная известь (кальция гидроокись) | B12: ГОСТ 9262-77 | D12: 1,2,3,4,5,6,7 | G12: 1 год **
A13: Блескообразующая добавка НБ | B13: ТУ 2482-042-00209295-2003 | D13: 1,2,3,4,5,6,7 | G13: 1 год **
A14: Блескообразующая добавка ЦВБ | B14: ТУ 2482-041-00209295-2003 | D14: 1,2,3,4,5,6,7 | G14: 1 год **
A15: Борная кислота Техническая | D15: 1,2,3,4,5,6,7
A16: Чистая | B16: ГОСТ 18704-78 | G16: 5 лет **
B17: ГОСТ 9656-75 | G17: 3 года **
A18: Брызгоподавитель | B18: - | D18: 1,2,3,4,5,6,7 | G18: 2 года **
A19: EPI Mist ЭПИ-Пенохром
A20: Хромовый ангидрид | B20: ГОСТ 2548-77 | D20: 1,2,3,4,5,6,7 | G20: 1 год **
A21: Хромпик калиевый | B21: ГОСТ 2652-78 | D21: 1,2,3,4,5,6,7 | G21: 1 год **
A22: Обезжириватель | B22: - | D22: 1,2,3,4,5,6,7 | G22: 2 года **
A23: E-Kleen-173
A24: Железный купорос | B24: ГОСТ 6981-94 | D24: 1,2,3,4,5,6,7 | G24: 1 год **
A25: Железо хлорид 6 водный | B25: ГОСТ 4147-74 | D25: 1,2,3,4,5,6,7 | G25: 1 год **
A26: Жидкое стекло (силикат натрия) | B26: ГОСТ 13078-2021 | D26: 1,2,3,4,5,6,7 | G26: 1 год **
B27: ТУ 2145-026-00204872-2002
A28: Обезжириватель и ингибитор Pikle Pai Plus | B28: - | D28: 1,2,3,4,5,6,7 | G28: 2 года **
A29: Обезжириватель | B29: - | D29: 1,2,3,4,5,6,7 | G29: 2 года **
A30: E-Kleen-148E
A31: Спирт этиловый | B31: ГОСТ 17299-78, | D31: 1,2,3,4,5,6,7 | G31: Бессрочно
B32: ГОСТ Р 55878-2013
A33: Спирт поливиниловый | B33: ГОСТ 10779-78 | D33: 1,2,3,4,5,6,7 | G33: 1 год **
A34: Препарат E-Brite-CR Эпи-Хром | B34: - | D34: 1,2,3,4,5,6,7 | G34: 2 года **
A35: Трилон «Б» | B35: ТУ 113-04-260-87 | D35: 1,2,3,4,5,6,7 | G35: 3 года **
A36: Экомет Н1 (А и Б) | B36: ТУ 2499-008-32441906-97 | D36: 1,2,3,4,5,6,7 | G36: 1,5 года **
A37: Экомет Ц1 (Б) | B37: ТУ 2499-003-32441906-97 | D37: 1,2,3,4,5,6,7 | G37: 1,5 года **
A38: Натрий сернокислый безводный | B38: ГОСТ 195-77 | D38: 1,2,3,4,5,6,7 | G38: 6 мес. **
A39: Натрий сернокислый технический | B39: ГОСТ 6318-77 | D39: 1,2,3,4,5,6,7 | G39: 6 мес. **
A40: Натрий хлористый | B40: ГОСТ 22180-76; | D40: 1,2,3,4,5,6,7 | G40: 3 года **
B41: ГОСТ 4233-77;
B42: ГОСТ Р 51574-2018
A43: Никель сернокислый | B43: ГОСТ 2665-2021; 4465-2016 | D43: 1,2,3,4,5,6,7 | G43: 2 года **
A44: Нитрит натрия чистый технический | B44: ГОСТ 4197-74 | D44: 1,2,3,4,5,6,7 | G44: 2 года **
B45: ГОСТ 19906-74
A46: Нитрат натрия | B46: ГОСТ 828-77; 4197-74 | D46: 1,2,3,4,5,6,7 | G46: Не ограничен
A47: Активатор E-Prep 258 | B47: - | D47: 1,2,3,4,5,6,7 | G47: 2 года **
A48: Окись цинка | B48: ГОСТ 10262-73 | D48: 1,2,3,4,5,6,7 | G48: 2 года **
A49: Барий углекислый | B49: ГОСТ 4158-80 | D49: 1,2,3,4,5,6,7 | G49: 1 год **
A50: Антико E-Tec 504 | B50: - | D50: 1,2,3,4,5,6,7 | G50: 2 года **
A51: Чернитель | B51: - | D51: 1,2,3,4,5,6,7 | G51: 2 года **
A52: Insta-Biak 333 6X
A53: Колцинк АЦФ-2 | B53: - | D53: 1,2,3,4,5,6,7 | G53: 2 года **
A54: Очиститель | B54: - | D54: 1,2,3,4,5,6,7 | G54: 2 года **
A55: (к Колцинку)
A56: Препарат Радуга -126 | B56: - | D56: 1,2,3,4,5,6,7 | G56: 2 года **
A57: Серная кислота реактив | B57: ГОСТ 4204-77 | D57: 1,2,3,4,5,6,7 | G57: 3 года **
A58: Серная кислота техническая | B58: ГОСТ 2184-2013 | D58: 1,2,3,4,5,6,7 | G58: 1 мес. **
A59: Сода каустическая (натрий едкий) | B59: ГОСТ Р 55064-2012; ГОСТ 4328-77 | D59: 1,2,3,4,5,6,7 | G59: 1 год **
A60: Сода кальцинированная | B60: ГОСТ 5100-85; | D60: 1,2,3,4,5,6,7 | G60: 2 года **
B61: ГОСТ 83-79 | G61: (не допускается желтизна)
A62: Соляная кислота | B62: ГОСТ 3118-77 | D62: 1,2,3,4,5,6,7 | G62: 1 год **
A63: Дихлорэтан | B63: ГОСТ 1942-86 | D63: 1,2,3,4,5,6,7 | G63: 1 год **
A65: Тринатрийфосфат | B65: ГОСТ 201-76 | D65: 1,2,3,4,5,6,7 | G65: 1 год **
A66: Лак корректирующий КОР-50 | B66: - | D66: 1,2,3,4,5,6,7 | G66: 1 год **
A67: Очиститель | B67: - | D67: 1,2,3,4,5,6,7 | G67: 1 год **
A68: экспресс-клинер
A69: Смывка фотоэмульсии Стриппер | B69: - | D69: 1,2,3,4,5,6,7 | G69: 1 год **
A70: Соль SealSalt | B70: - | D70: 1,2,3,4,5,6,7 | G70: 1 год **
A71: Спрей Kruse Density toner | B71: - | D71: 1,2,3,4,5,6,7 | G71: 1 год **
A72: Фотокраска ФК-12-0,5 | B72: - | D72: 1,2,3,4,5,6,7 | G72: 1 год **
A73: Паяльная кислота (ФЦА) | B73: ОСТ 4Г 0.033.200 | D73: 1,2,3,4,5,6,7 | G73: 1 год **
A74: Солидол жировой-У | B74: ТУ 0254-002-15301184-04 | D74: 1,2,3,4,5,6,7 | G74: 1 год **
A75: Клей мездровый (тверд.) | B75: ГОСТ 3252-80 | D75: 1,2,3,4,5,6,7 | G75: 1 год **
A76: Клей 88 | B76: ТУ 38.1051760-89 | D76: 1,2,3,4,5,6,7 | G76: 1 год **
A77: Масло индустриальное | B77: ГОСТ 20799-88 | D77: 1,2,3,4,5,6,7 | G77: 5 лет **
A78: Моющее средство МЛ-51 | B78: ТУ 84-288-76 | D78: 1,2,3,4,5,6,7 | G78: 1 год **
A79: Глицерин ПК-94; Д-98 | B79: ГОСТ 6259-75; 6824-96 | D79: 1,2,3,4,5,6,7 | G79: Бессрочно
A80: Сплав «Розе» | B80: ТУ 6-09-6708-70 | D80: 1,2,3,4,5,6,7 | G80: 1 год **
A81: Парафин | B81: ГОСТ 23683-2021 | D81: 1,2,3,4,5,6,7 | G81: марка 2 -1 год **
G82: остальные -2 года **
A83: Канифоль сосновая | B83: ГОСТ 19113-84 | D83: 1,2,3,4,5,6,7 | G83: 2 года **
A84: Масло трансмиссионное ТАД-17 | B84: ГОСТ 23652-79 | D84: 1,2,3,4,5,6,7 | G84: 1 год **
A85: Клей БФ-4 | B85: ГОСТ 12172-2016 | D85: 1,2,3,4,5,6,7 | G85: 8 мес. **
A86: Клей лейконат | B86: ТУ 6-14-95-85 | D86: 1,2,3,4,5,6,7 | G86: 1 год **
A87: Клей 88-Н | B87: ТУ 38.105-1061-87 | D87: 1,2,3,4,5,6,7 | G87: 1 год **
A88: Мастика «ЮНИОР-АК» | B88: ТУ 2311-030-2066394-96 | D88: 1,2,3,4,5,6,7 | G88: 6 мес. **
A89: Мастика кровельная битумно-полимерная | B89: ТУ 5775-018-17925162-04 | D89: 1,2,3,4,5,6,7 | G89: 5 лет **
A90: Масло И20А | B90: ГОСТ 20799-2022 | D90: 1,2,3,4,5,6,7 | G90: 5 лет **
A91: Масло АМГ-10 | B91: ГОСТ 4794-97 | D91: 1,2,3,4,5,6,7 | G91: 5 лет **
A92: Масло ВМГ 3 | B92: ТУ38-101479-74 | D92: 1,2,3,4,5,6,7 | G92: 5 лет **
A93: Масло трансформаторное Т-1500 | B93: ГОСТ 982-80 | D93: 1,2,3,4,5,6,7 | G93: 5 лет **
A94: Масло компрессор. КС-19 | B94: ГОСТ 9243-75 | D94: 1,2,3,4,5,6,7 | G94: 5 лет **
... A99: Препарат воднографитный «Росоил»-ОГВ | B99: ТУ 0258-046-063-77289-2000 | D99: 1,2,3,4,5,6,7 | G99: 3 года **
B100: ТУ 0258-003-12683932-99
B101: ТУ 0258-003-01699574-2000
A102: Эмульсол «Караидель-2» | D102: 1,2,3,4,5,6,7 | G102: 3 года **
A103: Полиметилметакрилат (дакрил-2М) | B103: ТУ 6-02-114-91 | D103: 1,2,3,4,5,6,7 | G103: 2 года **
A104: Сито капроновое | B104: ТУ 35-253-75 | D104: 1,2,3,4,5,6,7 | G104: Бессрочно
A105: Вата медицинская | B105: ГОСТ 5556-81 | D105: 1,2,3,4,5,6,7 | G105: Бессрочно
...

Sheet Прочее
A1: Прочее
A2: № п/п | B2: Наименование изделия | C2: ГОСТ, ТУ и др. | D2: Применяемость | E2: Контролируемые параметры | H2: Оборудование | I2: Разрешительная и сопроводительная документация
A3: 1 | B3: Диск компакт CD-R(W); DVD-R(W)* | C3: По факту | D3: Все изделия (блоки аппаратурные) | E3: Внешний осмотр (отсутствие механических повреждений). | H3: Визуальный осмотр | I3: нет
A4: 2 | B4: Мачта связи | C4: По факту | D4: Все изделия (блоки ап-паратурные) | E4: Внешний осмотр (отсутствие механических повреждений), комплектность | H4: Визуальный осмотр | I4: 1.Паспорт (ОТ, ИЭ).
A5: 3 | B5: Стул «Стандарт», «Виза» и др. | C5: По факту | D5: Все изделия (блоки ап-паратурные) | E5: Внешний осмотр (отсутствие механических повреждений), комплектность | H5: Визуальный осмотр
A6: 4 | B6: Коврики диэлектрические | C6: По факту | D6: Все изделия | E6: Внешний осмотр (отсутствие грубых механических повреждений) | H6: Визуальный осмотр | I6: 1.Сертификат соответствия ТР ТС; 2.Сертификат качества; 3. Паспорт
A7: 5 | B7: Перчатки диэлектрические | C7: По факту | D7: Все изделия | E7: Внешний осмотр (отсутствие грубых механических повреждений, порезов) | H7: Визуальный осмотр | I7: 1.Сертификат соответствия ТР ТС; 2.Сертификат качества; 3. Паспорт или этикетка
A8: 6 | B8: Чехлы транспортировочные | C8: По факту | D8: Все изделия | E8: Внешний осмотр (отсутствие грубых механических повреждений, порезов) Соответствие на *Техническое задание на чехлы транспортировочные. | H8: Визуальный осмотр | I8: Паспорт или этикетка (допускается на партию)
A9: 7 | B9: Деталь из ламинированной плиты 450х600 мм | C9: По факту | D9: БА | E9: Внешний осмотр, целостность. Наличие дефектов: допускается - мелкие волосяные царапины; не допускаются - сколы, глубокие вмятины и царапины. Габаритные размеры | H9: Визуальный осмотр, Штанген-циркуль ГОСТ 166-89, Рулетка ГОСТ 7502-98 | I9: 1. Сертификат качества. 2. Сертификат пожарной безопасности. 3. Информационное письмо
A10: 8 | B10: Таблички, логоблоки | C10: СТО 00135786-112-2006 Таблички, знаки и их размещение на изделиях | D10: Все установки | E10: Внешний осмотр, целостность. Соответствие требованиям СТО 00135786-112-2006 Таблички, знаки и их размещение на изделиях | H10: Визуальный осмотр, Рулетка ГОСТ 7502-98 | I10: 1. Сертификат качества. 2. Паспорт или этикетка на партию
A11: 9 | B11: Щит информационный | C11: Размеры по БА | D11: Все установки | E11: Внешний осмотр, целостность. Наличие дефектов: допускается - мелкие волосяные царапины; не допускаются - сколы, механические повреждения, глубокие царапины. Комплектность и габаритно-присоединительные размеры согласно КД, согласованной поставщиком | H11: Визуальный осмотр, Рулетка по ГОСТ 7502-98 | I11: 1. Сертификат качества. 2. Паспорт или этикетка
A12: 10 | B12: Замок ЗНВС-1 6КЛ | C12: По факту | D12: Все изделия | E12: Внешний вид (отсутствие механических повреждений), комплектность. Качество приложенной документации должно быть достаточным для уверенного восприятия всей содержащейся графической и текстовой информации. | H12: Визуальный осмотр | I12: ПС и/или РЭ.
A13: 11 | B13: Замок-защелка для металлического бокса YZK20-00 | I13: ПС и/или РЭ.
A14: 12 | B14: Демосистема BRAYBERG DISCOVERY | I14: ПС и/или РЭ.
A15: 13 | B15: Карман для документов А4 SAR21322 | I15: ПС и/или РЭ.
B18: ='ЩО, корпуса и комплектующие'!B31 -> 0
