Workbook

Sheet Титульник
A1: СОГЛАСОВАНО | D1: УТВЕРЖДАЮ
A2: Директор по качеству | D2: Исполнительный директор
A3: АО «ОЗНА - Измерительные системы» | D3: АО «ОЗНА - Измерительные системы»
A4: ___________Е.В. Тимофеев | D4: ___________А.В. Сакаев
A6: ______________2026 г. | D6: ______________2026 г.
A8: Главный технолог
A9: АО «ОЗНА - Измерительные системы»
A10: ___________С.С. Сафонов
A12: ______________2026 г.
A14: Главный конструктор ОГК
A15: АО «ОЗНА – Измерительные системы»
A16: ______________Д.Ю. Четин
A18: ______________2026 г.
A20: Главный метролог ОГМетр
A21: АО «ОЗНА – Измерительные системы»
A22: ______________Н.С. Кузнецова
A24: ______________2026 г.
... A32: Примечание: Данный перечень не является исчерпывающим. Покупатель вправе запросить иные документы, не запрещенные действующим законодательством.

Sheet Содержание
A1: Наименование раздела и ссылка на лист | B1: Содержание раздела
A2: Общие требования | B2: общие требования к содержанию документации
A3: Окна, двери, панели | B3: Окна, двери, замки дверные, панели
A4: Запорно-регулирующая арматура (ЗРА) | B4: Задвижки, клапаны, краны шаровые, регуляторы, заслонки
A5: Прокладки, кольца, мембраны | B5: Прокладки, кольца, мембраны
A6: Соединительные детали трубопроводов (СДТ) | B6: Отводы. Переходы. Фланцы. Днища. Заглушки. Угольники
A7: Арматура, ПКИ к трубопроводам | B7: Арматура, ПКИ к трубопроводам
A8: Метизы | B8: Метизы
A9: КИПиА | B9: Расходомеры, влагомеры, датчики давления, датчики температуры, уровнемеры, дозиметры, термометры, манометры
A10: Вентиляция, кондиционирование | B10: Вентиляторы, воздуховоды, элементы воздуховодов (отводы, переходы, гибкие вставки), дефлекторы, кондиционеры, модули резервирования для кондиционеров
A11: Обогрев, освещение | B11: Обогреватели помещения, терморегуляторы помещения, светильники рабочего освещения, светильники аварийные, реле управления освещением
A12: охранная сигнализация (ОС), пожарная сигнализация (ПС), загазованность | B12: ППКОП, приборы АСПТ, приборы СКУД, считыватели, магнитные замки для СКУД, извещатели охранные, извещатели пожарные, источники резервированного питания, модули пожаротушения, оповещатели, газоанализаторы, эвакуационные светильники
... A24: Аутсорсинг | B24: Продукция по КД ОЗНА (БН ЗЧ)
A25: Резинотехнические изделия (РТИ) и пластмассы
A26: Химия
A27: Прочее

Sheet Общие требования
B2: Копии сертификатов должны быть заверены заводом изготовителем 1 экземпляр на закупленную партию.
B3: Все печати должны быть "синие"
B4: Гарантий талон должен быть заполненный
B5: Исправление в паспортах не допустимо
B6: Документация должна быть читаема, без повреждений, не сырые. На русском языке
B7: Комплектация должна соответствовать паспорту и иным требованиям.
B8: Не допустимо применение внешних ссылок для передачи документов. За исключением ЭДО ДИАДОК
B10: Перечень сокращений
B11: РЭ – руководство по эксплуатации
B12: ПС – паспорт
B13: СИ – средство измерения
B14: ТР ТС- технический регламент таможенного союза
... B37: Примечание: Данный перечень не является исчерпывающим. Покупатель вправе запросить иные документы, не запрещенные действующим законодательством.

Sheet Окна, двери, панели
A1: Окна, двери, панели
A2: № п/п | B2: Наименование изделия | C2: ГОСТ, ТУ и др. | D2: Применяемость | E2: Контролируемые параметры | H2: Оборудование | I2: Разрешительная и сопроводительная документация
A3: 1 | B3: Блоки оконные | C3: По факту | D3: Все изделия | E3: Внешний осмотр (не допускаются трещины, сколы, вмятины). | H3: Визуальный осмотр, Рулетка ГОСТ 7502-98 | I3: 1. Сертификат соответствия ТР ТС. 2. Сертификат пожарной безопасности
E4: Проверка габаритных размеров на соответствие размерам в сопроводительных документах
A5: 2 | B5: Блок дверной | C5: По факту | D5: Блоки тех-нологиче-ские и блоки аппа-ратурные | E5: Внешний осмотр (не допускаются трещины, сколы, вмятины). Комплектность. Проверка габаритных размеров на соответствие разме-рам в сопроводительных документах. Проверка цвета покрытия на соответствие указанному в сопроводительных докумен-тах. Толщина покрытия должна быть не менее 100 мкм (не более 350 мкм) Поверхность, покрытая по-лимерно-порошковым покрытием, должна быть: - ровной, сплошной без следов пропуска покрытия на поверхности и проколов. - без царапин и задиров - не иметь включений посторонних частиц Не допускается разнооттеночность, включения и следы порошкового покрытия другого цвета (следы напыла и меления) При нанесении декоратив-ного покрытия с эффектом «шагрень» – поверхность как «апельсиновая корка» Параметры согласно ТЗ, со-гласованному поставщиком | H5: Визуальный осмотр, Рулетка ГОСТ 7502-98, ка-талог RAL, Прибор для измерения геометрических параметров Константа К5 | I5: Сертификат пожарной безопасности. Паспорт. Сертификат соответствия ТР ТС
A6: 3 | B6: Замки (дверные, гаражные и др.) | C6: По факту | D6: Все изделия | E6: Внешний осмотр, комплект-ность | H6: Визуальный осмотр | I6: 1. Сертификат соответствия ТР ТС. 2. Паспорт
B7: Панели | C7: ТУ 5284-131-83677349-2009 | D7: Все изделия | E7: *ТТ на материалы разные. Внешний осмотр. Проверка на соответствие цвета указанному в сопроводительных документах (кроме белых, RAL9003), проверка толщины лакокра-сочного покрытия, параметры утеплителя (удельное со-противление теплопередаче контролировать по докумен-тации) | H7: Визуальный осмотр, Рулетка ГОСТ 7502-98, каталог RAL, Прибор для измерения геометрических параметров Константа К5 | I7: 1. Сертификат соответствия ТР ТС. 2. Сертификат пожарной безопасности
A8: 4 | B8: Сетки москитные | C8: По факту | D8: Все изделия | E8: Внешний осмотр (не допускаются разрывы сетки, повреждения окантовки, установочных элементов) | H8: Визуальный осмотр | I8: нет
B11: =Титульник!A19 -> 0

Sheet ЗРА
A1: Запорно-регулирующая арматура (ЗРА)
A2: № п/п | B2: Наименование изделия | C2: ГОСТ, ТУ и др. | D2: Применяемость | E2: Контролируемые параметры | H2: Оборудование | I2: Разрешительная и сопроводительная документация
A3: 1 | B3: Задвижка стальная (все прочие) | C3: По факту | D3: Все изделия | E3: *Требования к ЗРА (дополнение). Внешний вид (отсутствие механических повреждений, ровная поверхность покры-тия, без посторонних включений типа мелкого мусора, следов кисти, старого ЛКП), комплектность, соответствие габаритных размеров ПС или РЭ Требуется наличие в сопроводительной документации (паспорт) данных по хими-ческому анализу и механическим свойствам на мате-риалы, входящие в состав изделия Система антикоррозионного покрытия должна соответствовать *Требования к ЛКП ЗРА, применяемых в ОЗНА-Измерительные системы. Параметры по ТЗ, согласованному поставщиком | H3: Визуальный осмотр, Рулетка ГОСТ 7502-98, Дефектоскоп Корона 2.2, Прибор для измерения геометрических параметров Константа К5, Нож со сменными лезвиями | I3: 1. Сертификат соответствия ТР ТС032/2013; Декларация соответствия ТР ТС 010/2011. 2. ПС и/или РЭ (ОТ, ИЭ)
A4: 2 | B4: Задвижка стальная для ИУ с содержанием сероводорода свыше 2 процентов | C4: По факту | D4: Все изделия | E4: Соответствие требованиям СТ ЦКБА 052-2008 Внешний вид (отсутствие механических повреждений, ровная поверхность покры-тия, без посторонних включений типа мелкого мусора, следов кисти, старого ЛКП), комплектность, соответствие габаритных размеров ПС или РЭ. Наличие сведений о материале основных частей | H4: Визуальный осмотр, Ру-летка ГОСТ 7502-98, Де-фектоскоп Корона 2.2, Прибор для измерения геометриче-ских пара-метров Кон-станта К5, Адгезиметр-нож Кон-станта КН1 | I4: 1. Сертификат соответствия ТР ТС032/2013; Декларация соответствия ТР ТС 010/2011. 2. ПС и/или РЭ (ОТ, ИЭ) по СТ ЦКБА 031-2015
A5: 3 | B5: Задвижки стальные под электропривод (ЗКЛП) | C5: По факту | D5: Все изделия | E5: *Требования к ЗРА (дополнение). Внешний вид (отсутствие механических повреждений, ровная поверхность покрытия, без посторонних включений типа мелкого мусора, следов кисти, старого ЛКП), комплектность, Требуется наличие в сопро-водительной документации (паспорт) данных по хими-ческому анализу и механическим свойствам на мате-риалы в составе изделия Система антикоррозионного покрытия должна соответствовать *Требования к ЛКП ЗРА, применяемых в ОЗНА-Измерительные системы Параметры по ТЗ, согласованному поставщиком. Га-баритные размеры ЗКЛП (строительная длина, исполнение фланцев корпуса, высота), присоединительные размеры к эл.приводу по ГОСТ 34287-2017 | H5: Визуальный осмотр, Рулетка ГОСТ 7502-98, Штанген-циркуль ГОСТ 166-89, Дефекто-скоп Корона 2.2, Прибор для измерения геометрических параметров Кон-станта К5, Адгезиметр-нож Константа КН1 | I5: 1. Сертификат соот-ветствия/декларация по ТР ТС032/2013; Декларация соответствия ТР ТС 010/2011. 2. ПС и/или РЭ (ОТ, ИЭ) согласно НД (СТ ЦКБА 031-2015, МУК ЕТТ РН к ЗКЛ, ТТТ ГПН к Трубопроводной арматуре)
A6: 4 | B6: Задвижка стальная PN 6,3 МПа и выше | C6: По факту | D6: Все изделия | E6: *Требования к ЗРА (дополнение). Внешний вид (отсутствие механических повреждений, ровная поверхность покры-тия, без посторонних вклю-чений типа мелкого мусора, следов кисти, старого ЛКП), комплектность, соответствие габаритных размеров ПС или РЭ Требуется наличие в сопро-водительной документации (паспорт) данных по хими-ческому анализу и механи-ческим свойствам на мате-риалы, входящие в состав издели Система антикоррозионного покрытия должна соответствовать *Требования к ЛКП ЗРА, применяемых в ОЗНА-Измерительные системы. Параметры по ТЗ, согласо-ванному поставщиком | H6: Визуальный осмотр, Рулетка ГОСТ 7502-98, Дефектоскоп Корона 2.2, Прибор для измерения геометрических параметров Константа К5, Нож со сменными лезвиями | I6: 1. Сертификат соответствия ТР ТС032/2013; Декларация соответствия ТР ТС 010/2011. 2. ПС и/или РЭ (ОТ, ИЭ)
A7: 5 | B7: Запорное устройство указателя уровня жидкости | C7: По факту | D7: Все изделия | E7: Внешний вид (отсутствие механических повреждений), комплектность. Габа-ритно-присоединительные размеры | H7: Визуальный осмотр, Рулетка ГОСТ 7502-98, Штангенциркуль ГОСТ 166-89 | I7: 1.Декларация ТР ТС 010/2011. 2. ПС и/или РЭ (ОТ, ИЭ)
A8: 6 | B8: Краны шаровые без электропривода | C8: По факту | D8: Все изделия | E8: *ТТ на запорную арматуру. Внешний вид (отсутствие механических повреждений), комплектность, соответствие строительной длины ПС или РЭ | H8: Визуальный осмотр, Рулетка ГОСТ 7502-98, Штангенциркуль ГОСТ 166-89 | I8: 1. Сертификат соответствия ТР ТС032/2013; 2. ПС и/или РЭ (ОТ, ИЭ) на русском языке
A9: 7 | B9: Устройства регулирования перепада давления | C9: ТУ 3741-001-77852729-2008 | D9: Все изделия | E9: Внешний вид (отсутствие механических повреждений), комплектность, соответствие строительной дли-ны ПС или РЭ. Проверка адгезии | H9: Визуальный осмотр, Рулетка ГОСТ 7502-98, Штангенциркуль ГОСТ 166-89, Адгезиметрнож Константа КН1 | I9: 1. Декларация ТР ТС 010/2011. 2. ПС и/или РЭ (ОТ, ИЭ)
A10: 8 | B10: Клапаны предохранительные | C10: По факту | D10: Все изделия | E10: Внешний вид (отсутствие механических повреждений), комплектность, соответствие строительной длины ПС или РЭ, маркировка, давления настройки Рн, Рно. Проверка адгезии | H10: Визуальный осмотр, Рулетка ГОСТ 7502-98, Штангенциркуль ГОСТ 166-89, Адгезиметрнож Константа КН1 | I10: 1. Декларация ТР ТС 010/2011. 2. ПС и/или РЭ (ОТ, ИЭ)
A11: 9 | B11: Клапаны (затворы) обратные поворотные | C11: По факту | D11: Все изделия | E11: *ТТ на запорную арматуру. Внешний вид (отсутствие механических повреждений), комплектность. Проверка адгезии | H11: Визуальный осмотр, Рулетка ГОСТ 7502-98, Штанген-циркуль ГОСТ 166-89, Адгези-метрнож Константа КН1 | I11: 1. Декларация ТР ТС 010/2011. 2. ПС и/или РЭ (ОТ, ИЭ)
A12: 10 | B12: Клапаны магнитоуправляемые | C12: ТУ 3742-005-77852729-2010 | D12: АГЗУ, «ОЗ-НА-МАССО-МЕР» | E12: Внешний вид (отсутствие механических повреждений), комплектность. Габаритно-присоединительные размеры | H12: Визуальный осмотр, Рулетка ГОСТ 7502-98, Штанген-циркуль ГОСТ 166-89, Угломер ГОСТ 5378-88 | I12: 1. Декларация ТР ТС 010/2011. 2. ПС и/или РЭ (ОТ, ИЭ)
A13: 11 | B13: Регуляторы расхода | C13: По факту | D13: АГЗУ, «ОЗ-НА-МАССО-МЕР» | E13: Внешний вид (отсутствие механических повреждений), комплектность. Габаритно-присоединительные размеры | H13: Визуальный осмотр, Рулетка ГОСТ 7502-98, Штангенциркуль ГОСТ 166-89, Угломер ГОСТ 5378-88 | I13: 1. Декларация ТР ТС 010/2011. 2. ПС и/или РЭ (ОТ, ИЭ)
A14: 12 | B14: Заслонки | C14: ТУ 3742-006- 57251704-2006, ТУ 4218-005-57251704-2006 | D14: АГЗУ, «ОЗНА-МАССО-МЕР» | E14: Внешний вид (отсутствие механических повреждений), комплектность. Габаритно-присоединительные размеры | H14: Визуальный осмотр, Рулетка ГОСТ 7502-98, Штангенциркуль ГОСТ 166-89 | I14: 1. Декларация ТР ТС 010/2011. 2.ПС и/или РЭ (ОТ, ИЭ)
... A18: 16 | B18: Вентили игольчатые | C18: По факту | D18: АГЗУ, «ОЗ-НА-МАССО-МЕР» | E18: Внешний вид (отсутствие механических повреждений), комплектность, проверка габаритных размеров на соответствие ПС | H18: Визуальный осмотр, Рулетка ГОСТ 7502-98, Штанген-циркуль ГОСТ 166-89 | I18: 1. Декларация ТР ТС 010/2011. 2. ПС и/или РЭ (ОТ, ИЭ) на русском языке
B20: =Титульник!A19 -> 0

Sheet Прокладки, кольца, мембраны
A1: Прокладки, кольца, мембраны
A2: № п/п | B2: Наименование изделия | C2: ГОСТ, ТУ и др. | D2: Применяемость | E2: Контролируемые параметры | H2: Оборудование | I2: Разрешительная и сопроводительная документация
A3: 1 | B3: Прокладки | C3: По факту | D3: Все изделия | E3: Внешний осмотр (не допускаются: наплывы, расслоение, не совпадение диаметров). Проверка на соответствие шаблону. Изготовленных по ОСТ и ГОСТ на соответствие геометрических размеров по ОСТ и ГОСТ | H3: Визуальный осмотр Штанген-циркуль ГОСТ 166-89 Шаблон | I3: 1.Сертификат соответствия ГОСТ; 2.Сертификат качества; 3. Паспорт
A4: 2 | B4: Мембраны | C4: По факту | D4: Узлы (регу-ляторы, ПСМ и т.д.) | E4: Внешний осмотр (не допускаются: наплывы, расслоение, не совпадение диаметров), проверка на соответствие шаблону | H4: Визуальный осмотр Штанген-циркуль ГОСТ 166-89 | I4: 1.Сертификат соответствия ГОСТ; 2.Сертификат качества; 3. Паспорт
A5: 3 | B5: Кольца резиновые, паронитовые, фто-ропластовые и др. | C5: По факту | D5: Все изделия | E5: Внешний осмотр (не допускаются: наплывы, расслоение, не совпадение диаметров). Проверка на соответствие шаблону. Изготовленных по ОСТ и ГОСТ на соответствие геометрических размеров по ОСТ и ГОСТ | H5: Визуальный осмотр Штанген-циркуль ГОСТ 166-89 | I5: 1.Сертификат соответствия ГОСТ; 2.Сертификат качества; 3. Паспорт
A6: 4 | B6: Манжеты | C6: ГОСТ 8752-79, ГОСТ 6678-72, ГОСТ 14896-84 | D6: Узлы | E6: Внешний осмотр (не допускаются: наплывы, расслоение, не совпадение диаметров). Проверка на соответствие шаблону. Изготовленных по ОСТ и ГОСТ на соответствие геометрических размеров по ОСТ и ГОСТ | H6: Визуальный осмотр Штанген-циркуль ГОСТ 166-89 Шаблон | I6: 1.Сертификат соответствия ГОСТ; 2.Сертификат качества; 3. Паспорт
A7: 5 | B7: Кольцо А98 | C7: ГОСТ 13941-86 | D7: Краны ша-ровые | E7: Внешний осмотр (не допускаются механические повреждения) Диаметр кольца- Ø103,5+1,08-0,54 Ширина кольца – 6 мм, Наличие отверстий на кольце для монтажа и демонтажа кольца из седла крана Ø2- 2 отв. толщ кольца-2мм | H7: Визуальный осмотр Штанген-циркуль | I7: 1.Сертификат соответствия ГОСТ; 2. Сертификат качества; 3. Паспорт или другой документ выполняющий его функцию

Sheet СДТ
A1: Соединительные детали трубопроводов (СДТ)
A2: № п/п | B2: Наименование изделия | C2: ГОСТ, ТУ и др. | D2: Применяемость | E2: Контролируемые параметры | H2: Оборудование | I2: Разрешительная и сопроводительная документация
A3: 1 | B3: Отводы | C3: По факту | D3: Все изделия | E3: *ТТ на элементы трубопроводов. *Тех задание на поставку комплектующих отводы ГОСТ 17375-2001. *Тех задание на поставку комплектующих переход ГОСТ 17378. *Тех задание на поставку комплектующих тройник ГОСТ 17376. *Тех задание на поставку комплектующих заглушки эллиптические 17379. *Тех задание на поставку комплектующих днище ГОСТ 6533. Уточнять параметры по чертежам и ТЗ, согласованным поставщиком Внешний осмотр, проверка габаритных размеров, наличия маркировки (угол гибки, диаметр, толщина стенки с допуском (согласно нормативной документации), марка стали, штамп ОТК). Наличие сведений о химическом составе и механических испытаниях. Проверка наличия информации в паспорте по испытаниям на ударную вязкость KCU при t до минус 60°С для сталей 09Г2С и 13ХФА. Запрещается приобретать тройники сварного исполнения | H3: Визуальный осмотр, Штанген-циркуль ГОСТ 166-89, Рулетка ГОСТ 7502-98, Угломер ГОСТ 5378-88 | I3: 1. Сертификат соответствия ТР ТС 032/2013; 2. Сертификат качества на материал; 3. Паспорт.
A4: 2 | B4: Переход | C4: По факту
A5: 3 | B5: Тройники | C5: По факту
A6: 4 | B6: Угольники | C6: По факту
A7: 5 | B7: Заглушки | C7: По факту
A8: 6 | B8: Днище | C8: ГОСТ 6533-78
A9: 7 | B9: Фланцы | C9: Согласно КД, согласован-ной постав-щиком, СТО 00135786-157-2017, ГОСТ 33259-2015
A10: 8 | B10: Манифольды | C10: По факту
A11: 9 | B11: Детали механической обработки | C11: По факту | D11: Все изделия | E11: Согласно КД | H11: Визуальный осмотр, Рулетка ГОСТ 7502-98, Штанген-циркуль ГОСТ 166-89 | I11: Сертификат качества на материал; ярлык с маркировкой шифра детали
B13: =Титульник!A19 -> 0

Sheet Арматура, ПКИ к трубопроводам
A1: Арматура, ПКИ к трубопроводам
A2: № п/п | B2: Наименование изделия | C2: ГОСТ, ТУ и др. | D2: Применяемость | E2: Контролируемые параметры | H2: Оборудование | I2: Разрешительная и сопроводительная документация
A3: 1 | B3: Заслонка газовая МПК все исполнения | C3: По факту | D3: Все изделия | E3: Внешний вид (отсутствие механических повреждений), комплектность. Соответствие информации на шильде паспортным данным (наименование, серийный номер, входные и/или выходные параметры). Соответствие габаритных размеров данным паспорта (руководства по эксплуатации). Качество приложенной документации должно быть достаточным для уверенного восприятия всей содержащейся графической и текстовой информации. | H3: Визуальный осмотр, Рулетка ГОСТ 7502-98, Штанген- циркуль ГОСТ 166-89 | I3: 1. Декларация ТР ТС 010/2011; 2.ПС и/или РЭ.
A4: 2 | B4: Пробоотборник ручной (типа Стандарт-Р и др.)
A5: 3 | B5: Устройства пробозаборные щелевые
A6: 4 | B6: Блок клапанный 0106 М
A7: 5 | B7: Регулятор расхода КМР все исполнения
A8: 6 | B8: Клапан предохранительный (типа КПП, СППК и др.) | E8: Внешний вид (отсутствие механических повреждений), комплектность. Соответствие информации на шильде паспортным данным (наименование, серийный номер, входные и/или выходные параметры). Соответствие габаритных размеров данным паспорта (руководства по эксплуатации). Качество приложенной документации должно быть достаточным для уверенного восприятия всей содержащейся графической и текстовой информации. | H8: Визуальный осмотр, Рулетка ГОСТ 7502-98, Штангенциркуль ГОСТ 166-89 | I8: 1. Сертификат соответствия ТР ТС 032/2013, 2. Декларация ТР ТС 010/2011 3. ПС и/или РЭ.
A9: 7 | B9: Клапан дыхательный КДМ | H9: Визуальный осмотр, Рулетка ГОСТ 7502-98, Штангенциркуль ГОСТ 166-89
A10: 8 | B10: Прибор определения в жидкостной линии свободного газа (типа УОСГ-100 СКП и другие исполнения) | C10: По факту | D10: Все изделия | E10: Внешний вид (отсутствие механических повреждений), комплектность. Соответствие информации на шильде паспортным данным (наименование, серийный номер, входные и/или выходные параметры). Соответствие габаритных размеров данным паспорта (руководства по эксплуатации). Качество приложенной документации должно быть достаточным для уверенного восприятия всей содержащейся графической и текстовой информации. | H10: Визуальный осмотр, Рулетка ГОСТ 7502-98, Штангенциркуль ГОСТ 166-89 | I10: 1. Декларация ТР ТС 010/2011 2. ПС и РЭ на рус. яз. 3. Сертификат об утверждении типа средств измерений (действующий на дату изготовления средства измерений) с приложением - Описание типа средства измерений. 4. Методика поверки. 5. Сведения об утвержденном типе средства измерений, включенные в ФИФ ОЕИ 6. Сведения о результатах поверки средства измерений, включенные в ФИФ ОЕИ
A11: 9 | B11: Фильтр - коалесцер (типа ГКВ-7) | C11: По факту | D11: Все изделия | E11: Внешний вид (отсутствие механических повреждений), комплектность. Соответствие информации на шильде паспортным данным (наименование, серийный номер, входные и/или выходные параметры). Соответствие габаритных размеров данным паспорта (руководства по эксплуатации). Качество приложенной документации должно быть достаточным для уверенного восприятия всей содержащейся графической и текстовой информации. | H11: Визуальный осмотр, Рулетка ГОСТ 7502-98, Штангенциркуль ГОСТ 166-89 | I11: 1. ПС и/или РЭ. 2. Декларация ТР ТС 010/2011.
A12: 10 | B12: Затвор ВА99017-100-16-МФ-Д-С241 всех исполнений | C12: По факту | D12: Все изделия | E12: Внешний вид (отсутствие механических повреждений), комплектность. Соответствие информации на шильде паспортным данным (наименование, серийный номер, входные и/или выходные параметры). Соответствие габаритных размеров данным паспорта (руководства по эксплуатации). Качество приложенной документации должно быть достаточным для уверенного восприятия всей содержащейся графической и текстовой информации. | H12: Визуальный осмотр, Рулетка ГОСТ 7502-98, Штангенциркуль ГОСТ 166-89 | I12: 1. Сертификат соответствия ТР ТС 032/2013; 2. Декларация ТР ТС 010/2011. 3. ПС и/или РЭ. (ОТ или ОЭ).
A13: 11 | B13: Клапан обратный GENEBRE2415 всех исполнений | C13: По факту | D13: Все изделия | E13: Внешний вид (отсутствие механических повреждений), комплектность. Соответствие информации на шильде паспортным данным (наименование, серийный номер, входные и/или выходные параметры). Соответствие габаритных размеров данным паспорта (руководства по эксплуатации). Качество приложенной документации должно быть достаточным для уверенного восприятия всей содержащейся графической и текстовой информации. | H13: Визуальный осмотр, Рулетка ГОСТ 7502-98, Штангенциркуль ГОСТ 166-89 | I13: 1. Сертификат соответствия ТР ТС 032/2013; 2.Декларация ТР ТС 010/2011. 3. ПС и/или РЭ. (ОТ или ОЭ).
A14: 12 | B14: Клапан регулирующий КРО 65501-80 | C14: По факту | D14: Все изделия | E14: Внешний вид (отсутствие механических повреждений), комплектность. Соответствие информации на шильде паспортным данным (наименование, серийный номер, входные и/или выходные параметры). Соответствие габаритных размеров данным паспорта (руководства по эксплуатации). Качество приложенной документации должно быть достаточным для уверенного восприятия всей содержащейся графической и текстовой информации. | H14: Визуальный осмотр, Рулетка ГОСТ 7502-98, Штангенциркуль ГОСТ 166-89 | I14: 1. Декларация ТР ТС 010/2011. 2. ПС и/или РЭ. (ОТ или ОЭ).
A15: 13 | B15: Фильтр сетчатый НЕМЕН 821F-C80 | C15: По факту | D15: Все изделия | E15: Внешний вид (отсутствие механических повреждений), комплектность. Соответствие информации на шильде паспортным данным (наименование, серийный номер, входные и/или выходные параметры). Соответствие габаритных размеров данным паспорта (руководства по эксплуатации). Качество приложенной документации должно быть достаточным для уверенного восприятия всей содержащейся графической и текстовой информации. | H15: Визуальный осмотр, Рулетка ГОСТ 7502-98, Штанген- циркуль ГОСТ 166-89 | I15: 1. Декларация ТР ТС 010/2011. 2. ПС и/или РЭ (ОТ, ИЭ) на русском языке.
A16: 14 | B16: Фильтр сетчатый АДЛ IS16.01.0600.100.16 | E16: Внешний вид (отсутствие механических повреждений), комплектность. Соответствие информации на шильде паспортным данным (наименование, серийный номер, входные и/или выходные параметры). Соответствие габаритных размеров данным паспорта (руководства по эксплуатации). Качество приложенной документации должно быть достаточным для уверенного восприятия всей содержащейся графической и текстовой информации.
A17: 15 | B17: Кран-манипулятор | C17: По факту | D17: ТПУ | E17: По согласованной КД | H17: Визуальный осмотр, Рулетка ГОСТ 7502-98 и т.д. согласно требованиям КД | I17: 1. Декларация ТР ТС 010/2011. 2. ПС и/или РЭ (ОТ, ИЭ) на русском языке.
B19: =Титульник!A19 -> 0

Sheet Метизы
A1: Метизы
A2: № п/п | B2: Наименование изделия | C2: ГОСТ, ТУ и др. | D2: Применяемость | E2: Контролируемые параметры | H2: Оборудование | I2: Разрешительная и сопроводительная документация
A3: 1 | B3: Шпильки | C3: По факту | D3: Все изделия | E3: *ТТ на метизы. Проверка резьбы, размеров на соответствие указанным в сопроводительном документе, отсутствие изгибов по длине ГОСТ 20700-75 | H3: Визуальный осмотр, Штанген- циркуль ГОСТ 166-89, Калибр резьбовой, плита ГОСТ 10905-86, щупы КТ 2 | I3: Сертификат качества
A4: 2 | B4: Гайки, контргайки | C4: По факту
A5: 3 | B5: Винты | C5: По факту
A6: 4 | B6: Болты | C6: По факту
A7: 5 | B7: Шайбы | C7: По факту | D7: Все изделия | E7: *ТТ на метизы. Проверка размеров на соответствие указанным в сопроводительном документе, отсутствие изгибов по длине | I7: Сертификат качества
A8: 6 | B8: Заклепки | C8: По факту
A9: 7 | B9: Винты кровельные | C9: По факту
A10: 8 | B10: Гвозди | C10: По факту
A11: 9 | B11: Шплинты | C11: По факту | D11: Узлы
A12: 10 | B12: Шпонки | C12: По факту
A13: 11 | B13: Штифты | C13: По факту
A14: 12 | B14: Шурупы | C14: По факту
B17: =Титульник!A19 -> 0

Sheet КИПиА
A1: № п/п | B1: Наименование изделия | C1: ГОСТ, ТУ и др. | D1: Применяемость | E1: Контролируемые параметры | I1: Разрешительная и сопроводительная документация
A2: 1 | B2: Расходомер многофазный | C2: По факту | D2: Все изделия | E2: *ТТ на приборы КИПиА - датчики уровня. Внешний вид (отсутствие механических повреждений), комплектность. Соответствие информации на шильде паспортным данным (наименование, серийный номер, входные и/или выходные параметры). Соответствие габаритных размеров паспортным (РЭ) данным. Качество приложенной документации должно быть достаточным для уверенного восприятия всей содержащейся графической и текстовой информации. | I2: 1. Сертификат соответствия ТР ТС 012/2011; 2. Декларация ТР ТС 020/2011. 3. ПС и РЭ на рус. яз. 4. Сертификат об утверждении типа средств измерений (действующий на дату изготовления средства измерений) с приложением - Описание типа средства измерений. 5. Методика поверки. 6. Сведения об утвержденном типе средства измерений, включенные в ФИФ ОЕИ 7. Сведения о результатах поверки средства измерений, включенные в ФИФ ОЕИ 8. Паспорт безопасности на источник. 9. На средства измерений, входящие в состав расходомера (датчик давления и температуры, первичный термо-преобразова-тель сопротивле-ния): - ПС и РЭ на рус. яз. - Сертификат об утверждении типа средств измерений (действующий на дату изготовления средства измерений) с приложением - Описание типа средства измерений. - Методика поверки. - Сведения об утвержденном типе средства измерений, включенные в ФИФ ОЕИ - Сведения о результатах поверки средства измерений, включенные в ФИФ ОЕИ 10. Санитарно-эпидемиологическое заключение
A3: 2 | B3: Расходомер массовый кориолисовый | C3: По факту | D3: Все изделия | E3: Внешний вид (отсутствие механических повреждений), комплектность. Соответствие информации на шильде паспортным данным (наименование, серийный номер, входные и/или выходные параметры). Соответствие габаритных размеров паспортным (РЭ) данным. Качество приложенной документации должно быть достаточным для уверенного восприятия всей содержащейся графической и текстовой информации. Остаточный срок поверки не менее 3 лет | I3: 1. Сертификат соответствия ТР ТС 012/2011; 2. Декларация ТР ТС 020/2011. 3. ПС и РЭ на рус. яз. 4. Сертификат об утверждении типа средств измерений (действующий на дату изготовления средства измерений) с приложением - Описание типа средства измерений. 5. Методика поверки. 6. Сведения об утвержденном типе средства измерений, включенные в ФИФ ОЕИ 7. Сведения о результатах поверки средства измерений, включенные в ФИФ ОЕИ
A4: 3 | B4: Счетчики жидкости массовые | C4: По факту | D4: Все изделия | E4: Внешний вид (отсутствие механических повреждений), комплектность. Соответствие информации на шильде паспортным данным (наименование, серийный номер, входные и/или выходные параметры). Соответствие габаритных размеров паспортным (РЭ) данным. Качество приложенной документации должно быть достаточным для уверенного восприятия всей содержащейся графической и текстовой информации. Остаточный срок поверки не менее 3 лет | I4: 1. Сертификат соответствия ТР ТС 012/2011; 2. Декларация ТР ТС 020/2011. 3. ПС и РЭ на рус. яз. 4. Сертификат об утверждении типа средств измерений (действующий на дату изготовления средства измерений) с приложением - Описание типа средства измерений. 5. Методика поверки. 6. Сведения об утвержденном типе средства измерений, включенные в ФИФ ОЕИ 7. Сведения о результатах поверки средства измерений, включенные в ФИФ ОЕИ
A5: 4 | B5: Счетчики газа и жидкости объемные | C5: По факту | D5: Все изделия | E5: Внешний вид (отсутствие механических повреждений), комплектность. Соответствие информации на шильде паспортным данным (наименование, серийный номер, входные и/или выходные параметры). Соответствие габаритных размеров паспортным (РЭ) данным. Качество приложенной документации должно быть достаточным для уверенного восприятия всей содержащейся графической и текстовой информации. Остаточный срок поверки не менее 3 лет | I5: 1. Сертификат соответствия ТР ТС 012/2011; 2. Декларация ТР ТС 020/2011. 3. ПС и РЭ на рус. яз. 4. Сертификат об утверждении типа средств измерений (действующий на дату изготовления средства измерений) с приложением - Описание типа средства измерений. 5. Методика поверки. 6. Сведения об утвержденном типе средства измерений, включенные в ФИФ ОЕИ 7. Сведения о результатах поверки средства измерений, включенные в ФИФ ОЕИ
A6: 5 | B6: Влагомеры | C6: По факту | D6: Все изделия | E6: Внешний вид (отсутствие механических повреждений), комплектность. Соответствие информации на шильде паспортным данным (наименование, серийный номер, входные и/или выходные параметры). Соответствие габаритных размеров паспортным (РЭ) данным. Качество приложенной документации должно быть достаточным для уверенного восприятия всей содержащейся графической и текстовой информации. Остаточный срок поверки не менее 3 лет | I6: 1. Сертификат соответствия ТР ТС 012/2011; 2. Декларация ТР ТС 020/2011. 3. ПС и РЭ на рус. яз. 4. Сертификат об утверждении типа средств измерений (действующий на дату изготовления средства измерений) с приложением - Описание типа средства измерений. 5. Методика поверки. 6. Сведения об утвержденном типе средства измерений, включенные в ФИФ ОЕИ 7. Сведения о результатах поверки средства измерений, включенные в ФИФ ОЕИ
A7: 6 | B7: Датчики давления (избыточного, абсолютного, дифференциального, гидростатического) | C7: По факту | D7: Все изделия | E7: *ТТ на приборы КИПиА - датчики давления. Внешний вид (отсутствие механических повреждений), комплектность. Соответствие информации на шильде паспортным данным (наименование, серийный номер, входные и/или выходные параметры). Соответствие габаритных размеров паспортным (РЭ) данным. Качество приложенной документации должно быть достаточным для уверенного восприятия всей содержащейся графической и текстовой информации. Остаточный срок поверки не менее 3 лет | I7: 1. Сертификат соответствия ТР ТС 012/2011; 2. Декларация ТР ТС 020/2011. 3. ПС и РЭ на рус. яз. 4. Сертификат об утверждении типа средств измерений (действующий на дату изготовления средства измерений) с приложением - Описание типа средства измерений. 5. Методика поверки. 6. Сведения об утвержденном типе средства измерений, включенные в ФИФ ОЕИ 7. Сведения о результатах поверки средства измерений, включенные в ФИФ ОЕИ
A8: 7 | B8: Датчики температуры и термопреобразователи | C8: По факту | D8: Все изделия | E8: *ТТ на приборы КИПиА - датчики температуры. Внешний вид (отсутствие механических повреждений), комплектность. Соответствие информации на шильде паспортным данным (наименование, серийный номер, входные и/или выходные параметры). Соответствие габаритных размеров паспортным (РЭ) данным. Качество приложенной документации должно быть достаточным для уверенного восприятия всей содержащейся графической и текстовой информации. Остаточный срок поверки не менее 3 лет | I8: 1. Сертификат соответствия ТР ТС 012/2011; 2. Декларация ТР ТС 020/2011. 3. ПС и РЭ на рус. яз. 4. Сертификат об утверждении типа средств измерений (действующий на дату изготовления средства измерений) с приложением - Описание типа средства измерений. 5. Методика поверки. 6. Сведения об утвержденном типе средства измерений, включенные в ФИФ ОЕИ 7. Сведения о результатах поверки средства измерений, включенные в ФИФ ОЕИ
A9: 8 | B9: Уровнемеры поплавковые | C9: По факту | D9: Все изделия | E9: Внешний вид (отсутствие механических повреждений), комплектность. Соответствие информации на шильде паспортным данным (наименование, серийный номер, входные и/или выходные параметры). Соответствие габаритных размеров паспортным (РЭ) данным. Качество приложенной документации должно быть достаточным для уверенного восприятия всей содержащейся графической и текстовой информации. Остаточный срок поверки не менее 3 лет | I9: 1. Сертификат соответствия ТР ТС 012/2011; 2. Декларация ТР ТС 020/2011. 3. ПС и РЭ на рус. яз. 4. Сертификат об утверждении типа средств измерений (действующий на дату изготовления средства измерений) с приложением - Описание типа средства измерений. 5. Методика поверки. 6. Сведения об утвержденном типе средства измерений, включенные в ФИФ ОЕИ 7. Сведения о результатах поверки средства измерений, включенные в ФИФ ОЕИ
A10: 9 | B10: Сигнализаторы уровня | C10: По факту | D10: Все изделия | E10: Внешний вид (отсутствие механических повреждений), комплектность. Соответствие информации на шильде паспортным данным (наименование, серийный номер, входные и/или выходные параметры). Соответствие габаритных размеров паспортным (РЭ) данным. Качество приложенной документации должно быть достаточным для уверенного восприятия всей содержащейся графической и текстовой информации. Остаточный срок поверки не менее 3 лет | I10: 1. Сертификат соответствия ТР ТС 012/2011; 2. Декларация ТР ТС 020/2011. 3. ПС и РЭ на рус. яз. 4. Сертификат об утверждении типа средств измерений (действующий на дату изготовления средства измерений) с приложением - Описание типа средства измерений. 5. Методика поверки. 6. Сведения об утвержденном типе средства измерений, включенные в ФИФ ОЕИ 7. Сведения о результатах поверки средства измерений, включенные в ФИФ ОЕИ
A11: 10 | B11: Полевой барьер искрозащиты | C11: По факту | D11: Все изделия | E11: Внешний вид (отсутствие механических повреждений), комплектность. Соответствие информации на шильде паспортным данным (наименование, серийный номер, входные и/или выходные параметры). Соответствие габаритных размеров данным паспорта (руководства по эксплуатации). Качество приложенной документации должно быть достаточным для уверенного восприятия всей содержащейся графической и текстовой информации.
A12: 11 | B12: Дозиметр гамма-излучения | C12: По факту | D12: Все изделия | E12: Внешний вид (отсутствие механических повреждений), комплектность. Соответствие информации на шильде паспортным данным (наименование, серийный номер, входные и/или выходные параметры). Соответствие габаритных размеров данным паспорта (руководства по эксплуатации). Качество приложенной документации должно быть достаточным для уверенного восприятия всей содержащейся графической и текстовой информации. | I12: 1. Сертификат соответствия ТР ТС 012/2011; 2. Декларация ТР ТС 020/2011. 3. ПС и РЭ на рус. яз. 4. Сертификат об утверждении типа средств измерений (действующий на дату изготовления средства измерений) с приложением - Описание типа средства измерений. 5. Методика поверки. 6. Сведения об утвержденном типе средства измерений, включенные в ФИФ ОЕИ 7. Сведения о результатах поверки средства измерений, включенные в ФИФ ОЕИ
A13: 12 | B13: Дозиметр-радиометр
A14: 13 | B14: Манометры | C14: По факту | D14: Все изделия | E14: Внешний осмотр (отсутствие внешних повреждений, трещин на стекле, сколов), комплектность. Наличие действующего документа о поверке с резервом не менее 2/3 срока по-верки на момент проверки. Сверка данных сопроводи-тельной документации и маркировки прибора Наличие маркировки защиты от проникновения пыли и влаги IP на корпусе прибора (при особых требованиях Заказчика) | I14: 1.Сертификат соответствия ТР ТС; 2. Сертификат об утверждении типа средств измерений с описанием типа 3.ПС, РЭ (ИЭ) на русском языке. 4. Методика повер-ки
A15: 14 | B15: Термометры ртутные | E15: Внешний осмотр (отсутствие внешних поврежде-ний, трещин на стекле, сколов), комплектность Наличие действующего документа о поверке с резервом не менее 2/3 срока поверки на момент проверки
A16: 15 | B16: Термометры биметаллические (с гильзой) | E16: Внешний осмотр (отсутствие внешних поврежде-ний, трещин на стекле, сколов), комплектность. Наличие действующего документа о поверке с резервом не менее 2/3 срока поверки на момент проверки Проверка резьбы присоединения на штоке и длину погружной части.
B20: =Титульник!A19 -> 0

Sheet Вентиляция, кондиционирование
A1: Вентиляция, кондиционирование
A2: № п/п | B2: Наименование изделия | C2: ГОСТ, ТУ и др. | D2: Применяемость | E2: Контролируемые параметры | I2: Разрешительная и сопроводительная документация
A3: 1 | B3: Вентиляторы взрывозащищенные | C3: По факту | D3: Все изделия | E3: Внешний вид (отсутствие механических повреждений), комплектность. Проверка свободного вращения крыльчатки вентилятора | I3: 1.Сертификат соответствия ТР ТС 010/2011. 2.Сертификат соответствия ТР ТС 012/2011. 2. ПС и/или РЭ (ОТ, ИЭ)
A4: 2 | B4: Воздуховоды | C4: По факту | D4: Все изделия | E4: Внешний вид (отсутствие механических повреждений), комплектность, проверка габаритных и присоединительных размеров на соответствие ПС и КД Параметры согласно ТЗ, согласованному поставщиком | I4: Свидетельство о приёмке
A5: 3 | B5: Дефлекторы (с узлом прохода) | C5: По факту | D5: Все изделия | E5: Внешний вид (отсутствие механических повреждений), комплектность, проверка габаритных и присоединительных размеров на соответствие ПС и КД Параметры согласно ТЗ, согласованному поставщиком Резьба для крана на заслонке G 3/8 | I5: Свидетельство о приёмке
A6: 4 | B6: Клапаны обратные взрывозащищенные для вентиляционных систем | C6: По факту | D6: Все изделия | E6: Внешний вид (отсутствие механических повреждений), комплектность. Габаритно-присоединительные размеры Параметры согласно ТЗ, согласованному поставщиком | I6: 1.Сертификат соответствия ТР ТС 010/2011. 2.Сертификат соответствия ТР ТС 012/2011. 3. ПС и/или РЭ (ОТ, ИЭ)
A7: 5 | B7: Отводы, переходы вентиляционных систем | C7: По факту | D7: Все изделия | E7: Внешний вид (отсутствие механических повреждений), комплектность, проверка габаритных и присоединительных размеров на соответствие ПС и КД. Параметры согласно ТЗ, согласованному поставщиком | I7: Свидетельство о приёмке
A8: 6 | B8: Сплит-системы, кондиционеры | C8: По факту | D8: Все изделия (блоки аппаратурные) | E8: Внешний вид (отсутствие механических повреждений), комплектность | I8: 1. Сертификат соответствия ТР ТС 010/2011, Декларация ТР ТС 020/2011. 2.ПС и/или РЭ (ОТ, ИЭ)
A9: 7 | B9: Вентилятор форточный | C9: По факту | D9: Все изделия (блоки аппаратурные) | E9: Внешний вид (отсутствие механических повреждений, проверка свободного враще-ния лопастей при их доступности), комплектность | I9: ПС и/или РЭ (ОТ, ИЭ)
A10: 8 | B10: Решетки вентиляционные | C10: По факту | D10: Все изделия | E10: Внешний вид (отсутствие механических повреждений), комплектность | I10: Свидетельство о приёмке
A11: 9 | B11: Гибкая вставка типа ВГТ | C11: По факту | D11: Все изделия | E11: Внешний вид (отсутствие механических повреждений), комплектность, проверка габаритных и присоединительных размеров на соответствие ПС Параметры согласно ТЗ, согласованному поставщиком | I11: ПС и/или РЭ (ОТ, ИЭ)
A12: 10 | B12: Клапан воздушный или жалюзийная решетка с электроприводом | C12: По факту | D12: Все изделия | E12: Внешний вид (отсутствие механических повреждений), комплектность, проверка габаритных и присоединительных размеров на соответствие ПС Параметры согласно ТЗ, согласованному поставщиком | I12: 1.Сертификат соответствия ТР ТС 004/2011. 2.Сертификат соответствия ТР ТС 012/2011 (только на взрывозащищенные). 3. ПС и/или РЭ (ОТ, ИЭ)
B14: =Титульник!A19 -> 0

Sheet Обогрев, освещение
A1: Обогрев, освещение
A2: № п/п | B2: Наименование изделия | C2: ГОСТ, ТУ и др. | D2: Применяемость | E2: Контролируемые параметры | I2: Разрешительная и сопроводительная документация
A3: 1 | B3: Светильники | C3: По факту | D3: Все изделия | E3: *ТТ на светильники не взрывозащищенные. *ТТ на светильники взрывозащищенные. Внешний осмотр (проверка целостности плафонов, отсутствие механических по-вреждений корпуса), комплектность (наличие зажимных винтов) | I3: 1. Сертификат соот-ветствия ТР ТС 004/2011, Деклара-ция ТР ТС 020/2011; 2.Сертификат соответствия ТР ТС 012/2011 (только на взрывозащищенные); 3. ПС и/или РЭ (ОТ, ИЭ)
A4: 2 | B4: Прожекторы | C4: По факту | D4: Все изделия | E4: *ТТ на светильники не взрывозащищенные. *ТТ на светильники взрывозащищенные. Внешний осмотр (проверка целостности плафонов, отсутствие механических по-вреждений корпуса), комплектность (наличие зажимных винтов) | I4: 1. Сертификат соот-ветствия ТР ТС 004/2011, Деклара-ция ТР ТС 020/2011; 2.Сертификат соответствия ТР ТС 012/2011 (только на взрывозащищенные); 3. ПС и/или РЭ (ОТ, ИЭ)
A5: 3 | B5: Светильники аварийные | C5: По факту | D5: Все изделия (блоки аппаратурные) | E5: *ТТ на светильники не взрывозащищенные. *ТТ на светильники взрывозащищенные. Внешний осмотр (проверка целостности плафонов, отсутствие механических по-вреждений корпуса), комплектность (наличие зажимных винтов) | I5: 1. Сертификат соот-ветствия ТР ТС 004/2011, Деклара-ция ТР ТС 020/2011; 2.Сертификат соответствия ТР ТС 012/2011 (только на взрывозащищенные); 3. ПС и/или РЭ (ОТ, ИЭ)
A6: 4 | B6: Электрообогреватели | C6: По факту | D6: Все изделия | E6: Внешний осмотр (не допускаются разрывы сетки, повреждения окантовки, установочных элементов). Присоединительные и Габаритный размеры | I6: 1. Сертификат соответствия ТР ТС 004/2011, Декларация ТР ТС 020/2011; 2.Сертификат соответствия ТР ТС 012/2011 (только на взрывозащищенные); 3. ПС и/или РЭ (ОТ, ИЭ)
A7: 6 | B7: Трубчатые электро-нагреватели | C7: ГОСТ 13268-88 | D7: Обогрева-тель Ха2.983.003-01 | E7: Внешний осмотр (отсутствие механических повреждений), комплектность и соответствие типа по КД) | I7: 1. Сертификат соответствия ТР ТС 004/2011, Декларация ТР ТС 020/2011; 3. ПС и/или РЭ (ОТ, ИЭ)
A8: 7 | B8: Конвекторы, тепловентиляторы, электрообогреватели, печи, электрокалориферы, электропанели | C8: По факту | D8: Все изделия (блоки ап-паратурные) | E8: Внешний осмотр (отсутствие механических повреждений), комплектность | I8: 1. Сертификат соот-ветствия ТР ТС 004/2011, Декларация ТР ТС 020/2011; 2.Сертификат соответствия ТР ТС 012/2011 (только на взрывозащищенные); 3. ПС и/или РЭ (ОТ, ИЭ)
A9: 8 | B9: Панели инфракрасные | C9: По факту | D9: Все изделия | E9: Внешний осмотр (отсутствие механических повреждений), комплектность | I9: 1. Сертификат соответствия ТР ТС 004/2011, Декларация ТР ТС 020/2011; 2.Сертификат соответствия ТР ТС 012/2011 (только на взрывозащищенные); 3. ПС и/или РЭ (ОТ, ИЭ)
A10: 10 | B10: Лампы накаливания, энергосберегающая и др. | C10: По факту | D10: Все изделия | E10: Внешний осмотр (отсутствие механических повреждений, целостность колбы) | I10: Этикетка
A11: 11 | B11: Фонари аккумуляторные | C11: По факту | D11: Все изделия | E11: Внешний осмотр (отсутствие механических повреждений), комплектность | I11: 1.Сертификат соответствия ТР ТС 012/2011 (только на взрывозащищенные); 2. ПС и/или РЭ (ОТ, ИЭ)
A12: 12 | B12: Датчик-реле температуры, реле температуры | C12: По факту | D12: Все изделия | E12: Внешний осмотр (отсутствие внешних поврежде-ний), комплектность. | I12: 1. Сертификат соответствия ТР ТС 004/2011, Декларация ТР ТС 020/2011; 2.Сертификат соответствия ТР ТС 012/2011 (только на взрывозащищенные); 3.ПС и/или РЭ (ОТ, ИЭ) на русском языке
A13: 13 | B13: Регулятор | C13: По факту | D13: Все изделия (блоки ап-паратурные) | E13: Внешний осмотр (отсутствие внешних поврежде-ний), комплектность. | I13: 1. Сертификат соответствия ТР ТС 004/2011, Декларация ТР ТС 020/2011; 2.ПС и/или РЭ (ОТ, ИЭ) на русском языке
B15: =Содержание!A22 -> Лакокрасочные материалы (ЛКМ)

Sheet ОС, ПС, загазованность
A1: охранная сигнализация (ОС), пожарная сигнализация (ПС), загазованность
A2: № п/п | B2: Наименование изделия | C2: ГОСТ, ТУ и др. | D2: Применяемость | E2: Контролируемые параметры | H2: Оборудование | I2: Разрешительная и сопроводительная документация
A3: 1 | B3: Огнетушители | C3: ТУ 4854-164-21352393-98 | D3: Все изделия | E3: Внешний вид (отсутствие механических повреждений), комплектность | H3: Визуальный осмотр | I3: 1. Сертификат или декларация пожарной безопасности. 2. ПС и/или РЭ (ОТ, ИЭ)
A4: 2 | B4: Извещатели пожарные оптические, дымовые, тепловые, ручные | C4: По факту | D4: Все изделия | E4: *ТТ на извещатели пожарные (ИП) не взрывозащищенные. *ТТ на извещатели пожарные (ИП) взрывозащищенные. Внешний вид (отсутствие механических повреждений), комплектность | H4: Визуальный осмотр | I4: 1.Сертификат соответствия ТР ТС 012/2011 (только на взрывозащищенные); 2. ПС и/или РЭ (ОТ, ИЭ). 3. Сертификат или декларация пожарной безопасности
A5: 3 | B5: Комплекты модулей пожаротушения | C5: По факту | D5: Все изделия | E5: Внешний вид (отсутствие механических повреждений), комплектность | H5: Визуальный осмотр | I5: 1. Сертификат или декларация пожарной безопасности. 2.Сертификат соответствия ТР ТС 012/2011 (только на взрывозащищенные); 3. ПС и/или РЭ (ОТ, ИЭ) 4. Сертификат или декларация пожарной безопасности
A6: 4 | B6: Пульты пожарные, охранные и пожарно-охранные | C6: По факту | D6: Все изделия (блоки ап-паратурные) | E6: Внешний вид (отсутствие механических повреждений), комплектность. Сверить серийные номера на приборе и в сопроводитель-ных документах | H6: Визуальный осмотр | I6: 1.Декларация ТР ТС 020/2011; 2.ПС и/или РЭ (ОТ, ИЭ) 3. Сертификат или декларация пожарной безопасности
A7: 5 | B7: Пульты | C7: По факту | D7: Все изделия (блоки ап-паратурные) | E7: Внешний вид (отсутствие механических повреждений), комплектность | H7: Визуальный осмотр | I7: 1.Декларация ТР ТС 020/2011; 2.ПС и/или РЭ (ОТ, ИЭ) 3. Сертификат или декларация пожарной безопасности
A8: 6 | B8: Блоки, устройства сигнально-пусковые | C8: По факту | D8: Все изделия (блоки ап-паратурные) | E8: Внешний вид (отсутствие механических повреждений), комплектность | H8: Визуальный осмотр | I8: 1.Декларация ТР ТС 020/2011; 2.ПС и/или РЭ (ОТ, ИЭ) 3. Сертификат или декларация пожарной безопасности
A9: 7 | B9: Блоки питания, резервные источники питания. Аккумуляторы | C9: По факту | D9: Все изделия (блоки ап-паратурные) | E9: *ТТ на источники бесперебойного питания. Внешний вид (отсутствие механических повреждений), комплектность (проверить наличие аккумуляторных батарей и соответствие их емкости заявленным в паспорте) | H9: Визуальный осмотр | I9: 1.Сертификат соответствия ТР ТС 004/2011, Декларация ТР ТС 020/2011; 2.ПС и/или РЭ (ОТ, ИЭ) 3. Сертификат или декларация пожарной безопасности
A10: 8 | B10: Датчики доступа магнитоконтактные, объемные, извещатели охранные | C10: По факту | D10: Все изделия | E10: Внешний вид (отсутствие механических повреждений), комплектность | H10: Визуальный осмотр | I10: 1.Сертификат соответствия ТР ТС 004/2011, Декларация ТР ТС 020/2011; 2.Сертификат соответствия ТР ТС 012/2011 (только на взрывозащищенные); 3.ПС и/или РЭ (ОТ, ИЭ)
A11: 9 | B11: Газоанализаторы на метан, сероводород | C11: По факту | D11: Все изделия | E11: *ТТ на газоанализаторы. Внешний вид (отсутствие механических повреждений), комплектность. Сверить серийные номера на приборе и в сопроводитель-ных документах | H11: Визуальный осмотр | I11: 1.Сертификат соответствия ТР ТС 012/2011, 2.Сертификат соответствия ТР ТС 004/2011, Декларация ТР ТС 020/2011; 3. ПС и/или РЭ (ОТ, ИЭ); 4. Сертификат об утверждении типа средств измерений с описанием типа; 5. Методика поверки
A12: 10 | B12: Блок местной сигнализации | C12: По факту | D12: Все изделия | E12: Внешний вид (отсутствие механических повреждений), комплектность | H12: Визуальный осмотр | I12: 1.Сертификат соответствия ТР ТС 004/2011, Декларация ТР ТС 020/2011; 2. ПС и/или РЭ (ОТ, ИЭ)
A13: 11 | B13: Трансмиттер газосигнализатора | C13: По факту | D13: Все изделия (блоки ап-паратурные) | E13: Внешний вид (отсутствие механических повреждений), комплектность | H13: Визуальный осмотр | I13: 1.Сертификат соответствия ТР ТС 004/2011, Декларация ТР ТС 020/2011; 2. ПС и/или РЭ (ОТ, ИЭ)
A14: 12 | B14: Световые, звуковые, светозвуковые оповещатели | C14: По факту | D14: Все изделия | E14: Внешний вид (отсутствие механических повреждений, проверка целостности стеклянных/пластиковых плафонов), комплектность | H14: Визуальный осмотр | I14: 1.Сертификат соответствия ТР ТС 004/2011, Декларация ТР ТС 020/2011; 2. ПС и/или РЭ (ОТ, ИЭ)
B16: =ЗРА!B20 -> 0

Sheet Кабель, КНС и комплектующие
A1: Кабель, кабеленесущие системы (КНС) и комплектующие
A2: № п/п | B2: Наименование изделия | C2: ГОСТ, ТУ и др. | D2: Применяемость | E2: Контролируемые параметры | F2: Оборудование | G2: Разрешительная и сопроводительная документация
A3: 1 | B3: Кабельная и проводная продукция (силовой, контрольный) | C3: По факту | D3: Все изделия | E3: *ТТ на кабельную продукцию. Внешний осмотр, проверка отсутствия повреждений изоляции, документ о качестве или протокол испытаний. Измерение сечения жил. Сверка обозначения кабеля, изготовителя, даты изготовления в сертификате качества и на кабельной продук-ции | F3: Визуальный осмотр, Штанген-циркуль ГОСТ 166-89 | G3: 1. Сертификат соответствия ТР ТС 004/2011 2.Сертификат пожарной безопасности; 3.Сертификат (паспорт качества)
A4: 2 | B4: Кабеленесущая система DКC (лотки, крышки, профили и др.элементы) | C4: По факту | D4: Все изделия | E4: *ТТ на кабеленесущие системы. Внешний осмотр (отсутствие механических повреждений), при длине элемента более 1 метра проверка на прямолинейность | F4: Визуальный осмотр, Рулетка ГОСТ 7502-98, плита ГОСТ 10905-86, щупы КТ 2 | G4: 1. Сертификат соответствия ТР ТС 004/2011 2. Сертификат пожарной безопасности
A5: 3 | B5: Хомуты, стяжки кабельные все виды | C5: По факту | D5: Все изделия | E5: Внешний осмотр | F5: Визуальный осмотр | G5: Сертификат пожарной безопасности
A6: 4 | B6: Кабельные ввода, заглушки, муфты переходные, муфты для металлорукава, адаптеры (всех типоразмеров) | C6: По факту | D6: Все изделия | E6: Внешний осмотр (отсутствие механических по-вреждений), комплектность | F6: Визуальный осмотр | G6: 1. Сертификат соот-ветствия ТР ТС 004/2011 2.Сертификат соответствия ТР ТС 012/2011
A7: 5 | B7: Кольца заземления (всех типоразмеров) | C7: По факту | D7: Все изделия | E7: Внешний осмотр (отсутствие механических по-вреждений), особые требования наличие наличие отверстия под крепление болта М6. Длина не менее 50 мм, чтоб не задевало крепление на шпильке фланца | F7: Визуальный осмотр, Штанген-циркуль по ГОСТ 166-89 | G7: 1.Сертификат качества; 2. Паспорт или этикетка
A8: 6 | B8: Коробки клеммные взрывозащищенные | C8: По факту | D8: Все изделия | E8: *ТТ на клеммные коробки. Внешний осмотр (отсутствие механических повреждений), комплектность (проверить наличие всех кабельных вводов или заглушек на всех вводах) | F8: Визуальный осмотр | G8: 1. Сертификат соот-ветствия ТР ТС 004/2011, Деклара-ция ТР ТС 020/2011; 2.Сертификат соответствия ТР ТС 012/2011; 3. ПС и/или РЭ (ОТ, ИЭ)
A9: 7 | B9: Коробки клеммные пластиковые | C9: По факту | D9: Все изделия (блоки ап-паратурные) | E9: Внешний осмотр (отсутствие механических повреждений), комплектность (проверить наличие заглушек на всех вводах) | F9: Визуальный осмотр | G9: 1. ПС и/или РЭ (ОТ, ИЭ) на рус. яз.
A10: 8 | B10: Наконечники, наконечники-гильзы | C10: По факту | D10: Все изделия, щитовое оборудова-ние | E10: Внешний осмотр (отсутствие грубых механических повреждений) | F10: Визуальный осмотр | G10: 1. Этикетка
A11: 9 | B11: Трубки термоусадочные | C11: По факту | D11: Все изделия | E11: *ТТ на материалы разные. Внешний осмотр (отсутствие порезов) | F11: Визуальный осмотр | G11: 1.Сертификат качества; 2. Паспорт или этикетка
A12: 10 | B12: Металлорукава, трубки ПВХ | C12: По факту | D12: Все изделия | E12: *ТТ на материалы разные. Внешний осмотр (отсутствие вмятин, перегибов) | F12: Визуальный осмотр | G12: 1.Сертификат качества; 2. Паспорт или этикетка
A13: 11 | B13: Муфта ВП-00-00. Втулка муфтовая ВП-00-02-03 | C13: Размеры по КД | D13: Все изделия | E13: Внешний осмотр (отсутствие механических повреждений, трещин), комплектность. Допускается неоднородность цвета. | F13: Визуальный осмотр. Штанген-циркуль ГОСТ 166-89 | G13: Этикетка на партию
A14: 12 | B14: Кабельные проходки | C14: По факту | D14: Все изделия | E14: Внешний осмотр (отсутствие механических по-вреждений), комплектность | F14: Визуальный осмотр | G14: Этикетка
A15: 13 | B15: Провода | C15: ГОСТ 6323-79 | D15: Щитовое оборудование | E15: Внешний осмотр, проверка отсутствия повреждений изоляции, документ о качестве или протокола испытаний. Измерение сечения жил и сверка с обозначением. В сечение в соответствии ГОСТу | F15: Визуальный осмотр, Штанген-циркуль ГОСТ 166-89 | G15: 1.Сертификат соответствия ТР ТС; Этикетка на партию
B17: ='Обогрев, освещение'!B15 -> Лакокрасочные материалы (ЛКМ)

Sheet Электротехнические комплектующ.
A1: Электротехнические комплектующие
A2: № п/п | B2: Наименование изделия | C2: ГОСТ, ТУ и др. | D2: Применяемость | E2: Контролируемые параметры | F2: Оборудование | G2: Разрешительная и сопроводительная документация
A3: 1 | B3: Посты управления взрывозащищенные | C3: По факту | D3: Все изделия | E3: Внешний осмотр (отсутствие механических повреждений), комплектность. Проверка фиксации кнопок (клавиш) в каждом положении. | F3: Визуальный осмотр | G3: 1.Сертификат соответствия ТР ТС; 2. ПС и/или РЭ (ОТ, ИЭ)
A4: 2 | B4: Розетки настенные, открытой установки | C4: По факту | D4: Все изделия (блоки ап-паратурные) | E4: Внешний осмотр (отсутствие механических повреждений), комплектность | F4: Визуальный осмотр | G4: 1.Сертификат соответствия ТР ТС; 2. ПС и/или РЭ (ОТ, ИЭ)
A5: 3 | B5: Выключатели настенные открытой установки | C5: По факту | D5: Все изделия (блоки ап-паратурные) | E5: Внешний осмотр (отсутствие механических повреждений), комплектность | F5: Визуальный осмотр | G5: 1.Сертификат соответствия ТР ТС; 2. ПС и/или РЭ (ОТ, ИЭ)
A6: 4 | B6: Источники бесперебойного питания | C6: По факту | D6: Все изделия (блоки ап-паратурные) | E6: *ТТ на источники бесперебойного питания. Внешний осмотр (отсутствие механических повреждений), комплектность. | F6: Визуальный осмотр | G6: 1.Сертификат соответствия ТР ТС; 2. ПС и/или РЭ (ОТ, ИЭ).
B8: ='ОС, ПС, загазованность'!B16 -> 0

Sheet ЩО, корпуса и комплектующие
A1: Щитовое оборудование (ЩО), корпуса и комплектующие
A2: № п/п | B2: Наименование изделия | C2: ГОСТ, ТУ и др. | D2: Применяемость | E2: Контролируемые параметры | F2: Оборудование | G2: Разрешительная и сопроводительная документация
A3: 1 | B3: Контроллер кустовой ТМ | C3: По факту | D3: Все изделия | E3: Внешний вид (отсутствие механических повреждений), комплектность. Соответствие информации на шильде паспортным данным (наименование, серийный номер, входные и/или выходные параметры). Соответствие габаритных размеров данным паспорта (руководства по эксплуатации). Наличие крепежных элементов в количестве, указанном в паспорте или РЭ. Наличие принципиальной электрической схемы шкафа со спецификацией (в составе паспорта или РЭ или отдельным документом). Качество приложенной документации должно быть достаточным для уверенного восприятия всей содержащейся графической и текстовой информации. | F3: Визуальный осмотр, Рулетка ГОСТ 7502-98 | G3: 1. Сертификат соответствия ТР ТС 004/2011, 2. сертификат соответствия/декларация ТР ТС 020/2011; 2. ПС и РЭ на рус. яз. 3. Сертификат об утверждении типа средств измерений (действующий на дату изготовления средства измерений) с приложением - Описание типа средства измерений. 4. Методика поверки. 5. Сведения об утвержденном типе средства измерений, включенные в ФИФ ОЕИ 6. Сведения о результатах поверки средства измерений, включенные в ФИФ ОЕИ
A4: 2 | B4: Шкаф общестанционного контроллера
A5: 3 | B5: Станция телемеханики
A6: 4 | B6: Станция АГЗУ
A7: 5 | B7: Блок электроники
A8: 6 | B8: Контроллер
A9: 7 | B9: Щит электропитания | G9: 1. Сертификат соответствия ТР ТС 004/2011, 2. сертификат соответствия/декларация ТР ТС 020/2011;
A10: 8 | B10: Шкаф силовой
A11: 9 | B11: Шкафы ЯБПВУ
A12: 10 | B12: Шкаф серии AE | C12: По факту | D12: Щитовое оборудование | E12: Внешний осмотр (визуальный контроль сварных швов, отсутствие механических повреждений, отсутствие сколов краски), комплектность (ключ, навесные элементы) | F12: Визуальный осмотр | G12: 1. Сертификат соответствия ТР ТС 004/2011, 2. сертификат соответствия/декларация ТР ТС 020/2011;
A13: 11 | B13: Компактный системный шкаф СМ | C13: По факту | D13: Щитовое оборудование | E13: Внешний осмотр (визуальный контроль сварных швов, отсутствие механических повреждений, отсутствие сколов краски), комплектность (ключ, навесные элементы) | F13: Визуальный осмотр | G13: 1. Сертификат соответствия ТР ТС 004/2011, 2. сертификат соответствия/декларация ТР ТС 020/2011;
A14: 12 | B14: Шкаф навесной серии SM | C14: По факту | D14: Щитовое оборудование | E14: Внешний осмотр (визуальный контроль сварных швов, отсутствие механических повреждений, отсутствие сколов краски), комплектность (ключ, навесные элементы) | F14: Визуальный осмотр | G14: 1. Сертификат соответствия ТР ТС 004/2011, 2. сертификат соответствия/декларация ТР ТС 020/2011;
A15: 13 | B15: Шкаф серии СЕ | C15: По факту | D15: Щитовое оборудование | E15: Внешний осмотр (отсутствие механических повреждений, отсутствие сколов краски), комплектность (ключ, навесные элементы) | F15: Визуальный осмотр | G15: 1. Сертификат соответствия ТР ТС 004/2011, 2. сертификат соответствия/декларация ТР ТС 020/2011;
A16: 14 | B16: Шкаф серии DAE | C16: По факту | D16: Щитовое оборудование | E16: Внешний осмотр (отсутствие механических повреждений, отсутствие сколов краски), комплектность (ключ, навесные элементы) | F16: Визуальный осмотр | G16: 1. Сертификат соответствия ТР ТС 004/2011, 2. сертификат соответствия/декларация ТР ТС 020/2011;
A17: 15 | B17: Коробка взрывозащищенные серий РВ | C17: По факту | D17: Щитовое оборудование | E17: Внешний осмотр (отсутствие механических повреждений, трещин при наличии стекол), комплектность. Проверка наличия всех винтов на крышке и отсутствие повреждений провода и взрывозащищённой оптической мыши | F17: Визуальный осмотр | G17: 1. Сертификат соответствия ТР ТС 012/2011 2. ПС и/или РЭ (ОТ, ИЭ) на рус. яз.
A18: 16 | B18: Коробка взрывозащищенные серий ССА | C18: По факту | D18: Щитовое оборудование | E18: Внешний осмотр (отсутствие механических повреждений, трещин при наличии стекол), комплектность. Проверка наличия всех винтов на крышке и расположение кнопок на корпусе (красная сверху черная снизу) | F18: Визуальный осмотр | G18: 1. Сертификат соответствия ТР ТС 012/2011 2. ПС и/или РЭ (ОТ, ИЭ) на рус. яз.
A19: 17 | B19: Коробка взрывозащищенные серий МВУ | C19: По факту | D19: Щитовое оборудование | E19: Внешний осмотр (отсутствие механических повреждений, трещин при наличии стекол), комплектность. Проверка наличия всех винтов на крышке и отсутствие повреждений провода и взрывозащищённой оптической мыши | F19: Визуальный осмотр | G19: 1. Сертификат соответствия ТР ТС 012/2011 2. ПС и/или РЭ (ОТ, ИЭ) на рус. яз.
A20: 18 | B20: Корпус серии DP | C20: По факту | D20: Щитовое оборудование | E20: Внешний осмотр (отсутствие механических повреждений), комплектность. | F20: Визуальный осмотр | G20: Этикетка на партию
